BEGIN:VCALENDAR
VERSION:2.0
PRODID:-//Calendario Acad&eacute;mico - ECPv6.15.13.1//NONSGML v1.0//EN
CALSCALE:GREGORIAN
METHOD:PUBLISH
X-ORIGINAL-URL:https://calendarioacademico.libertadores.edu.co
X-WR-CALDESC:Eventos para Calendario Acad&eacute;mico
REFRESH-INTERVAL;VALUE=DURATION:PT1H
X-Robots-Tag:noindex
X-PUBLISHED-TTL:PT1H
BEGIN:VTIMEZONE
TZID:America/New_York
BEGIN:DAYLIGHT
TZOFFSETFROM:-0500
TZOFFSETTO:-0400
TZNAME:EDT
DTSTART:20230312T070000
END:DAYLIGHT
BEGIN:STANDARD
TZOFFSETFROM:-0400
TZOFFSETTO:-0500
TZNAME:EST
DTSTART:20231105T060000
END:STANDARD
BEGIN:DAYLIGHT
TZOFFSETFROM:-0500
TZOFFSETTO:-0400
TZNAME:EDT
DTSTART:20240310T070000
END:DAYLIGHT
BEGIN:STANDARD
TZOFFSETFROM:-0400
TZOFFSETTO:-0500
TZNAME:EST
DTSTART:20241103T060000
END:STANDARD
BEGIN:DAYLIGHT
TZOFFSETFROM:-0500
TZOFFSETTO:-0400
TZNAME:EDT
DTSTART:20250309T070000
END:DAYLIGHT
BEGIN:STANDARD
TZOFFSETFROM:-0400
TZOFFSETTO:-0500
TZNAME:EST
DTSTART:20251102T060000
END:STANDARD
END:VTIMEZONE
BEGIN:VEVENT
DTSTART;VALUE=DATE:20240704
DTEND;VALUE=DATE:20240713
DTSTAMP:20260418T210138
CREATED:20231116T163645Z
LAST-MODIFIED:20231116T171034Z
UID:7815-1720051200-1720828799@calendarioacademico.libertadores.edu.co
SUMMARY:Pronto pago Fac. Psicología y Ciencias Económicas\, Administrativas y Contables-S2Pr
DESCRIPTION: Descarga tu recibo aquí \nConoce como hacerlo en el tutorial de pagos 
URL:https://calendarioacademico.libertadores.edu.co/event/pago-pronto-pago-facultades-de-psicologia-y-ciencias-economicas-administrativas-y-contables-s2pr-2/
CATEGORIES:Matricula estudiantes antiguos II
END:VEVENT
BEGIN:VEVENT
DTSTART;VALUE=DATE:20240703
DTEND;VALUE=DATE:20240723
DTSTAMP:20260418T210138
CREATED:20231215T221809Z
LAST-MODIFIED:20231215T221809Z
UID:8224-1719964800-1721692799@calendarioacademico.libertadores.edu.co
SUMMARY:Revisión de historias académicas coterminales trimestrales II - Corte 1
DESCRIPTION:
URL:https://calendarioacademico.libertadores.edu.co/event/revision-de-historias-academicas-coterminales-trimestrales-2-corte-1-2/
CATEGORIES:Coterminales Trimestrales II
END:VEVENT
BEGIN:VEVENT
DTSTART;VALUE=DATE:20240703
DTEND;VALUE=DATE:20240723
DTSTAMP:20260418T210138
CREATED:20231215T221252Z
LAST-MODIFIED:20231215T221252Z
UID:8216-1719964800-1721692799@calendarioacademico.libertadores.edu.co
SUMMARY:Inscripción coterminales trimestrales II - corte 1
DESCRIPTION:Conoce mas información aquí.
URL:https://calendarioacademico.libertadores.edu.co/event/inscripcion-coterminales-trimestrales-ii-2/
CATEGORIES:Coterminales Trimestrales II
END:VEVENT
BEGIN:VEVENT
DTSTART;VALUE=DATE:20240703
DTEND;VALUE=DATE:20240706
DTSTAMP:20260418T210138
CREATED:20231120T202527Z
LAST-MODIFIED:20231120T202527Z
UID:8049-1719964800-1720223999@calendarioacademico.libertadores.edu.co
SUMMARY:Inscripción práctica - Fac.  Ciencias Humanas y Sociales y Fac. de Ingeniería y Ciencias Básicas-S2Pr
DESCRIPTION:
URL:https://calendarioacademico.libertadores.edu.co/event/inscripcion-practica-fac-ciencias-humanas-y-sociales-y-fac-de-ingenieria-y-ciencias-basicas-s2pr-2/
CATEGORIES:Prácticas II
END:VEVENT
BEGIN:VEVENT
DTSTART;VALUE=DATE:20240703
DTEND;VALUE=DATE:20240706
DTSTAMP:20260418T210138
CREATED:20231116T144736Z
LAST-MODIFIED:20231116T144736Z
UID:7786-1719964800-1720223999@calendarioacademico.libertadores.edu.co
SUMMARY:Selección de horarios Facultades de: Ingeniería y Ciencias Básicas\, Ciencias Humanas y Sociales-S2Pr
DESCRIPTION:Inscribe tus espacios académicos aquí \nConoce como hacerlo en el tutorial de inscripción de espacios aquí 
URL:https://calendarioacademico.libertadores.edu.co/event/seleccion-de-horarios-facultades-de-ingenieria-y-ciencias-basicas-ciencias-humanas-y-sociales-s2pr-2/
CATEGORIES:Matricula estudiantes antiguos II
END:VEVENT
BEGIN:VEVENT
DTSTART;VALUE=DATE:20240702
DTEND;VALUE=DATE:20240803
DTSTAMP:20260418T210138
CREATED:20231120T193104Z
LAST-MODIFIED:20231120T193104Z
UID:8016-1719878400-1722643199@calendarioacademico.libertadores.edu.co
SUMMARY:Inicio y terminación de Seminarios de Grado intersemestral -S1Pr
DESCRIPTION:
URL:https://calendarioacademico.libertadores.edu.co/event/inicio-y-terminacion-de-seminarios-de-grado-intersemestral-s1pr-2/
CATEGORIES:Seminarios de Grado Periodo Intersemestral I
END:VEVENT
BEGIN:VEVENT
DTSTART;VALUE=DATE:20240629
DTEND;VALUE=DATE:20240630
DTSTAMP:20260418T210138
CREATED:20231116T171939Z
LAST-MODIFIED:20231116T172555Z
UID:7826-1719619200-1719705599@calendarioacademico.libertadores.edu.co
SUMMARY:Publicación de recibos Fac. Ciencias de la Comunicación\, Derecho y Ciencias Políticas-S2Pr
DESCRIPTION:Descarga tu recibo aquí \nConoce como hacerlo en el tutorial de pagos 
URL:https://calendarioacademico.libertadores.edu.co/event/publicacion-recibos-facultades-de-ciencias-de-la-comunicacion-derecho-y-ciencias-politicas-s2pr-2/
CATEGORIES:Matricula estudiantes antiguos II
END:VEVENT
BEGIN:VEVENT
DTSTART;VALUE=DATE:20240629
DTEND;VALUE=DATE:20240710
DTSTAMP:20260418T210138
CREATED:20231116T164139Z
LAST-MODIFIED:20231116T164220Z
UID:7812-1719619200-1720569599@calendarioacademico.libertadores.edu.co
SUMMARY:Pronto pago Fac. Ciencias de la Comunicación\, Derecho y Ciencias Políticas-S2Pr
DESCRIPTION:  Descarga tu recibo aquí \nConoce como hacerlo en el tutorial de pagos 
URL:https://calendarioacademico.libertadores.edu.co/event/pago-pronto-pago-facultades-de-ciencias-de-la-comunicacion-derecho-y-ciencias-politicas-s2pr-2/
LOCATION:Fundación Universitaria Los Libertadores\, Carrera 16 # 63 A - 68\, Bogotá D.C.\, 110011\, Colombia
CATEGORIES:Matricula estudiantes antiguos II
END:VEVENT
BEGIN:VEVENT
DTSTART;TZID=America/New_York:20240628T000000
DTEND;TZID=America/New_York:20240702T000000
DTSTAMP:20260418T210138
CREATED:20231120T201740Z
LAST-MODIFIED:20231120T202221Z
UID:8051-1719532800-1719878400@calendarioacademico.libertadores.edu.co
SUMMARY:Inscripción práctica - Fac.  Psicología\, Ciencias Económicas\, Administrativas y Contables-S2Pr
DESCRIPTION:
URL:https://calendarioacademico.libertadores.edu.co/event/inscripcion-practica-fac-ciencias-economicas-administrativas-y-contables-s2pr-2/
CATEGORIES:Prácticas II
END:VEVENT
BEGIN:VEVENT
DTSTART;VALUE=DATE:20240628
DTEND;VALUE=DATE:20240704
DTSTAMP:20260418T210138
CREATED:20231120T151217Z
LAST-MODIFIED:20231120T151217Z
UID:7952-1719532800-1720051199@calendarioacademico.libertadores.edu.co
SUMMARY:Pago cursos intersemestrales - S1Pr
DESCRIPTION:Descarga tu recibo aquí . \nConoce como hacerlo en el tutorial de pagos.
URL:https://calendarioacademico.libertadores.edu.co/event/pago-cursos-intersemestrales-s1pr-2/
CATEGORIES:Cursos Intersemestrales I
END:VEVENT
BEGIN:VEVENT
DTSTART;VALUE=DATE:20240628
DTEND;VALUE=DATE:20240629
DTSTAMP:20260418T210138
CREATED:20231120T150555Z
LAST-MODIFIED:20231120T150555Z
UID:7948-1719532800-1719619199@calendarioacademico.libertadores.edu.co
SUMMARY:Publicación de recibos de cursos intersemestrales en el portal WEB institucional-S1Pr
DESCRIPTION:
URL:https://calendarioacademico.libertadores.edu.co/event/publicacion-de-recibos-de-cursos-intersemestrales-en-el-portal-web-institucional-2/
CATEGORIES:Cursos Intersemestrales I
END:VEVENT
BEGIN:VEVENT
DTSTART;VALUE=DATE:20240628
DTEND;VALUE=DATE:20240703
DTSTAMP:20260418T210138
CREATED:20231116T144552Z
LAST-MODIFIED:20231116T144552Z
UID:7787-1719532800-1719964799@calendarioacademico.libertadores.edu.co
SUMMARY:Selección de horarios Facultades de Psicología y Ciencias Económicas\, Administrativas y Contables-S2Pr
DESCRIPTION:Inscribe tus espacios académicos aquí \nConoce como hacerlo en el tutorial de inscripción de espacios aquí  \n 
URL:https://calendarioacademico.libertadores.edu.co/event/seleccion-de-horarios-facultades-de-psicologia-y-ciencias-economicas-administrativas-y-contables-s2pr-2/
LOCATION:Fundación Universitaria Los Libertadores\, Carrera 16 # 63 A - 68\, Bogotá D.C.\, 110011\, Colombia
CATEGORIES:Matricula estudiantes antiguos II
END:VEVENT
BEGIN:VEVENT
DTSTART;VALUE=DATE:20240625
DTEND;VALUE=DATE:20240723
DTSTAMP:20260418T210138
CREATED:20231120T224011Z
LAST-MODIFIED:20231120T224011Z
UID:8197-1719273600-1721692799@calendarioacademico.libertadores.edu.co
SUMMARY:Publicación de órdenes de pago coterminales semestrales II
DESCRIPTION:Descarga tu recibo aquí . \nConoce como hacerlo en el tutorial de pagos. \n 
URL:https://calendarioacademico.libertadores.edu.co/event/publicacion-de-ordenes-de-pago-coterminales-semestrales-ii-2/
CATEGORIES:Coterminales Semestrales II
END:VEVENT
BEGIN:VEVENT
DTSTART;VALUE=DATE:20240625
DTEND;VALUE=DATE:20240628
DTSTAMP:20260418T210138
CREATED:20231120T202104Z
LAST-MODIFIED:20231120T202104Z
UID:8046-1719273600-1719532799@calendarioacademico.libertadores.edu.co
SUMMARY:Inscripción práctica - Fac. Ciencias de la Comunicación y Fac. Derecho\, Ciencias Políticas y Relaciones Internacionales-S2Pr
DESCRIPTION:
URL:https://calendarioacademico.libertadores.edu.co/event/inscripcion-practica-fac-ciencias-de-la-comunicacion-y-fac-derecho-ciencias-politicas-y-relaciones-internacionales-s2pr-2/
CATEGORIES:Prácticas II
END:VEVENT
BEGIN:VEVENT
DTSTART;VALUE=DATE:20240625
DTEND;VALUE=DATE:20240628
DTSTAMP:20260418T210138
CREATED:20231116T144234Z
LAST-MODIFIED:20231116T144234Z
UID:7789-1719273600-1719532799@calendarioacademico.libertadores.edu.co
SUMMARY:Selección de horarios Facultades de: Ciencias de la Comunicación\, Derecho y Ciencias Políticas-S2Pr
DESCRIPTION:Inscribe tus espacios académicos aquí \nConoce como hacerlo en el tutorial de inscripción de espacios aquí 
URL:https://calendarioacademico.libertadores.edu.co/event/seleccion-de-horarios-facultades-de-ciencias-de-la-comunicacion-derecho-y-ciencias-politicas-s2pr-2/
LOCATION:Fundación Universitaria Los Libertadores\, Carrera 16 # 63 A - 68\, Bogotá D.C.\, 110011\, Colombia
CATEGORIES:Matricula estudiantes antiguos II
END:VEVENT
BEGIN:VEVENT
DTSTART;VALUE=DATE:20240624
DTEND;VALUE=DATE:20240627
DTSTAMP:20260418T210138
CREATED:20231120T204704Z
LAST-MODIFIED:20231120T204704Z
UID:8074-1719187200-1719446399@calendarioacademico.libertadores.edu.co
SUMMARY:Inscripción y matricula práctica intersemestral - S1Pr
DESCRIPTION:
URL:https://calendarioacademico.libertadores.edu.co/event/inscripcion-y-matricula-practica-intersemestral-s1pr-2/
CATEGORIES:Prácticas I
END:VEVENT
BEGIN:VEVENT
DTSTART;VALUE=DATE:20240624
DTEND;VALUE=DATE:20240705
DTSTAMP:20260418T210138
CREATED:20231120T175549Z
LAST-MODIFIED:20231120T175549Z
UID:8011-1719187200-1720137599@calendarioacademico.libertadores.edu.co
SUMMARY:Pago de seminario de grado intersemestral S1Pr
DESCRIPTION:Descarga tu recibo aquí
URL:https://calendarioacademico.libertadores.edu.co/event/pago-de-seminario-de-grado-intersemestral-1-2/
CATEGORIES:Seminarios de Grado Periodo Intersemestral I
END:VEVENT
BEGIN:VEVENT
DTSTART;VALUE=DATE:20240624
DTEND;VALUE=DATE:20240813
DTSTAMP:20260418T210138
CREATED:20231120T174234Z
LAST-MODIFIED:20231120T174234Z
UID:8004-1719187200-1723507199@calendarioacademico.libertadores.edu.co
SUMMARY:Pago de seminario de grado regular-S2Pr
DESCRIPTION:
URL:https://calendarioacademico.libertadores.edu.co/event/pago-de-seminario-de-grado-regular-s2pr-2/
CATEGORIES:Seminarios de Grado periodo regular II
END:VEVENT
BEGIN:VEVENT
DTSTART;VALUE=DATE:20240624
DTEND;VALUE=DATE:20240703
DTSTAMP:20260418T210138
CREATED:20231120T173539Z
LAST-MODIFIED:20231120T173539Z
UID:7993-1719187200-1719964799@calendarioacademico.libertadores.edu.co
SUMMARY:Inscripción y publicación de orden de pago seminario de grado intersemestral S1Pr
DESCRIPTION:Descarga tu recibo aquí 
URL:https://calendarioacademico.libertadores.edu.co/event/inscripcion-y-publicacion-de-orden-de-pago-seminario-de-grado-intersemestral-2/
CATEGORIES:Seminarios de Grado Periodo Intersemestral I
END:VEVENT
BEGIN:VEVENT
DTSTART;VALUE=DATE:20240624
DTEND;VALUE=DATE:20240807
DTSTAMP:20260418T210138
CREATED:20231120T173345Z
LAST-MODIFIED:20231120T173345Z
UID:7994-1719187200-1722988799@calendarioacademico.libertadores.edu.co
SUMMARY:Inscripción y publicación de orden de pago seminario de grado regular-S2Pr
DESCRIPTION:
URL:https://calendarioacademico.libertadores.edu.co/event/inscripcion-y-publicacion-de-orden-de-pago-seminario-de-grado-regular-s2pr-2/
CATEGORIES:Seminarios de Grado periodo regular II
END:VEVENT
BEGIN:VEVENT
DTSTART;VALUE=DATE:20240624
DTEND;VALUE=DATE:20240627
DTSTAMP:20260418T210138
CREATED:20231120T145937Z
LAST-MODIFIED:20231120T145937Z
UID:7944-1719187200-1719446399@calendarioacademico.libertadores.edu.co
SUMMARY:Inscripciones a cursos intersemestrales – S1Pr
DESCRIPTION:
URL:https://calendarioacademico.libertadores.edu.co/event/inscripciones-a-cursos-intersemestrales-s1pr-2/
CATEGORIES:Cursos Intersemestrales I
END:VEVENT
BEGIN:VEVENT
DTSTART;VALUE=DATE:20240624
DTEND;VALUE=DATE:20240626
DTSTAMP:20260418T210138
CREATED:20231117T161311Z
LAST-MODIFIED:20231117T161311Z
UID:7933-1719187200-1719359999@calendarioacademico.libertadores.edu.co
SUMMARY:Novedades de notas definitivas - S1Pr
DESCRIPTION:
URL:https://calendarioacademico.libertadores.edu.co/event/novedades-de-notas-definitivas-s1pr-2/
CATEGORIES:Periodo Académico I
END:VEVENT
BEGIN:VEVENT
DTSTART;VALUE=DATE:20240622
DTEND;VALUE=DATE:20240623
DTSTAMP:20260418T210138
CREATED:20231120T143026Z
LAST-MODIFIED:20231120T143026Z
UID:7937-1719014400-1719100799@calendarioacademico.libertadores.edu.co
SUMMARY:Publicación de calificaciones - S1Pr
DESCRIPTION:
URL:https://calendarioacademico.libertadores.edu.co/event/publicacion-de-calificaciones-s1pr-2/
CATEGORIES:Periodo Académico I
END:VEVENT
BEGIN:VEVENT
DTSTART;VALUE=DATE:20240621
DTEND;VALUE=DATE:20240622
DTSTAMP:20260418T210138
CREATED:20231117T160234Z
LAST-MODIFIED:20231117T160234Z
UID:7928-1718928000-1719014399@calendarioacademico.libertadores.edu.co
SUMMARY:Cierre de periodo académico - S1Pr
DESCRIPTION:
URL:https://calendarioacademico.libertadores.edu.co/event/cierre-de-periodo-academico-s1pr-2/
CATEGORIES:Periodo Académico I
END:VEVENT
BEGIN:VEVENT
DTSTART;VALUE=DATE:20240619
DTEND;VALUE=DATE:20240621
DTSTAMP:20260418T210138
CREATED:20231117T145055Z
LAST-MODIFIED:20231117T145214Z
UID:7920-1718755200-1718927999@calendarioacademico.libertadores.edu.co
SUMMARY:Entrega final de novedades-S1Pr
DESCRIPTION:
URL:https://calendarioacademico.libertadores.edu.co/event/entrega-de-novedades-s2pr-2-3/
CATEGORIES:Periodo Académico I
END:VEVENT
BEGIN:VEVENT
DTSTART;VALUE=DATE:20240618
DTEND;VALUE=DATE:20240619
DTSTAMP:20260418T210138
CREATED:20231120T221645Z
LAST-MODIFIED:20231120T221645Z
UID:8172-1718668800-1718755199@calendarioacademico.libertadores.edu.co
SUMMARY:Digitación de calificaciones preparatorios I - corte 3
DESCRIPTION:
URL:https://calendarioacademico.libertadores.edu.co/event/digitacion-de-calificaciones-preparatorios-1-corte-3-2/
CATEGORIES:Preparatorios I
END:VEVENT
BEGIN:VEVENT
DTSTART;VALUE=DATE:20240617
DTEND;VALUE=DATE:20240809
DTSTAMP:20260418T210138
CREATED:20231120T223818Z
LAST-MODIFIED:20231120T223818Z
UID:8193-1718582400-1723161599@calendarioacademico.libertadores.edu.co
SUMMARY:Solicitud de órdenes de pago a Admisiones y Registro coterminales semestrales II
DESCRIPTION:
URL:https://calendarioacademico.libertadores.edu.co/event/solicitud-de-ordenes-de-pago-a-admisiones-y-registro-coterminales-semestrales-ii-2/
CATEGORIES:Coterminales Semestrales II
END:VEVENT
BEGIN:VEVENT
DTSTART;VALUE=DATE:20240617
DTEND;VALUE=DATE:20240622
DTSTAMP:20260418T210138
CREATED:20231120T201353Z
LAST-MODIFIED:20231120T201353Z
UID:8040-1718582400-1719014399@calendarioacademico.libertadores.edu.co
SUMMARY:Espacios Pre-Práctica para prácticas en periodo intersemestral - S1Pr
DESCRIPTION:
URL:https://calendarioacademico.libertadores.edu.co/event/espacios-pre-practica-para-practicas-en-periodo-intersemestral-s1pr-2/
CATEGORIES:Prácticas I
END:VEVENT
BEGIN:VEVENT
DTSTART;VALUE=DATE:20240613
DTEND;VALUE=DATE:20240614
DTSTAMP:20260418T210138
CREATED:20231120T220957Z
LAST-MODIFIED:20231120T220957Z
UID:8159-1718236800-1718323199@calendarioacademico.libertadores.edu.co
SUMMARY:Presentación  preparatorios I - Corte 3
DESCRIPTION:
URL:https://calendarioacademico.libertadores.edu.co/event/presentacion-preparatorios-i-corte-3-2/
CATEGORIES:Preparatorios I
END:VEVENT
BEGIN:VEVENT
DTSTART;VALUE=DATE:20240612
DTEND;VALUE=DATE:20240619
DTSTAMP:20260418T210138
CREATED:20231117T144507Z
LAST-MODIFIED:20231117T144507Z
UID:7916-1718150400-1718755199@calendarioacademico.libertadores.edu.co
SUMMARY:Digitación final de calificaciones-S2Pr
DESCRIPTION:
URL:https://calendarioacademico.libertadores.edu.co/event/digitacion-final-de-calificaciones-s2pr-2/
CATEGORIES:Periodo Académico II
END:VEVENT
END:VCALENDAR