BEGIN:VCALENDAR
VERSION:2.0
PRODID:-//Calendario Acad&eacute;mico - ECPv6.15.13.1//NONSGML v1.0//EN
CALSCALE:GREGORIAN
METHOD:PUBLISH
X-ORIGINAL-URL:https://calendarioacademico.libertadores.edu.co
X-WR-CALDESC:Eventos para Calendario Acad&eacute;mico
REFRESH-INTERVAL;VALUE=DURATION:PT1H
X-Robots-Tag:noindex
X-PUBLISHED-TTL:PT1H
BEGIN:VTIMEZONE
TZID:America/New_York
BEGIN:DAYLIGHT
TZOFFSETFROM:-0500
TZOFFSETTO:-0400
TZNAME:EDT
DTSTART:20230312T070000
END:DAYLIGHT
BEGIN:STANDARD
TZOFFSETFROM:-0400
TZOFFSETTO:-0500
TZNAME:EST
DTSTART:20231105T060000
END:STANDARD
BEGIN:DAYLIGHT
TZOFFSETFROM:-0500
TZOFFSETTO:-0400
TZNAME:EDT
DTSTART:20240310T070000
END:DAYLIGHT
BEGIN:STANDARD
TZOFFSETFROM:-0400
TZOFFSETTO:-0500
TZNAME:EST
DTSTART:20241103T060000
END:STANDARD
BEGIN:DAYLIGHT
TZOFFSETFROM:-0500
TZOFFSETTO:-0400
TZNAME:EDT
DTSTART:20250309T070000
END:DAYLIGHT
BEGIN:STANDARD
TZOFFSETFROM:-0400
TZOFFSETTO:-0500
TZNAME:EST
DTSTART:20251102T060000
END:STANDARD
END:VTIMEZONE
BEGIN:VTIMEZONE
TZID:UTC
BEGIN:STANDARD
TZOFFSETFROM:+0000
TZOFFSETTO:+0000
TZNAME:UTC
DTSTART:20230101T000000
END:STANDARD
END:VTIMEZONE
BEGIN:VEVENT
DTSTART;VALUE=DATE:20240521
DTEND;VALUE=DATE:20240523
DTSTAMP:20260419T210256
CREATED:20231117T142940Z
LAST-MODIFIED:20231117T142940Z
UID:7903-1716249600-1716422399@calendarioacademico.libertadores.edu.co
SUMMARY:Segunda Entrega de novedades - S1Pr
DESCRIPTION:
URL:https://calendarioacademico.libertadores.edu.co/event/segunda-entrega-de-novedades-s1pr-2/
CATEGORIES:Periodo Académico I
END:VEVENT
BEGIN:VEVENT
DTSTART;VALUE=DATE:20240520
DTEND;VALUE=DATE:20240522
DTSTAMP:20260419T210256
CREATED:20231120T213307Z
LAST-MODIFIED:20231120T213307Z
UID:8122-1716163200-1716335999@calendarioacademico.libertadores.edu.co
SUMMARY:Novedades de Inscripción preparatorios I - corte 3
DESCRIPTION:
URL:https://calendarioacademico.libertadores.edu.co/event/novedades-de-inscripcion-preparatorios-1-corte-3-2-2/
CATEGORIES:Preparatorios I
END:VEVENT
BEGIN:VEVENT
DTSTART;VALUE=DATE:20240516
DTEND;VALUE=DATE:20240518
DTSTAMP:20260419T210256
CREATED:20231120T212348Z
LAST-MODIFIED:20231120T212348Z
UID:8109-1715817600-1715990399@calendarioacademico.libertadores.edu.co
SUMMARY:Novedades de Inscripción preparatorios I - corte 3
DESCRIPTION:
URL:https://calendarioacademico.libertadores.edu.co/event/novedades-de-inscripcion-preparatorios-1-corte-3-2/
CATEGORIES:Preparatorios I
END:VEVENT
BEGIN:VEVENT
DTSTART;VALUE=DATE:20240513
DTEND;VALUE=DATE:20240610
DTSTAMP:20260419T210256
CREATED:20231117T143630Z
LAST-MODIFIED:20231117T143630Z
UID:7908-1715558400-1717977599@calendarioacademico.libertadores.edu.co
SUMMARY:Tercera calificación parcial - S1Pr
DESCRIPTION:
URL:https://calendarioacademico.libertadores.edu.co/event/tercera-calificacion-parcial-s1pr-2-2/
CATEGORIES:Periodo Académico I
END:VEVENT
BEGIN:VEVENT
DTSTART;VALUE=DATE:20240509
DTEND;VALUE=DATE:20240510
DTSTAMP:20260419T210256
CREATED:20231120T210536Z
LAST-MODIFIED:20231120T210536Z
UID:8088-1715212800-1715299199@calendarioacademico.libertadores.edu.co
SUMMARY:Apertura y cierre de SAI para designación de grupos - S1Pr corte 3
DESCRIPTION:
URL:https://calendarioacademico.libertadores.edu.co/event/apertura-y-cierre-de-sai-para-designacion-de-grupos-s1pr-4-2/
CATEGORIES:Preparatorios I
END:VEVENT
BEGIN:VEVENT
DTSTART;VALUE=DATE:20240508
DTEND;VALUE=DATE:20240701
DTSTAMP:20260419T210256
CREATED:20231116T220030Z
LAST-MODIFIED:20231116T220030Z
UID:7866-1715126400-1719791999@calendarioacademico.libertadores.edu.co
SUMMARY:Apertura y cierre de SAI para designación de grupos-S2Pr
DESCRIPTION:
URL:https://calendarioacademico.libertadores.edu.co/event/apertura-y-cierre-de-sai-para-designacion-de-grupos-s2pr-2/
CATEGORIES:Periodo Académico II
END:VEVENT
BEGIN:VEVENT
DTSTART;VALUE=DATE:20240506
DTEND;VALUE=DATE:20240521
DTSTAMP:20260419T210256
CREATED:20231117T142718Z
LAST-MODIFIED:20231117T142718Z
UID:7899-1714953600-1716249599@calendarioacademico.libertadores.edu.co
SUMMARY:Segunda Digitación de calificaciones - S1Pr
DESCRIPTION:
URL:https://calendarioacademico.libertadores.edu.co/event/segunda-digitacion-de-calificaciones-s1pr-2/
CATEGORIES:Periodo Académico I
END:VEVENT
BEGIN:VEVENT
DTSTART;VALUE=DATE:20240502
DTEND;VALUE=DATE:20240804
DTSTAMP:20260419T210256
CREATED:20231120T201255Z
LAST-MODIFIED:20231120T201255Z
UID:8039-1714608000-1722729599@calendarioacademico.libertadores.edu.co
SUMMARY:Espacios de pre-práctica-S2Pr
DESCRIPTION:
URL:https://calendarioacademico.libertadores.edu.co/event/espacios-de-pre-practica-s2pr-2/
CATEGORIES:Prácticas II
END:VEVENT
BEGIN:VEVENT
DTSTART;VALUE=DATE:20240423
DTEND;VALUE=DATE:20240424
DTSTAMP:20260419T210256
CREATED:20231120T221603Z
LAST-MODIFIED:20231120T221603Z
UID:8171-1713830400-1713916799@calendarioacademico.libertadores.edu.co
SUMMARY:Digitación de calificaciones preparatorios I - corte 2
DESCRIPTION:
URL:https://calendarioacademico.libertadores.edu.co/event/digitacion-de-calificaciones-preparatorios-1-corte-2-2/
CATEGORIES:Preparatorios I
END:VEVENT
BEGIN:VEVENT
DTSTART;VALUE=DATE:20240418
DTEND;VALUE=DATE:20240419
DTSTAMP:20260419T210256
CREATED:20231120T220921Z
LAST-MODIFIED:20231120T220921Z
UID:8158-1713398400-1713484799@calendarioacademico.libertadores.edu.co
SUMMARY:Presentación  preparatorios I - Corte 2
DESCRIPTION:
URL:https://calendarioacademico.libertadores.edu.co/event/presentacion-preparatorios-1-corte-2-2/
CATEGORIES:Preparatorios I
END:VEVENT
BEGIN:VEVENT
DTSTART;VALUE=DATE:20240416
DTEND;VALUE=DATE:20240430
DTSTAMP:20260419T210256
CREATED:20231219T154853Z
LAST-MODIFIED:20231219T154853Z
UID:8242-1713225600-1714435199@calendarioacademico.libertadores.edu.co
SUMMARY:Publicación de órdenes de pago coterminales trimestrales I - corte 2
DESCRIPTION:Descarga tu recibo aquí. \nConoce como hacerlo en el tutorial de pagos. \n 
URL:https://calendarioacademico.libertadores.edu.co/event/publicacion-de-ordenes-de-pago-coterminales-trimestrales-ii-1-3/
CATEGORIES:Coterminales Trimestrales I
END:VEVENT
BEGIN:VEVENT
DTSTART;VALUE=DATE:20240416
DTEND;VALUE=DATE:20240430
DTSTAMP:20260419T210256
CREATED:20231215T222128Z
LAST-MODIFIED:20231215T222128Z
UID:8231-1713225600-1714435199@calendarioacademico.libertadores.edu.co
SUMMARY:Solicitud de órdenes de pago a Admisiones y Registro coterminales trimestrales I - corte 2
DESCRIPTION:
URL:https://calendarioacademico.libertadores.edu.co/event/solicitud-de-ordenes-de-pago-a-admisiones-y-registro-coterminales-trimestrales-1-corte-2-2/
CATEGORIES:Coterminales Trimestrales I
END:VEVENT
BEGIN:VEVENT
DTSTART;VALUE=DATE:20240416
DTEND;VALUE=DATE:20240430
DTSTAMP:20260419T210256
CREATED:20231215T221731Z
LAST-MODIFIED:20231215T221731Z
UID:8223-1713225600-1714435199@calendarioacademico.libertadores.edu.co
SUMMARY:Revisión de historias académicas coterminales trimestrales I - corte 2
DESCRIPTION:
URL:https://calendarioacademico.libertadores.edu.co/event/revision-de-historias-academicas-coterminales-trimestrales-i-corte-2-2/
CATEGORIES:Coterminales Trimestrales I
END:VEVENT
BEGIN:VEVENT
DTSTART;VALUE=DATE:20240416
DTEND;VALUE=DATE:20240430
DTSTAMP:20260419T210256
CREATED:20231215T221209Z
LAST-MODIFIED:20231215T221209Z
UID:8215-1713225600-1714435199@calendarioacademico.libertadores.edu.co
SUMMARY:Inscripción coterminales trimestrales I - corte 2
DESCRIPTION:Inscripción de horarios Aquí  \nTutorial inscripción de horarios
URL:https://calendarioacademico.libertadores.edu.co/event/inscripcion-coterminales-trimestrales-1-corte-2-2/
CATEGORIES:Coterminales Trimestrales I
END:VEVENT
BEGIN:VEVENT
DTSTART;VALUE=DATE:20240409
DTEND;VALUE=DATE:20240411
DTSTAMP:20260419T210256
CREATED:20231117T140955Z
LAST-MODIFIED:20231117T140955Z
UID:7891-1712620800-1712793599@calendarioacademico.libertadores.edu.co
SUMMARY:Primera Entrega de novedades – S1Pr
DESCRIPTION:
URL:https://calendarioacademico.libertadores.edu.co/event/primera-entrega-de-novedades-s1pr-2/
CATEGORIES:Periodo Académico I
END:VEVENT
BEGIN:VEVENT
DTSTART;VALUE=DATE:20240408
DTEND;VALUE=DATE:20240515
DTSTAMP:20260419T210256
CREATED:20231116T220528Z
LAST-MODIFIED:20231116T220609Z
UID:7872-1712534400-1715731199@calendarioacademico.libertadores.edu.co
SUMMARY:Renovación de descuentos-S2Pr
DESCRIPTION:
URL:https://calendarioacademico.libertadores.edu.co/event/renovacion-de-descuentos-s2pr-2/
CATEGORIES:Matricula estudiantes antiguos II,Periodo Académico II,Pregrado Semestral,segundo semestre
END:VEVENT
BEGIN:VEVENT
DTSTART;VALUE=DATE:20240401
DTEND;VALUE=DATE:20240412
DTSTAMP:20260419T210256
CREATED:20231120T220246Z
LAST-MODIFIED:20231120T220246Z
UID:8146-1711929600-1712879999@calendarioacademico.libertadores.edu.co
SUMMARY:Fecha de pago preparatorios I - corte 2
DESCRIPTION:Descarga tu recibo Aquí \nConoce más en Tutorial de Pagos \n 
URL:https://calendarioacademico.libertadores.edu.co/event/fecha-de-pago-preparatorios-1-corte-2-2/
CATEGORIES:Preparatorios I
END:VEVENT
BEGIN:VEVENT
DTSTART;VALUE=DATE:20240401
DTEND;VALUE=DATE:20240402
DTSTAMP:20260419T210256
CREATED:20231120T215105Z
LAST-MODIFIED:20231120T215105Z
UID:8134-1711929600-1712015999@calendarioacademico.libertadores.edu.co
SUMMARY:Publicación de orden de Pago Preparatorios I – corte 2
DESCRIPTION:Descarga tu recibo de pago aquí \nConoce más  en Tutorial de Pagos \n 
URL:https://calendarioacademico.libertadores.edu.co/event/publicacion-de-orden-de-pago-preparatorios-1-corte-2-2/
CATEGORIES:Preparatorios I
END:VEVENT
BEGIN:VEVENT
DTSTART;VALUE=DATE:20240401
DTEND;VALUE=DATE:20240403
DTSTAMP:20260419T210256
CREATED:20231120T213232Z
LAST-MODIFIED:20231120T213232Z
UID:8121-1711929600-1712102399@calendarioacademico.libertadores.edu.co
SUMMARY:Novedades de Inscripción preparatorios I - corte 2
DESCRIPTION:
URL:https://calendarioacademico.libertadores.edu.co/event/novedades-de-inscripcion-preparatorios-1-corte-2-3/
CATEGORIES:Preparatorios I
END:VEVENT
BEGIN:VEVENT
DTSTART;VALUE=DATE:20240401
DTEND;VALUE=DATE:20240513
DTSTAMP:20260419T210256
CREATED:20231117T142358Z
LAST-MODIFIED:20231117T142358Z
UID:7895-1711929600-1715558399@calendarioacademico.libertadores.edu.co
SUMMARY:Segunda calificación parcial – S1Pr
DESCRIPTION:
URL:https://calendarioacademico.libertadores.edu.co/event/segunda-calificacion-parcial-s1pr-2/
CATEGORIES:Periodo Académico I
END:VEVENT
BEGIN:VEVENT
DTSTART;VALUE=DATE:20240321
DTEND;VALUE=DATE:20240323
DTSTAMP:20260419T210256
CREATED:20231120T212306Z
LAST-MODIFIED:20231120T212306Z
UID:8108-1710979200-1711151999@calendarioacademico.libertadores.edu.co
SUMMARY:Novedades de Inscripción preparatorios I - corte 2
DESCRIPTION:
URL:https://calendarioacademico.libertadores.edu.co/event/novedades-de-inscripcion-preparatorios-1-corte-2-2/
CATEGORIES:Preparatorios I
END:VEVENT
BEGIN:VEVENT
DTSTART;VALUE=DATE:20240318
DTEND;VALUE=DATE:20240319
DTSTAMP:20260419T210256
CREATED:20231120T210454Z
LAST-MODIFIED:20231120T210454Z
UID:8087-1710720000-1710806399@calendarioacademico.libertadores.edu.co
SUMMARY:Apertura y cierre de SAI para designación de grupos - S1Pr corte 2
DESCRIPTION:
URL:https://calendarioacademico.libertadores.edu.co/event/apertura-y-cierre-de-sai-para-designacion-de-grupos-s1pr-3-2/
CATEGORIES:Preparatorios I
END:VEVENT
BEGIN:VEVENT
DTSTART;VALUE=DATE:20240318
DTEND;VALUE=DATE:20240409
DTSTAMP:20260419T210256
CREATED:20231117T134800Z
LAST-MODIFIED:20231117T134800Z
UID:7887-1710720000-1712620799@calendarioacademico.libertadores.edu.co
SUMMARY:Primera Digitación de calificaciones - S1Pr
DESCRIPTION:
URL:https://calendarioacademico.libertadores.edu.co/event/primera-digitacion-de-calificaciones-s1pr-2/
CATEGORIES:Periodo Académico I
END:VEVENT
BEGIN:VEVENT
DTSTART;VALUE=DATE:20240315
DTEND;VALUE=DATE:20240730
DTSTAMP:20260419T210256
CREATED:20231116T141756Z
LAST-MODIFIED:20231116T142624Z
UID:7773-1710460800-1722297599@calendarioacademico.libertadores.edu.co
SUMMARY:Reintegros académicos
DESCRIPTION:
URL:https://calendarioacademico.libertadores.edu.co/event/reintegros-academicos-2/
LOCATION:Fundación Universitaria Los Libertadores\, Carrera 16 # 63 A - 68\, Bogotá D.C.\, 110011\, Colombia
CATEGORIES:Pregrado Semestral,Reintegros I,Reintegros II,segundo semestre
ORGANIZER;CN="Fundaci%C3%B3n Universitaria Los Libertadores":MAILTO:infopresencial@libertadores.edu.co
END:VEVENT
BEGIN:VEVENT
DTSTART;VALUE=DATE:20240311
DTEND;VALUE=DATE:20240316
DTSTAMP:20260419T210256
CREATED:20211214T204527Z
LAST-MODIFIED:20230901T175928Z
UID:5271-1710115200-1710547199@calendarioacademico.libertadores.edu.co
SUMMARY:Semana internacional de las facultades Bogotá S2Pr
DESCRIPTION:IV Semana internacional Académica y Cultural (SIAC) – Semana internacional de las facultades
URL:https://calendarioacademico.libertadores.edu.co/event/semana-internacional-de-las-facultades-s2pr-2/
LOCATION:Fundación Universitaria Los Libertadores\, Carrera 16 # 63 A - 68\, Bogotá D.C.\, 110011\, Colombia
CATEGORIES:Internacionalización II
ORGANIZER;CN="Fundaci%C3%B3n Universitaria Los Libertadores Bogot%C3%A1-Cartagena":MAILTO:fullatencion@libertadores.edu.co
END:VEVENT
BEGIN:VEVENT
DTSTART;VALUE=DATE:20240311
DTEND;VALUE=DATE:20240724
DTSTAMP:20260419T210256
CREATED:20231114T204030Z
LAST-MODIFIED:20231114T204030Z
UID:7740-1710115200-1721779199@calendarioacademico.libertadores.edu.co
SUMMARY:Matricula pronto pago admitidos-S2Pr
DESCRIPTION:Descarga tu recibo aquí  \nConoce como hacerlo en el tutorial de pagos 
URL:https://calendarioacademico.libertadores.edu.co/event/pago-pronto-pago-admitidos-s2pr-3/
LOCATION:Fundación Universitaria Los Libertadores\, Carrera 16 # 63 A - 68\, Bogotá D.C.\, 110011\, Colombia
CATEGORIES:Matriculas estudiantes nuevos II
END:VEVENT
BEGIN:VEVENT
DTSTART;VALUE=DATE:20240311
DTEND;VALUE=DATE:20240731
DTSTAMP:20260419T210256
CREATED:20231114T203547Z
LAST-MODIFIED:20231114T203547Z
UID:7737-1710115200-1722383999@calendarioacademico.libertadores.edu.co
SUMMARY:Fecha de radicación de documentos - S2Pr
DESCRIPTION:
URL:https://calendarioacademico.libertadores.edu.co/event/fecha-de-radicacion-de-documentos-s2pr-2/
LOCATION:Fundación Universitaria Los Libertadores\, Carrera 16 # 63 A - 68\, Bogotá D.C.\, 110011\, Colombia
CATEGORIES:Matriculas estudiantes nuevos II
END:VEVENT
BEGIN:VEVENT
DTSTART;VALUE=DATE:20240311
DTEND;VALUE=DATE:20240731
DTSTAMP:20260419T210256
CREATED:20231114T203208Z
LAST-MODIFIED:20231116T141514Z
UID:7733-1710115200-1722383999@calendarioacademico.libertadores.edu.co
SUMMARY:Inscripciones estudiantes nuevos\, transferentes externos y transferentes internos -S2Pr
DESCRIPTION:Más información en  https://www.ulibertadores.edu.co/admisiones/ \nDescarga tu recibo Aquí https://registrodematricula.libertadores.edu.co/ \nConoce más en Tutorial de Pagos https://www.youtube.com/watch?v=nib9jmpiEuY \n  \n 
URL:https://calendarioacademico.libertadores.edu.co/event/inscripciones-estudiantes-nuevos-transferentes-externos-transferentes-internos-y-reintegros-s1pr-2-2/
LOCATION:Fundación Universitaria Los Libertadores\, Carrera 16 # 63 A - 68\, Bogotá D.C.\, 110011\, Colombia
CATEGORIES:Matriculas estudiantes nuevos II
END:VEVENT
BEGIN:VEVENT
DTSTART;VALUE=DATE:20240311
DTEND;VALUE=DATE:20240316
DTSTAMP:20260419T210256
CREATED:20220228T194357Z
LAST-MODIFIED:20230901T175854Z
UID:6629-1710115200-1710547199@calendarioacademico.libertadores.edu.co
SUMMARY:Semana internacional de las facultades Cartagena-S2Pr
DESCRIPTION:
URL:https://calendarioacademico.libertadores.edu.co/event/semana-internacional-de-las-facultades-s2pr/
LOCATION:Fundación Universitaria Los Libertadores\, Carrera 16 # 63 A - 68\, Bogotá D.C.\, 110011\, Colombia
CATEGORIES:Internacionalización II
ORGANIZER;CN="Fundaci%C3%B3n Universitaria Los Libertadores Bogot%C3%A1-Cartagena":MAILTO:fullatencion@libertadores.edu.co
END:VEVENT
BEGIN:VEVENT
DTSTART;VALUE=DATE:20240308
DTEND;VALUE=DATE:20240309
DTSTAMP:20260419T210256
CREATED:20220228T173016Z
LAST-MODIFIED:20221223T143254Z
UID:6582-1709856000-1709942399@calendarioacademico.libertadores.edu.co
SUMMARY:Entrega de certificados Seminarios de Grado Intersemestral-S2Pr
DESCRIPTION:
URL:https://calendarioacademico.libertadores.edu.co/event/entrega-de-certificados-seminarios-de-grado-intersemestral-s2pr/
LOCATION:Fundación Universitaria Los Libertadores\, Carrera 16 # 63 A - 68\, Bogotá D.C.\, 110011\, Colombia
CATEGORIES:Seminarios de Grado Periodo Intersemestral II
ORGANIZER;CN="Fundaci%C3%B3n Universitaria Los Libertadores Bogot%C3%A1-Cartagena":MAILTO:fullatencion@libertadores.edu.co
END:VEVENT
END:VCALENDAR