BEGIN:VCALENDAR
VERSION:2.0
PRODID:-//Calendario Acad&eacute;mico - ECPv6.15.13.1//NONSGML v1.0//EN
CALSCALE:GREGORIAN
METHOD:PUBLISH
X-WR-CALNAME:Calendario Acad&eacute;mico
X-ORIGINAL-URL:https://calendarioacademico.libertadores.edu.co
X-WR-CALDESC:Eventos para Calendario Acad&eacute;mico
REFRESH-INTERVAL;VALUE=DURATION:PT1H
X-Robots-Tag:noindex
X-PUBLISHED-TTL:PT1H
BEGIN:VTIMEZONE
TZID:America/New_York
BEGIN:DAYLIGHT
TZOFFSETFROM:-0500
TZOFFSETTO:-0400
TZNAME:EDT
DTSTART:20230312T070000
END:DAYLIGHT
BEGIN:STANDARD
TZOFFSETFROM:-0400
TZOFFSETTO:-0500
TZNAME:EST
DTSTART:20231105T060000
END:STANDARD
BEGIN:DAYLIGHT
TZOFFSETFROM:-0500
TZOFFSETTO:-0400
TZNAME:EDT
DTSTART:20240310T070000
END:DAYLIGHT
BEGIN:STANDARD
TZOFFSETFROM:-0400
TZOFFSETTO:-0500
TZNAME:EST
DTSTART:20241103T060000
END:STANDARD
BEGIN:DAYLIGHT
TZOFFSETFROM:-0500
TZOFFSETTO:-0400
TZNAME:EDT
DTSTART:20250309T070000
END:DAYLIGHT
BEGIN:STANDARD
TZOFFSETFROM:-0400
TZOFFSETTO:-0500
TZNAME:EST
DTSTART:20251102T060000
END:STANDARD
END:VTIMEZONE
BEGIN:VEVENT
DTSTART;VALUE=DATE:20240304
DTEND;VALUE=DATE:20240610
DTSTAMP:20260420T015407
CREATED:20231120T192930Z
LAST-MODIFIED:20231120T192930Z
UID:8014-1709510400-1717977599@calendarioacademico.libertadores.edu.co
SUMMARY:Inicio y terminación de seminarios de grado S1Pr
DESCRIPTION:
URL:https://calendarioacademico.libertadores.edu.co/event/inicio-y-terminacion-de-seminarios-de-grado-s1pr-2/
CATEGORIES:Seminarios de Grado periodo regular I
END:VEVENT
BEGIN:VEVENT
DTSTART;VALUE=DATE:20240226
DTEND;VALUE=DATE:20240624
DTSTAMP:20260420T015407
CREATED:20231215T214519Z
LAST-MODIFIED:20231215T214519Z
UID:8210-1708905600-1719187199@calendarioacademico.libertadores.edu.co
SUMMARY:Inicio y terminación - Coterminales semestrales  I
DESCRIPTION:
URL:https://calendarioacademico.libertadores.edu.co/event/inicio-y-terminacion-coterminales-semestrales-pregrado-1-2/
CATEGORIES:Coterminales Semestrales I
END:VEVENT
BEGIN:VEVENT
DTSTART;VALUE=DATE:20240223
DTEND;VALUE=DATE:20240224
DTSTAMP:20260420T015407
CREATED:20231120T221522Z
LAST-MODIFIED:20231120T221522Z
UID:8170-1708646400-1708732799@calendarioacademico.libertadores.edu.co
SUMMARY:Digitación de calificaciones preparatorios I corte 1
DESCRIPTION:
URL:https://calendarioacademico.libertadores.edu.co/event/digitacion-de-calificaciones-preparatorios-1-corte-1-2/
CATEGORIES:Preparatorios I
END:VEVENT
BEGIN:VEVENT
DTSTART;VALUE=DATE:20240220
DTEND;VALUE=DATE:20240221
DTSTAMP:20260420T015407
CREATED:20231120T220851Z
LAST-MODIFIED:20231120T220851Z
UID:8157-1708387200-1708473599@calendarioacademico.libertadores.edu.co
SUMMARY:Presentación  preparatorios I - corte 1
DESCRIPTION:
URL:https://calendarioacademico.libertadores.edu.co/event/presentacion-preparatorios-1-corte-1-2/
CATEGORIES:Preparatorios I
END:VEVENT
BEGIN:VEVENT
DTSTART;VALUE=DATE:20240213
DTEND;VALUE=DATE:20240220
DTSTAMP:20260420T015407
CREATED:20231116T150110Z
LAST-MODIFIED:20231116T150110Z
UID:7804-1707782400-1708387199@calendarioacademico.libertadores.edu.co
SUMMARY:Pago de adiciones - S1Pr
DESCRIPTION:Descarga tu recibo aquí . \nConoce como hacerlo en el tutorial de pagos.
URL:https://calendarioacademico.libertadores.edu.co/event/pago-de-adiciones-s1pr-2/
CATEGORIES:Matricula estudiantes antiguos I
END:VEVENT
BEGIN:VEVENT
DTSTART;VALUE=DATE:20240213
DTEND;VALUE=DATE:20240214
DTSTAMP:20260420T015407
CREATED:20231116T145235Z
LAST-MODIFIED:20231116T145235Z
UID:7801-1707782400-1707868799@calendarioacademico.libertadores.edu.co
SUMMARY:Publicación de recibos de adiciones en el portal WEB institucional – S1Pr
DESCRIPTION:Descarga tu recibo aquí . \nConoce como hacerlo en el tutorial de pagos.
URL:https://calendarioacademico.libertadores.edu.co/event/publicacion-de-recibos-de-adiciones-en-el-portal-web-institucional-s1pr-2/
CATEGORIES:Matricula estudiantes antiguos I,Pregrado Semestral,primer semestre
END:VEVENT
BEGIN:VEVENT
DTSTART;VALUE=DATE:20240212
DTEND;VALUE=DATE:20240325
DTSTAMP:20260420T015407
CREATED:20231120T203402Z
LAST-MODIFIED:20231120T203402Z
UID:8066-1707696000-1711324799@calendarioacademico.libertadores.edu.co
SUMMARY:Entrega de documentos para la formalización de la práctica - S1Pr
DESCRIPTION:
URL:https://calendarioacademico.libertadores.edu.co/event/entrega-de-documentos-para-la-formalizacion-de-la-practica-s1pr-2/
CATEGORIES:Prácticas I
END:VEVENT
BEGIN:VEVENT
DTSTART;VALUE=DATE:20240212
DTEND;VALUE=DATE:20240213
DTSTAMP:20260420T015407
CREATED:20231120T202947Z
LAST-MODIFIED:20231120T202947Z
UID:8062-1707696000-1707782399@calendarioacademico.libertadores.edu.co
SUMMARY:Inicio de las prácticas - S1Pr
DESCRIPTION:
URL:https://calendarioacademico.libertadores.edu.co/event/inicio-de-las-practicas-s1pr-2/
CATEGORIES:Prácticas I
END:VEVENT
BEGIN:VEVENT
DTSTART;VALUE=DATE:20240212
DTEND;VALUE=DATE:20240218
DTSTAMP:20260420T015407
CREATED:20231120T202715Z
LAST-MODIFIED:20231120T202715Z
UID:8058-1707696000-1708214399@calendarioacademico.libertadores.edu.co
SUMMARY:Reunión general de inicio de prácticas- S1Pr
DESCRIPTION:
URL:https://calendarioacademico.libertadores.edu.co/event/reunion-general-de-inicio-de-practicas-2-2/
CATEGORIES:Prácticas I
END:VEVENT
BEGIN:VEVENT
DTSTART;VALUE=DATE:20240212
DTEND;VALUE=DATE:20240325
DTSTAMP:20260420T015407
CREATED:20231116T222915Z
LAST-MODIFIED:20231116T222915Z
UID:7883-1707696000-1711324799@calendarioacademico.libertadores.edu.co
SUMMARY:Primera calificación parcial – S1Pr
DESCRIPTION:
URL:https://calendarioacademico.libertadores.edu.co/event/primera-calificacion-parcial-s1pr-2/
CATEGORIES:Periodo Académico I
END:VEVENT
BEGIN:VEVENT
DTSTART;VALUE=DATE:20240212
DTEND;VALUE=DATE:20240429
DTSTAMP:20260420T015407
CREATED:20231116T222452Z
LAST-MODIFIED:20231116T222452Z
UID:7879-1707696000-1714348799@calendarioacademico.libertadores.edu.co
SUMMARY:Cancelación de espacios académicos – S1Pr
DESCRIPTION:
URL:https://calendarioacademico.libertadores.edu.co/event/cancelacion-de-espacios-academicos-s1pr-2/
CATEGORIES:Periodo Académico I
END:VEVENT
BEGIN:VEVENT
DTSTART;VALUE=DATE:20240210
DTEND;VALUE=DATE:20240211
DTSTAMP:20260420T015407
CREATED:20231116T141029Z
LAST-MODIFIED:20231116T141029Z
UID:7761-1707523200-1707609599@calendarioacademico.libertadores.edu.co
SUMMARY:Encuentro de Padres-S1Pr
DESCRIPTION:
URL:https://calendarioacademico.libertadores.edu.co/event/encuentro-de-padres-s1pr-2/
LOCATION:Fundación Universitaria Los Libertadores\, Carrera 16 # 63 A - 68\, Bogotá D.C.\, 110011\, Colombia
CATEGORIES:Matriculas estudiantes nuevos I
END:VEVENT
BEGIN:VEVENT
DTSTART;VALUE=DATE:20240208
DTEND;VALUE=DATE:20240210
DTSTAMP:20260420T015407
CREATED:20231114T205555Z
LAST-MODIFIED:20231114T205555Z
UID:7752-1707350400-1707523199@calendarioacademico.libertadores.edu.co
SUMMARY:Inducción a estudiantes nuevos Bogotá-S1Pr
DESCRIPTION:Conoce más información aquí \n 
URL:https://calendarioacademico.libertadores.edu.co/event/induccion-a-estudiantes-nuevos-cartagena-s1pr-2-2/
LOCATION:Fundación Universitaria Los Libertadores\, Carrera 16 # 63 A - 68\, Bogotá D.C.\, 110011\, Colombia
CATEGORIES:Matriculas estudiantes nuevos I
END:VEVENT
BEGIN:VEVENT
DTSTART;VALUE=DATE:20240207
DTEND;VALUE=DATE:20240220
DTSTAMP:20260420T015407
CREATED:20231116T173352Z
LAST-MODIFIED:20231116T173505Z
UID:7843-1707264000-1708387199@calendarioacademico.libertadores.edu.co
SUMMARY:Pago Extraordinario - Todas las Facultades - S1Pr
DESCRIPTION:
URL:https://calendarioacademico.libertadores.edu.co/event/pago-extraordinario-facultades-de-ciencias-de-la-comunicacion-derecho-y-ciencias-politicas-s1pr-2/
CATEGORIES:Matricula estudiantes antiguos I
END:VEVENT
BEGIN:VEVENT
DTSTART;VALUE=DATE:20240207
DTEND;VALUE=DATE:20240208
DTSTAMP:20260420T015407
CREATED:20220228T195809Z
LAST-MODIFIED:20221223T151032Z
UID:6644-1707264000-1707350399@calendarioacademico.libertadores.edu.co
SUMMARY:Cierre del sistema institucional para el cargue de notas escuela de verano/invierno-S2Pr
DESCRIPTION:
URL:https://calendarioacademico.libertadores.edu.co/event/cierre-del-sistema-institucional-para-el-cargue-de-notas-escuela-de-verano-s2pr/
LOCATION:Fundación Universitaria Los Libertadores\, Carrera 16 # 63 A - 68\, Bogotá D.C.\, 110011\, Colombia
CATEGORIES:Escuela de Verano / Invierno II
ORGANIZER;CN="Fundaci%C3%B3n Universitaria Los Libertadores Bogot%C3%A1-Cartagena":MAILTO:fullatencion@libertadores.edu.co
END:VEVENT
BEGIN:VEVENT
DTSTART;VALUE=DATE:20240206
DTEND;VALUE=DATE:20240207
DTSTAMP:20260420T015407
CREATED:20231116T140729Z
LAST-MODIFIED:20231116T140729Z
UID:7763-1707177600-1707263999@calendarioacademico.libertadores.edu.co
SUMMARY:Encuentro de Padres Cartagena-S1Pr
DESCRIPTION:
URL:https://calendarioacademico.libertadores.edu.co/event/encuentro-de-padres-cartagena-s1pr-2/
LOCATION:Fundación Universitaria Los Libertadores\, Carrera 16 # 63 A - 68\, Bogotá D.C.\, 110011\, Colombia
CATEGORIES:Matriculas estudiantes nuevos I
END:VEVENT
BEGIN:VEVENT
DTSTART;VALUE=DATE:20240205
DTEND;VALUE=DATE:20240213
DTSTAMP:20260420T015407
CREATED:20231120T220207Z
LAST-MODIFIED:20231120T220207Z
UID:8145-1707091200-1707782399@calendarioacademico.libertadores.edu.co
SUMMARY:Fecha de pago preparatorios I - corte 1
DESCRIPTION:Descarga tu recibo de pago Aquí \nConoce más en Tutorial de pagos \n 
URL:https://calendarioacademico.libertadores.edu.co/event/fecha-de-pago-preparatorios-pregrado-1-corte-1-2/
CATEGORIES:Preparatorios I
END:VEVENT
BEGIN:VEVENT
DTSTART;VALUE=DATE:20240205
DTEND;VALUE=DATE:20240206
DTSTAMP:20260420T015407
CREATED:20231120T214526Z
LAST-MODIFIED:20231120T214526Z
UID:8133-1707091200-1707177599@calendarioacademico.libertadores.edu.co
SUMMARY:Publicación de orden de Pago Preparatorios I - corte 1
DESCRIPTION:Descarga tu recibo aquí \nConoce más en Tutorial de Pagos \n 
URL:https://calendarioacademico.libertadores.edu.co/event/publicacion-de-orden-de-pago-preparatorios-1-corte-1-2/
CATEGORIES:Preparatorios I
END:VEVENT
BEGIN:VEVENT
DTSTART;VALUE=DATE:20240205
DTEND;VALUE=DATE:20240207
DTSTAMP:20260420T015407
CREATED:20231114T205143Z
LAST-MODIFIED:20231114T205143Z
UID:7748-1707091200-1707263999@calendarioacademico.libertadores.edu.co
SUMMARY:Inducción a estudiantes nuevos Cartagena-S1Pr
DESCRIPTION:Conoce más información aquí \n 
URL:https://calendarioacademico.libertadores.edu.co/event/induccion-a-estudiantes-nuevos-cartagena-s1pr-2/
LOCATION:Fundación Universitaria Los Libertadores\, Carrera 16 # 63 A - 68\, Bogotá D.C.\, 110011\, Colombia
CATEGORIES:Matriculas estudiantes nuevos I
END:VEVENT
BEGIN:VEVENT
DTSTART;VALUE=DATE:20240204
DTEND;VALUE=DATE:20240211
DTSTAMP:20260420T015407
CREATED:20220228T172451Z
LAST-MODIFIED:20221223T143141Z
UID:6579-1707004800-1707609599@calendarioacademico.libertadores.edu.co
SUMMARY:Fecha límite para digitación de notas Seminarios de Grado Intersemestral-S2Pr
DESCRIPTION:Consulta de notas en Ulises
URL:https://calendarioacademico.libertadores.edu.co/event/fecha-limite-para-digitacion-de-notas-seminarios-de-grado-intersemestral-s2pr/
LOCATION:Fundación Universitaria Los Libertadores\, Carrera 16 # 63 A - 68\, Bogotá D.C.\, 110011\, Colombia
CATEGORIES:Seminarios de Grado Periodo Intersemestral II
ORGANIZER;CN="Fundaci%C3%B3n Universitaria Los Libertadores Bogot%C3%A1-Cartagena":MAILTO:fullatencion@libertadores.edu.co
END:VEVENT
BEGIN:VEVENT
DTSTART;VALUE=DATE:20240203
DTEND;VALUE=DATE:20240210
DTSTAMP:20260420T015407
CREATED:20231116T150338Z
LAST-MODIFIED:20231116T150338Z
UID:6800-1706918400-1707523199@calendarioacademico.libertadores.edu.co
SUMMARY:Solicitud de cambios de grupos - S1Pr
DESCRIPTION:
URL:https://calendarioacademico.libertadores.edu.co/event/solicitud-de-cambios-de-grupos-s1pr-2/
CATEGORIES:Matricula estudiantes antiguos I,Pregrado Semestral,primer semestre
END:VEVENT
BEGIN:VEVENT
DTSTART;VALUE=DATE:20240203
DTEND;VALUE=DATE:20240211
DTSTAMP:20260420T015407
CREATED:20231116T144848Z
LAST-MODIFIED:20231116T144848Z
UID:7797-1706918400-1707609599@calendarioacademico.libertadores.edu.co
SUMMARY:Solicitud de reajustes (adición y/o retiro de espacios académicos) - S1Pr
DESCRIPTION:Solicita el reajuste aquí. \nConoce como hacerlo en el Instructivo de Reajustes.
URL:https://calendarioacademico.libertadores.edu.co/event/solicitud-de-reajustes-adicion-y-o-retiro-de-espacios-academicos-s1pr-2/
LOCATION:Fundación Universitaria Los Libertadores\, Carrera 16 # 63 A - 68\, Bogotá D.C.\, 110011\, Colombia
CATEGORIES:Matricula estudiantes antiguos I
END:VEVENT
BEGIN:VEVENT
DTSTART;VALUE=DATE:20240203
DTEND;VALUE=DATE:20240210
DTSTAMP:20260420T015407
CREATED:20220307T153527Z
LAST-MODIFIED:20221222T214243Z
UID:7411-1706918400-1707523199@calendarioacademico.libertadores.edu.co
SUMMARY:Pagos de matrícula (estudiantes intersemestral) Segunda fecha de pago-S2Pr
DESCRIPTION:Descarga tu recibo aquí \nConoce como hacerlo en el tutorial de pagos 
URL:https://calendarioacademico.libertadores.edu.co/event/pagos-de-matricula-estudiantes-intersemestral-segunda-fecha-de-pago-s2pr/
LOCATION:Fundación Universitaria Los Libertadores\, Carrera 16 # 63 A - 68\, Bogotá D.C.\, 110011\, Colombia
CATEGORIES:Cursos Intersemestrales II
ORGANIZER;CN="Fundaci%C3%B3n Universitaria Los Libertadores":MAILTO:infopresencial@libertadores.edu.co
END:VEVENT
BEGIN:VEVENT
DTSTART;VALUE=DATE:20240202
DTEND;VALUE=DATE:20240203
DTSTAMP:20260420T015407
CREATED:20231114T205850Z
LAST-MODIFIED:20231114T205850Z
UID:7757-1706832000-1706918399@calendarioacademico.libertadores.edu.co
SUMMARY:Envío de material de inducción a estudiantes nuevos
DESCRIPTION:
URL:https://calendarioacademico.libertadores.edu.co/event/envio-de-material-de-induccion-a-estudiantes-nuevos-pregrado-i-2/
LOCATION:Fundación Universitaria Los Libertadores\, Carrera 16 # 63 A - 68\, Bogotá D.C.\, 110011\, Colombia
CATEGORIES:Matriculas estudiantes nuevos I
END:VEVENT
BEGIN:VEVENT
DTSTART;VALUE=DATE:20240131
DTEND;VALUE=DATE:20240204
DTSTAMP:20260420T015407
CREATED:20220228T195652Z
LAST-MODIFIED:20221223T150629Z
UID:6642-1706659200-1707004799@calendarioacademico.libertadores.edu.co
SUMMARY:Registro y entrega de calificaciones escuela de verano-S2Pr
DESCRIPTION:
URL:https://calendarioacademico.libertadores.edu.co/event/registro-y-entrega-de-calificaciones-escuela-de-verano-s2pr/
LOCATION:Fundación Universitaria Los Libertadores\, Carrera 16 # 63 A - 68\, Bogotá D.C.\, 110011\, Colombia
CATEGORIES:Escuela de Verano / Invierno II
ORGANIZER;CN="Fundaci%C3%B3n Universitaria Los Libertadores Bogot%C3%A1-Cartagena":MAILTO:fullatencion@libertadores.edu.co
END:VEVENT
BEGIN:VEVENT
DTSTART;VALUE=DATE:20240129
DTEND;VALUE=DATE:20240131
DTSTAMP:20260420T015407
CREATED:20231120T213201Z
LAST-MODIFIED:20231120T213201Z
UID:8120-1706486400-1706659199@calendarioacademico.libertadores.edu.co
SUMMARY:Novedades de Inscripción preparatorios I - Corte 1
DESCRIPTION:
URL:https://calendarioacademico.libertadores.edu.co/event/novedades-de-inscripcion-preparatorios-1-corte-1-2/
CATEGORIES:Preparatorios I
END:VEVENT
BEGIN:VEVENT
DTSTART;VALUE=DATE:20240129
DTEND;VALUE=DATE:20240203
DTSTAMP:20260420T015407
CREATED:20220307T153355Z
LAST-MODIFIED:20221222T214049Z
UID:7408-1706486400-1706918399@calendarioacademico.libertadores.edu.co
SUMMARY:Pagos de matrícula (estudiantes intersemestral) Primer fecha de pago-S2Pr
DESCRIPTION:Descarga tu recibo aquí \nConoce como hacerlo en el tutorial de pagos 
URL:https://calendarioacademico.libertadores.edu.co/event/pagos-de-matricula-estudiantes-intersemestral-primer-fecha-de-pago-s2pr/
LOCATION:Fundación Universitaria Los Libertadores\, Carrera 16 # 63 A - 68\, Bogotá D.C.\, 110011\, Colombia
CATEGORIES:Cursos Intersemestrales II
ORGANIZER;CN="Fundaci%C3%B3n Universitaria Los Libertadores":MAILTO:infopresencial@libertadores.edu.co
END:VEVENT
BEGIN:VEVENT
DTSTART;VALUE=DATE:20240129
DTEND;VALUE=DATE:20240130
DTSTAMP:20260420T015407
CREATED:20220307T153253Z
LAST-MODIFIED:20221222T213753Z
UID:7406-1706486400-1706572799@calendarioacademico.libertadores.edu.co
SUMMARY:Publicación de recibo de pago de matrícula en el portal WEB institucional (estudiantes intersemestrales) -S2Pr
DESCRIPTION:Descarga tu recibo aquí \nConoce como hacerlo en el tutorial de pagos 
URL:https://calendarioacademico.libertadores.edu.co/event/publicacion-de-recibo-de-pago-de-matricula-en-el-portal-web-institucional-estudiantes-intersemestrales-s2pr/
LOCATION:Fundación Universitaria Los Libertadores\, Carrera 16 # 63 A - 68\, Bogotá D.C.\, 110011\, Colombia
CATEGORIES:Cursos Intersemestrales II
ORGANIZER;CN="Fundaci%C3%B3n Universitaria Los Libertadores":MAILTO:infopresencial@libertadores.edu.co
END:VEVENT
BEGIN:VEVENT
DTSTART;VALUE=DATE:20240125
DTEND;VALUE=DATE:20240127
DTSTAMP:20260420T015407
CREATED:20231120T212230Z
LAST-MODIFIED:20231120T212230Z
UID:8107-1706140800-1706313599@calendarioacademico.libertadores.edu.co
SUMMARY:Inscripción Preparatorios I - corte 1
DESCRIPTION:Inscripción de horarios Aquí \nConoce más en Tutorial inscripción de horarios
URL:https://calendarioacademico.libertadores.edu.co/event/inscripcion-preparatorios-i-s1pr-5/
CATEGORIES:Preparatorios I
END:VEVENT
BEGIN:VEVENT
DTSTART;VALUE=DATE:20240125
DTEND;VALUE=DATE:20240127
DTSTAMP:20260420T015407
CREATED:20220307T153149Z
LAST-MODIFIED:20221222T213642Z
UID:7404-1706140800-1706313599@calendarioacademico.libertadores.edu.co
SUMMARY:Fecha de selección de horarios  para matrículas (estudiantes intersemestrales) -S2Pr
DESCRIPTION:
URL:https://calendarioacademico.libertadores.edu.co/event/fecha-de-seleccion-de-horarios-para-matriculas-estudiantes-intersemestrales-s2pr/
LOCATION:Fundación Universitaria Los Libertadores\, Carrera 16 # 63 A - 68\, Bogotá D.C.\, 110011\, Colombia
CATEGORIES:Cursos Intersemestrales II
ORGANIZER;CN="Fundaci%C3%B3n Universitaria Los Libertadores":MAILTO:infopresencial@libertadores.edu.co
END:VEVENT
END:VCALENDAR