BEGIN:VCALENDAR
VERSION:2.0
PRODID:-//Calendario Acad&eacute;mico - ECPv6.15.13.1//NONSGML v1.0//EN
CALSCALE:GREGORIAN
METHOD:PUBLISH
X-WR-CALNAME:Calendario Acad&eacute;mico
X-ORIGINAL-URL:https://calendarioacademico.libertadores.edu.co
X-WR-CALDESC:Eventos para Calendario Acad&eacute;mico
REFRESH-INTERVAL;VALUE=DURATION:PT1H
X-Robots-Tag:noindex
X-PUBLISHED-TTL:PT1H
BEGIN:VTIMEZONE
TZID:America/New_York
BEGIN:DAYLIGHT
TZOFFSETFROM:-0500
TZOFFSETTO:-0400
TZNAME:EDT
DTSTART:20220313T070000
END:DAYLIGHT
BEGIN:STANDARD
TZOFFSETFROM:-0400
TZOFFSETTO:-0500
TZNAME:EST
DTSTART:20221106T060000
END:STANDARD
BEGIN:DAYLIGHT
TZOFFSETFROM:-0500
TZOFFSETTO:-0400
TZNAME:EDT
DTSTART:20230312T070000
END:DAYLIGHT
BEGIN:STANDARD
TZOFFSETFROM:-0400
TZOFFSETTO:-0500
TZNAME:EST
DTSTART:20231105T060000
END:STANDARD
BEGIN:DAYLIGHT
TZOFFSETFROM:-0500
TZOFFSETTO:-0400
TZNAME:EDT
DTSTART:20240310T070000
END:DAYLIGHT
BEGIN:STANDARD
TZOFFSETFROM:-0400
TZOFFSETTO:-0500
TZNAME:EST
DTSTART:20241103T060000
END:STANDARD
BEGIN:DAYLIGHT
TZOFFSETFROM:-0500
TZOFFSETTO:-0400
TZNAME:EDT
DTSTART:20250309T070000
END:DAYLIGHT
BEGIN:STANDARD
TZOFFSETFROM:-0400
TZOFFSETTO:-0500
TZNAME:EST
DTSTART:20251102T060000
END:STANDARD
END:VTIMEZONE
BEGIN:VTIMEZONE
TZID:UTC
BEGIN:STANDARD
TZOFFSETFROM:+0000
TZOFFSETTO:+0000
TZNAME:UTC
DTSTART:20220101T000000
END:STANDARD
END:VTIMEZONE
BEGIN:VEVENT
DTSTART;VALUE=DATE:20240109
DTEND;VALUE=DATE:20240204
DTSTAMP:20260422T081002
CREATED:20220228T163421Z
LAST-MODIFIED:20221223T143026Z
UID:6575-1704758400-1707004799@calendarioacademico.libertadores.edu.co
SUMMARY:Inicio y terminación de Seminarios de Grado intersemestral-S2Pr
DESCRIPTION:Del 18 de diciembre de 2022 al 9 de Enero de 2023\, se suspende por festividades de fin de año.
URL:https://calendarioacademico.libertadores.edu.co/event/inicio-y-terminacion-de-seminarios-de-grado-intersemestral-s2pr/
LOCATION:Fundación Universitaria Los Libertadores\, Carrera 16 # 63 A - 68\, Bogotá D.C.\, 110011\, Colombia
CATEGORIES:Seminarios de Grado Periodo Intersemestral II
ORGANIZER;CN="Fundaci%C3%B3n Universitaria Los Libertadores Bogot%C3%A1-Cartagena":MAILTO:fullatencion@libertadores.edu.co
END:VEVENT
BEGIN:VEVENT
DTSTART;VALUE=DATE:20231230
DTEND;VALUE=DATE:20240207
DTSTAMP:20260422T081002
CREATED:20231116T173016Z
LAST-MODIFIED:20231116T173034Z
UID:7838-1703894400-1707263999@calendarioacademico.libertadores.edu.co
SUMMARY:Pago Ordinario - Todas las Facultades- S1Pr
DESCRIPTION:Descarga tu recibo aquí \nConoce como hacerlo en el tutorial de pagos 
URL:https://calendarioacademico.libertadores.edu.co/event/pago-ordinario-facultades-de-ingenieria-y-ciencias-basicas-y-ciencias-humanas-y-sociales-s2pr-2/
LOCATION:Bogotá D.C.
CATEGORIES:Matricula estudiantes antiguos I
END:VEVENT
BEGIN:VEVENT
DTSTART;VALUE=DATE:20231230
DTEND;VALUE=DATE:20240213
DTSTAMP:20260422T081002
CREATED:20231114T204310Z
LAST-MODIFIED:20231114T204310Z
UID:7744-1703894400-1707782399@calendarioacademico.libertadores.edu.co
SUMMARY:Pago ordinario admitidos - S1Pr
DESCRIPTION:Descarga el recibo aquí.  \nConoce como hacerlo en el tutorial de pagos.
URL:https://calendarioacademico.libertadores.edu.co/event/pago-ordinario-admitidos-s1pr-2/
LOCATION:Fundación Universitaria Los Libertadores\, Carrera 16 # 63 A - 68\, Bogotá D.C.\, 110011\, Colombia
CATEGORIES:Matriculas estudiantes nuevos I
END:VEVENT
BEGIN:VEVENT
DTSTART;VALUE=DATE:20231220
DTEND;VALUE=DATE:20231221
DTSTAMP:20260422T081002
CREATED:20231116T172040Z
LAST-MODIFIED:20231116T172745Z
UID:7829-1703030400-1703116799@calendarioacademico.libertadores.edu.co
SUMMARY:Publicación de recibos Fac. Ingeniería y Ciencias Básicas y Ciencias Humanas y Sociales- S1Pr
DESCRIPTION:Descarga tu recibo aquí . \nConoce como hacerlo en el tutorial de pagos.
URL:https://calendarioacademico.libertadores.edu.co/event/publicacion-recibos-facultades-de-ingenieria-y-ciencias-basicas-ciencias-humanas-y-sociales-s1pr-2/
LOCATION:Bogotá D.C.
CATEGORIES:Matricula estudiantes antiguos I
END:VEVENT
BEGIN:VEVENT
DTSTART;VALUE=DATE:20231220
DTEND;VALUE=DATE:20231230
DTSTAMP:20260422T081002
CREATED:20231116T163615Z
LAST-MODIFIED:20231116T171133Z
UID:7814-1703030400-1703894399@calendarioacademico.libertadores.edu.co
SUMMARY:Pronto pago Fac. Ingeniería y Ciencias Básicas\, Ciencias Humanas y Sociales - S1Pr
DESCRIPTION:Descarga tu recibo aquí . \nConoce como hacerlo en el tutorial de pagos.
URL:https://calendarioacademico.libertadores.edu.co/event/pago-pronto-pago-facultades-de-ingenieria-y-ciencias-basicas-ciencias-humanas-y-sociales-s1pr-2/
LOCATION:Bogotá D.C.
CATEGORIES:Matricula estudiantes antiguos I
END:VEVENT
BEGIN:VEVENT
DTSTART;VALUE=DATE:20231219
DTEND;VALUE=DATE:20231220
DTSTAMP:20260422T081002
CREATED:20220228T174226Z
LAST-MODIFIED:20221222T222831Z
UID:6592-1702944000-1703030399@calendarioacademico.libertadores.edu.co
SUMMARY:Entrega de certificados Seminarios de Grado Regular-S2Pr
DESCRIPTION:
URL:https://calendarioacademico.libertadores.edu.co/event/entrega-de-certificados-seminarios-de-grado-regular-s2pr/
LOCATION:Fundación Universitaria Los Libertadores\, Carrera 16 # 63 A - 68\, Bogotá D.C.\, 110011\, Colombia
CATEGORIES:Seminarios de Grado periodo regular II
ORGANIZER;CN="Fundaci%C3%B3n Universitaria Los Libertadores":MAILTO:infopresencial@libertadores.edu.co
END:VEVENT
BEGIN:VEVENT
DTSTART;VALUE=DATE:20231219
DTEND;VALUE=DATE:20231220
DTSTAMP:20260422T081002
CREATED:20231116T172003Z
LAST-MODIFIED:20231116T172627Z
UID:7827-1702944000-1703030399@calendarioacademico.libertadores.edu.co
SUMMARY:Publicación de recibos Fac. de Psicología y Ciencias Económicas\, Administrativas y Contables - S1Pr
DESCRIPTION:Descarga tu recibo aquí . \nConoce como hacerlo en el tutorial de pagos.
URL:https://calendarioacademico.libertadores.edu.co/event/publicacion-recibos-facultades-de-psicologia-y-ciencias-economicas-administrativas-y-contables-s1pr-2/
LOCATION:Bogotá D.C.
CATEGORIES:Matricula estudiantes antiguos I
END:VEVENT
BEGIN:VEVENT
DTSTART;VALUE=DATE:20231219
DTEND;VALUE=DATE:20231229
DTSTAMP:20260422T081002
CREATED:20231116T163730Z
LAST-MODIFIED:20231116T170945Z
UID:7816-1702944000-1703807999@calendarioacademico.libertadores.edu.co
SUMMARY:Pronto pago Fac. Psicología y Ciencias Económicas\, Administrativas y Contables - S1Pr
DESCRIPTION:Descarga tu recibo aquí . \nConoce como hacerlo en el tutorial de pagos.
URL:https://calendarioacademico.libertadores.edu.co/event/pago-pronto-pago-facultades-de-psicologia-y-ciencias-economicas-administrativas-y-contables-s1pr-2/
LOCATION:Bogotá D.C.
CATEGORIES:Matricula estudiantes antiguos I
END:VEVENT
BEGIN:VEVENT
DTSTART;VALUE=DATE:20231218
DTEND;VALUE=DATE:20240121
DTSTAMP:20260422T081002
CREATED:20231219T154751Z
LAST-MODIFIED:20231219T154751Z
UID:8239-1702857600-1705795199@calendarioacademico.libertadores.edu.co
SUMMARY:Publicación de órdenes de pago coterminales trimestrales I - corte 1
DESCRIPTION:Descarga tu recibo aquí. \nConoce como hacerlo en el tutorial de pagos. \n 
URL:https://calendarioacademico.libertadores.edu.co/event/publicacion-de-ordenes-de-pago-coterminales-trimestrales-ii-1-2/
LOCATION:Bogotá D.C.
CATEGORIES:Coterminales Trimestrales I
END:VEVENT
BEGIN:VEVENT
DTSTART;VALUE=DATE:20231218
DTEND;VALUE=DATE:20240217
DTSTAMP:20260422T081002
CREATED:20231215T214135Z
LAST-MODIFIED:20231215T214135Z
UID:8203-1702857600-1708127999@calendarioacademico.libertadores.edu.co
SUMMARY:Fecha límite de pago  - Coterminales semestrales I
DESCRIPTION:
URL:https://calendarioacademico.libertadores.edu.co/event/fecha-limite-de-pago-coterminales-semestrales-pregrado-2/
LOCATION:Bogotá D.C.
CATEGORIES:Coterminales Semestrales I
END:VEVENT
BEGIN:VEVENT
DTSTART;VALUE=DATE:20231218
DTEND;VALUE=DATE:20240124
DTSTAMP:20260422T081002
CREATED:20231120T223940Z
LAST-MODIFIED:20231120T223940Z
UID:8196-1702857600-1706054399@calendarioacademico.libertadores.edu.co
SUMMARY:Publicación de órdenes de pago - Coterminales semestrales 1
DESCRIPTION:
URL:https://calendarioacademico.libertadores.edu.co/event/publicacion-de-ordenes-de-pago-coterminales-semestrales-pregrado-2/
LOCATION:Bogotá D.C.
CATEGORIES:Coterminales Semestrales I
END:VEVENT
BEGIN:VEVENT
DTSTART;VALUE=DATE:20231218
DTEND;VALUE=DATE:20231224
DTSTAMP:20260422T081002
CREATED:20220307T150337Z
LAST-MODIFIED:20221222T213142Z
UID:7394-1702857600-1703375999@calendarioacademico.libertadores.edu.co
SUMMARY:Inicio y terminación de cursos intersemestrales(1)-S2Pr
DESCRIPTION:
URL:https://calendarioacademico.libertadores.edu.co/event/inicio-y-terminacion-de-cursos-intersemestrales-1-s2pr/
LOCATION:Fundación Universitaria Los Libertadores\, Carrera 16 # 63 A - 68\, Bogotá D.C.\, 110011\, Colombia
CATEGORIES:Cursos Intersemestrales II
ORGANIZER;CN="Fundaci%C3%B3n Universitaria Los Libertadores":MAILTO:infopresencial@libertadores.edu.co
END:VEVENT
BEGIN:VEVENT
DTSTART;VALUE=DATE:20231218
DTEND;VALUE=DATE:20231224
DTSTAMP:20260422T081002
CREATED:20220228T193548Z
LAST-MODIFIED:20221223T145603Z
UID:6622-1702857600-1703375999@calendarioacademico.libertadores.edu.co
SUMMARY:Práctica Intersemestral-S2Pr
DESCRIPTION:Entre el 18 de diciembre de 2022 y 9 de enero se suspende la práctica.
URL:https://calendarioacademico.libertadores.edu.co/event/practica-intersemestral-s2pr/
LOCATION:Fundación Universitaria Los Libertadores\, Carrera 16 # 63 A - 68\, Bogotá D.C.\, 110011\, Colombia
CATEGORIES:Prácticas II
ORGANIZER;CN="Fundaci%C3%B3n Universitaria Los Libertadores Bogot%C3%A1-Cartagena":MAILTO:fullatencion@libertadores.edu.co
END:VEVENT
BEGIN:VEVENT
DTSTART;VALUE=DATE:20231215
DTEND;VALUE=DATE:20240810
DTSTAMP:20260422T081002
CREATED:20231215T214245Z
LAST-MODIFIED:20231215T214245Z
UID:8204-1702598400-1723247999@calendarioacademico.libertadores.edu.co
SUMMARY:Fecha límite de pago – Coterminales semestrales II
DESCRIPTION:
URL:https://calendarioacademico.libertadores.edu.co/event/fecha-limite-de-pago-coterminales-semestrales-ii-2/
LOCATION:Bogotá D.C.
CATEGORIES:Coterminales Semestrales II
END:VEVENT
BEGIN:VEVENT
DTSTART;VALUE=DATE:20231215
DTEND;VALUE=DATE:20231219
DTSTAMP:20260422T081002
CREATED:20231120T202448Z
LAST-MODIFIED:20231120T202448Z
UID:8048-1702598400-1702943999@calendarioacademico.libertadores.edu.co
SUMMARY:Inscripción práctica - Fac.  Ciencias Humanas y Sociales y Fac. de Ingeniería y Ciencias Básicas - S1Pr
DESCRIPTION:
URL:https://calendarioacademico.libertadores.edu.co/event/inscripcion-practica-fac-ciencias-humanas-y-sociales-y-fac-de-ingenieria-y-ciencias-basicas-s1pr-2/
LOCATION:Bogotá D.C.
CATEGORIES:Prácticas I
END:VEVENT
BEGIN:VEVENT
DTSTART;VALUE=DATE:20231215
DTEND;VALUE=DATE:20231216
DTSTAMP:20260422T081002
CREATED:20231116T171913Z
LAST-MODIFIED:20231116T172459Z
UID:7825-1702598400-1702684799@calendarioacademico.libertadores.edu.co
SUMMARY:Publicación de recibos Fac. Ciencias de la Comunicación\, Derecho y Ciencias Políticas - S1Pr
DESCRIPTION:Descarga tu recibo aquí . \nConoce como hacerlo en el tutorial de pagos.
URL:https://calendarioacademico.libertadores.edu.co/event/publicacion-recibos-facultades-de-ciencias-de-la-comunicacion-derecho-y-ciencias-politicas-s1pr-2/
LOCATION:Bogotá D.C.
CATEGORIES:Matricula estudiantes antiguos I
END:VEVENT
BEGIN:VEVENT
DTSTART;VALUE=DATE:20231215
DTEND;VALUE=DATE:20231227
DTSTAMP:20260422T081002
CREATED:20231116T163855Z
LAST-MODIFIED:20231116T164231Z
UID:7811-1702598400-1703635199@calendarioacademico.libertadores.edu.co
SUMMARY:Pronto pago Fac. Ciencias de la Comunicación\, Derecho y Ciencias Políticas - S1Pr
DESCRIPTION:Descarga tu recibo aquí . \nConoce como hacerlo en el tutorial de pagos.
URL:https://calendarioacademico.libertadores.edu.co/event/pago-pronto-pago-facultades-de-ciencias-de-la-comunicacion-derecho-y-ciencias-politicas-s1pr-2/
LOCATION:Bogotá D.C.
CATEGORIES:Matricula estudiantes antiguos I
END:VEVENT
BEGIN:VEVENT
DTSTART;VALUE=DATE:20231215
DTEND;VALUE=DATE:20231219
DTSTAMP:20260422T081002
CREATED:20231116T144649Z
LAST-MODIFIED:20231116T144649Z
UID:7785-1702598400-1702943999@calendarioacademico.libertadores.edu.co
SUMMARY:Selección de horarios Facultades de: Ingeniería y Ciencias Básicas\, Ciencias Humanas y Sociales-S1Pr
DESCRIPTION:Inscribe tus espacios académicos aquí \nConoce como hacerlo en el tutorial de inscripción de espacios aquí 
URL:https://calendarioacademico.libertadores.edu.co/event/seleccion-de-horarios-facultades-de-ingenieria-y-ciencias-basicas-ciencias-humanas-y-sociales-s1pr-2/
LOCATION:Fundación Universitaria Los Libertadores\, Carrera 16 # 63 A - 68\, Bogotá D.C.\, 110011\, Colombia
CATEGORIES:Matricula estudiantes antiguos I
END:VEVENT
BEGIN:VEVENT
DTSTART;VALUE=DATE:20231213
DTEND;VALUE=DATE:20231216
DTSTAMP:20260422T081002
CREATED:20231120T201721Z
LAST-MODIFIED:20231120T202140Z
UID:8050-1702425600-1702684799@calendarioacademico.libertadores.edu.co
SUMMARY:Inscripción práctica - Fac. Psicología\, Ciencias Económicas\, Administrativas y Contables -S1Pr
DESCRIPTION:
URL:https://calendarioacademico.libertadores.edu.co/event/inscripcion-practica-fac-ciencias-economicas-administrativas-y-contables-s1pr-2/
LOCATION:Bogotá D.C.
CATEGORIES:Prácticas I
END:VEVENT
BEGIN:VEVENT
DTSTART;VALUE=DATE:20231213
DTEND;VALUE=DATE:20231216
DTSTAMP:20260422T081002
CREATED:20231116T144443Z
LAST-MODIFIED:20231116T144443Z
UID:7788-1702425600-1702684799@calendarioacademico.libertadores.edu.co
SUMMARY:Selección de horarios Facultades de Psicología y Ciencias  Económicas\, Administrativas y Contables - S1Pr
DESCRIPTION:Inscribe tus espacios académicos aquí. \nConoce como hacerlo en el tutorial de inscripción de espacios.
URL:https://calendarioacademico.libertadores.edu.co/event/seleccion-de-horarios-facultades-de-psicologia-y-ciencias-economicas-administrativas-y-contables-s1pr-2/
LOCATION:Fundación Universitaria Los Libertadores\, Carrera 16 # 63 A - 68\, Bogotá D.C.\, 110011\, Colombia
CATEGORIES:Matricula estudiantes antiguos I
END:VEVENT
BEGIN:VEVENT
DTSTART;VALUE=DATE:20231213
DTEND;VALUE=DATE:20231214
DTSTAMP:20260422T081002
CREATED:20221222T211851Z
LAST-MODIFIED:20221222T211851Z
UID:7534-1702425600-1702511999@calendarioacademico.libertadores.edu.co
SUMMARY:Publicación de recibos de cursos intersemestrales en el portal WEB institucional-S1Pr
DESCRIPTION:
URL:https://calendarioacademico.libertadores.edu.co/event/publicacion-de-recibos-de-cursos-intersemestrales-en-el-portal-web-institucional-s1pr/
LOCATION:Fundación Universitaria Los Libertadores\, Carrera 16 # 63 A - 68\, Bogotá D.C.\, 110011\, Colombia
CATEGORIES:Cursos Intersemestrales II
ORGANIZER;CN="Fundaci%C3%B3n Universitaria Los Libertadores":MAILTO:infopresencial@libertadores.edu.co
END:VEVENT
BEGIN:VEVENT
DTSTART;VALUE=DATE:20231213
DTEND;VALUE=DATE:20231218
DTSTAMP:20260422T081002
CREATED:20220307T150107Z
LAST-MODIFIED:20221222T212826Z
UID:7392-1702425600-1702857599@calendarioacademico.libertadores.edu.co
SUMMARY:Pago cursos intersemestrales-S2Pr
DESCRIPTION:Descarga tu recibo aquí \nConoce como hacerlo en el tutorial de pagos 
URL:https://calendarioacademico.libertadores.edu.co/event/pago-cursos-intersemestrales-s2pr/
LOCATION:Fundación Universitaria Los Libertadores\, Carrera 16 # 63 A - 68\, Bogotá D.C.\, 110011\, Colombia
CATEGORIES:Cursos Intersemestrales II
ORGANIZER;CN="Fundaci%C3%B3n Universitaria Los Libertadores":MAILTO:infopresencial@libertadores.edu.co
END:VEVENT
BEGIN:VEVENT
DTSTART;VALUE=DATE:20231211
DTEND;VALUE=DATE:20240121
DTSTAMP:20260422T081002
CREATED:20231215T222051Z
LAST-MODIFIED:20231215T222051Z
UID:8230-1702252800-1705795199@calendarioacademico.libertadores.edu.co
SUMMARY:Solicitud de órdenes de pago a Admisiones y Registro coterminales trimestrales I - corte 1
DESCRIPTION:
URL:https://calendarioacademico.libertadores.edu.co/event/solicitud-de-ordenes-de-pago-a-admisiones-y-registro-coterminales-trimestrales-1-corte-1-2/
LOCATION:Bogotá D.C.
CATEGORIES:Coterminales Trimestrales I
END:VEVENT
BEGIN:VEVENT
DTSTART;VALUE=DATE:20231211
DTEND;VALUE=DATE:20240213
DTSTAMP:20260422T081002
CREATED:20231120T223749Z
LAST-MODIFIED:20231120T223749Z
UID:8192-1702252800-1707782399@calendarioacademico.libertadores.edu.co
SUMMARY:Solicitud de órdenes de pago a Admisiones y Registro - Coterminales semestrales I
DESCRIPTION:
URL:https://calendarioacademico.libertadores.edu.co/event/solicitud-de-ordenes-de-pago-a-admisiones-y-registro-coterminales-semestrales-pregrado-2/
LOCATION:Bogotá D.C.
CATEGORIES:Coterminales Semestrales I
END:VEVENT
BEGIN:VEVENT
DTSTART;VALUE=DATE:20231211
DTEND;VALUE=DATE:20231214
DTSTAMP:20260422T081002
CREATED:20231120T201939Z
LAST-MODIFIED:20231120T201939Z
UID:8047-1702252800-1702511999@calendarioacademico.libertadores.edu.co
SUMMARY:Inscripción práctica - Fac. Ciencias de la Comunicación y Fac. Derecho\, Ciencias Políticas y Relaciones Internacionales -S1Pr
DESCRIPTION:
URL:https://calendarioacademico.libertadores.edu.co/event/inscripcion-practica-fac-ciencias-de-la-comunicacion-y-fac-derecho-ciencias-politicas-y-relaciones-internacionales-s1pr-2/
LOCATION:Bogotá D.C.
CATEGORIES:Prácticas I
END:VEVENT
BEGIN:VEVENT
DTSTART;VALUE=DATE:20231211
DTEND;VALUE=DATE:20240305
DTSTAMP:20260422T081002
CREATED:20231120T174143Z
LAST-MODIFIED:20231120T174143Z
UID:8006-1702252800-1709596799@calendarioacademico.libertadores.edu.co
SUMMARY:Pago de seminario de grado S1Pr
DESCRIPTION:Descarga tu recibo aquí
URL:https://calendarioacademico.libertadores.edu.co/event/pago-de-seminario-de-grado-regular-1-2/
LOCATION:Bogotá D.C.
CATEGORIES:Seminarios de Grado periodo regular I
END:VEVENT
BEGIN:VEVENT
DTSTART;VALUE=DATE:20231211
DTEND;VALUE=DATE:20240229
DTSTAMP:20260422T081002
CREATED:20231120T173225Z
LAST-MODIFIED:20231120T173421Z
UID:7991-1702252800-1709164799@calendarioacademico.libertadores.edu.co
SUMMARY:Inscripción y publicación de orden de pago seminario de grado regular - S1Pr
DESCRIPTION:Descarga tu recibo aquí
URL:https://calendarioacademico.libertadores.edu.co/event/inscripcion-y-publicacion-de-orden-de-pago-s1pr-2/
LOCATION:Bogotá D.C.
CATEGORIES:Seminarios de Grado periodo regular I
END:VEVENT
BEGIN:VEVENT
DTSTART;VALUE=DATE:20231211
DTEND;VALUE=DATE:20231214
DTSTAMP:20260422T081002
CREATED:20231116T144146Z
LAST-MODIFIED:20231116T144146Z
UID:7790-1702252800-1702511999@calendarioacademico.libertadores.edu.co
SUMMARY:Selección de horarios Facultades de: Ciencias de la Comunicación\, Derecho y Ciencias Políticas - S1Pr
DESCRIPTION:Inscribe tus espacios académicos aquí. \nConoce como hacerlo en el tutorial de inscripción de espacios.
URL:https://calendarioacademico.libertadores.edu.co/event/seleccion-de-horarios-facultades-de-ciencias-de-la-comunicacion-derecho-y-ciencias-politicas-s1pr-2/
LOCATION:Fundación Universitaria Los Libertadores\, Carrera 16 # 63 A - 68\, Bogotá D.C.\, 110011\, Colombia
CATEGORIES:Matricula estudiantes antiguos I
END:VEVENT
BEGIN:VEVENT
DTSTART;VALUE=DATE:20231211
DTEND;VALUE=DATE:20231213
DTSTAMP:20260422T081002
CREATED:20220302T181834Z
LAST-MODIFIED:20221222T205113Z
UID:7193-1702252800-1702425599@calendarioacademico.libertadores.edu.co
SUMMARY:Novedades de notas definitivas-S2Pr
DESCRIPTION:
URL:https://calendarioacademico.libertadores.edu.co/event/novedades-de-notas-definitivas-s2pr/
LOCATION:Fundación Universitaria Los Libertadores\, Carrera 16 # 63 A - 68\, Bogotá D.C.\, 110011\, Colombia
CATEGORIES:Periodo Académico II
ORGANIZER;CN="Fundaci%C3%B3n Universitaria Los Libertadores":MAILTO:infopresencial@libertadores.edu.co
END:VEVENT
BEGIN:VEVENT
DTSTART;VALUE=DATE:20231211
DTEND;VALUE=DATE:20240110
DTSTAMP:20260422T081002
CREATED:20220228T162717Z
LAST-MODIFIED:20221227T173034Z
UID:6573-1702252800-1704844799@calendarioacademico.libertadores.edu.co
SUMMARY:Pago de seminario de grado intersemestral-S2Pr
DESCRIPTION:Realiza tu pago aquí \nTutorial de pagos en https://www.youtube.com/watch?v=nib9jmpiEuY
URL:https://calendarioacademico.libertadores.edu.co/event/pago-de-seminario-de-grado-intersemestral-s2pr/
LOCATION:Fundación Universitaria Los Libertadores\, Carrera 16 # 63 A - 68\, Bogotá D.C.\, 110011\, Colombia
CATEGORIES:Seminarios de Grado Periodo Intersemestral II
ORGANIZER;CN="Fundaci%C3%B3n Universitaria Los Libertadores Bogot%C3%A1-Cartagena":MAILTO:fullatencion@libertadores.edu.co
END:VEVENT
END:VCALENDAR