BEGIN:VCALENDAR
VERSION:2.0
PRODID:-//Calendario Acad&eacute;mico - ECPv6.15.13.1//NONSGML v1.0//EN
CALSCALE:GREGORIAN
METHOD:PUBLISH
X-WR-CALNAME:Calendario Acad&eacute;mico
X-ORIGINAL-URL:https://calendarioacademico.libertadores.edu.co
X-WR-CALDESC:Eventos para Calendario Acad&eacute;mico
REFRESH-INTERVAL;VALUE=DURATION:PT1H
X-Robots-Tag:noindex
X-PUBLISHED-TTL:PT1H
BEGIN:VTIMEZONE
TZID:UTC
BEGIN:STANDARD
TZOFFSETFROM:+0000
TZOFFSETTO:+0000
TZNAME:UTC
DTSTART:20220101T000000
END:STANDARD
END:VTIMEZONE
BEGIN:VTIMEZONE
TZID:America/New_York
BEGIN:DAYLIGHT
TZOFFSETFROM:-0500
TZOFFSETTO:-0400
TZNAME:EDT
DTSTART:20220313T070000
END:DAYLIGHT
BEGIN:STANDARD
TZOFFSETFROM:-0400
TZOFFSETTO:-0500
TZNAME:EST
DTSTART:20221106T060000
END:STANDARD
BEGIN:DAYLIGHT
TZOFFSETFROM:-0500
TZOFFSETTO:-0400
TZNAME:EDT
DTSTART:20230312T070000
END:DAYLIGHT
BEGIN:STANDARD
TZOFFSETFROM:-0400
TZOFFSETTO:-0500
TZNAME:EST
DTSTART:20231105T060000
END:STANDARD
BEGIN:DAYLIGHT
TZOFFSETFROM:-0500
TZOFFSETTO:-0400
TZNAME:EDT
DTSTART:20240310T070000
END:DAYLIGHT
BEGIN:STANDARD
TZOFFSETFROM:-0400
TZOFFSETTO:-0500
TZNAME:EST
DTSTART:20241103T060000
END:STANDARD
BEGIN:DAYLIGHT
TZOFFSETFROM:-0500
TZOFFSETTO:-0400
TZNAME:EDT
DTSTART:20250309T070000
END:DAYLIGHT
BEGIN:STANDARD
TZOFFSETFROM:-0400
TZOFFSETTO:-0500
TZNAME:EST
DTSTART:20251102T060000
END:STANDARD
END:VTIMEZONE
BEGIN:VEVENT
DTSTART;VALUE=DATE:20231213
DTEND;VALUE=DATE:20231214
DTSTAMP:20260422T113416
CREATED:20221222T211851Z
LAST-MODIFIED:20221222T211851Z
UID:7534-1702425600-1702511999@calendarioacademico.libertadores.edu.co
SUMMARY:Publicación de recibos de cursos intersemestrales en el portal WEB institucional-S1Pr
DESCRIPTION:
URL:https://calendarioacademico.libertadores.edu.co/event/publicacion-de-recibos-de-cursos-intersemestrales-en-el-portal-web-institucional-s1pr/
LOCATION:Fundación Universitaria Los Libertadores\, Carrera 16 # 63 A - 68\, Bogotá D.C.\, 110011\, Colombia
CATEGORIES:Cursos Intersemestrales II
ORGANIZER;CN="Fundaci%C3%B3n Universitaria Los Libertadores":MAILTO:infopresencial@libertadores.edu.co
END:VEVENT
BEGIN:VEVENT
DTSTART;VALUE=DATE:20231213
DTEND;VALUE=DATE:20231218
DTSTAMP:20260422T113416
CREATED:20220307T150107Z
LAST-MODIFIED:20221222T212826Z
UID:7392-1702425600-1702857599@calendarioacademico.libertadores.edu.co
SUMMARY:Pago cursos intersemestrales-S2Pr
DESCRIPTION:Descarga tu recibo aquí \nConoce como hacerlo en el tutorial de pagos 
URL:https://calendarioacademico.libertadores.edu.co/event/pago-cursos-intersemestrales-s2pr/
LOCATION:Fundación Universitaria Los Libertadores\, Carrera 16 # 63 A - 68\, Bogotá D.C.\, 110011\, Colombia
CATEGORIES:Cursos Intersemestrales II
ORGANIZER;CN="Fundaci%C3%B3n Universitaria Los Libertadores":MAILTO:infopresencial@libertadores.edu.co
END:VEVENT
BEGIN:VEVENT
DTSTART;VALUE=DATE:20231211
DTEND;VALUE=DATE:20240121
DTSTAMP:20260422T113416
CREATED:20231215T222051Z
LAST-MODIFIED:20231215T222051Z
UID:8230-1702252800-1705795199@calendarioacademico.libertadores.edu.co
SUMMARY:Solicitud de órdenes de pago a Admisiones y Registro coterminales trimestrales I - corte 1
DESCRIPTION:
URL:https://calendarioacademico.libertadores.edu.co/event/solicitud-de-ordenes-de-pago-a-admisiones-y-registro-coterminales-trimestrales-1-corte-1-2/
LOCATION:Bogotá D.C.
CATEGORIES:Coterminales Trimestrales I
END:VEVENT
BEGIN:VEVENT
DTSTART;VALUE=DATE:20231211
DTEND;VALUE=DATE:20240213
DTSTAMP:20260422T113416
CREATED:20231120T223749Z
LAST-MODIFIED:20231120T223749Z
UID:8192-1702252800-1707782399@calendarioacademico.libertadores.edu.co
SUMMARY:Solicitud de órdenes de pago a Admisiones y Registro - Coterminales semestrales I
DESCRIPTION:
URL:https://calendarioacademico.libertadores.edu.co/event/solicitud-de-ordenes-de-pago-a-admisiones-y-registro-coterminales-semestrales-pregrado-2/
LOCATION:Bogotá D.C.
CATEGORIES:Coterminales Semestrales I
END:VEVENT
BEGIN:VEVENT
DTSTART;VALUE=DATE:20231211
DTEND;VALUE=DATE:20231214
DTSTAMP:20260422T113416
CREATED:20231120T201939Z
LAST-MODIFIED:20231120T201939Z
UID:8047-1702252800-1702511999@calendarioacademico.libertadores.edu.co
SUMMARY:Inscripción práctica - Fac. Ciencias de la Comunicación y Fac. Derecho\, Ciencias Políticas y Relaciones Internacionales -S1Pr
DESCRIPTION:
URL:https://calendarioacademico.libertadores.edu.co/event/inscripcion-practica-fac-ciencias-de-la-comunicacion-y-fac-derecho-ciencias-politicas-y-relaciones-internacionales-s1pr-2/
LOCATION:Bogotá D.C.
CATEGORIES:Prácticas I
END:VEVENT
BEGIN:VEVENT
DTSTART;VALUE=DATE:20231211
DTEND;VALUE=DATE:20240305
DTSTAMP:20260422T113416
CREATED:20231120T174143Z
LAST-MODIFIED:20231120T174143Z
UID:8006-1702252800-1709596799@calendarioacademico.libertadores.edu.co
SUMMARY:Pago de seminario de grado S1Pr
DESCRIPTION:Descarga tu recibo aquí
URL:https://calendarioacademico.libertadores.edu.co/event/pago-de-seminario-de-grado-regular-1-2/
LOCATION:Bogotá D.C.
CATEGORIES:Seminarios de Grado periodo regular I
END:VEVENT
BEGIN:VEVENT
DTSTART;VALUE=DATE:20231211
DTEND;VALUE=DATE:20240229
DTSTAMP:20260422T113416
CREATED:20231120T173225Z
LAST-MODIFIED:20231120T173421Z
UID:7991-1702252800-1709164799@calendarioacademico.libertadores.edu.co
SUMMARY:Inscripción y publicación de orden de pago seminario de grado regular - S1Pr
DESCRIPTION:Descarga tu recibo aquí
URL:https://calendarioacademico.libertadores.edu.co/event/inscripcion-y-publicacion-de-orden-de-pago-s1pr-2/
LOCATION:Bogotá D.C.
CATEGORIES:Seminarios de Grado periodo regular I
END:VEVENT
BEGIN:VEVENT
DTSTART;VALUE=DATE:20231211
DTEND;VALUE=DATE:20231214
DTSTAMP:20260422T113416
CREATED:20231116T144146Z
LAST-MODIFIED:20231116T144146Z
UID:7790-1702252800-1702511999@calendarioacademico.libertadores.edu.co
SUMMARY:Selección de horarios Facultades de: Ciencias de la Comunicación\, Derecho y Ciencias Políticas - S1Pr
DESCRIPTION:Inscribe tus espacios académicos aquí. \nConoce como hacerlo en el tutorial de inscripción de espacios.
URL:https://calendarioacademico.libertadores.edu.co/event/seleccion-de-horarios-facultades-de-ciencias-de-la-comunicacion-derecho-y-ciencias-politicas-s1pr-2/
LOCATION:Fundación Universitaria Los Libertadores\, Carrera 16 # 63 A - 68\, Bogotá D.C.\, 110011\, Colombia
CATEGORIES:Matricula estudiantes antiguos I
END:VEVENT
BEGIN:VEVENT
DTSTART;VALUE=DATE:20231211
DTEND;VALUE=DATE:20231213
DTSTAMP:20260422T113416
CREATED:20220302T181834Z
LAST-MODIFIED:20221222T205113Z
UID:7193-1702252800-1702425599@calendarioacademico.libertadores.edu.co
SUMMARY:Novedades de notas definitivas-S2Pr
DESCRIPTION:
URL:https://calendarioacademico.libertadores.edu.co/event/novedades-de-notas-definitivas-s2pr/
LOCATION:Fundación Universitaria Los Libertadores\, Carrera 16 # 63 A - 68\, Bogotá D.C.\, 110011\, Colombia
CATEGORIES:Periodo Académico II
ORGANIZER;CN="Fundaci%C3%B3n Universitaria Los Libertadores":MAILTO:infopresencial@libertadores.edu.co
END:VEVENT
BEGIN:VEVENT
DTSTART;VALUE=DATE:20231211
DTEND;VALUE=DATE:20240110
DTSTAMP:20260422T113416
CREATED:20220228T162717Z
LAST-MODIFIED:20221227T173034Z
UID:6573-1702252800-1704844799@calendarioacademico.libertadores.edu.co
SUMMARY:Pago de seminario de grado intersemestral-S2Pr
DESCRIPTION:Realiza tu pago aquí \nTutorial de pagos en https://www.youtube.com/watch?v=nib9jmpiEuY
URL:https://calendarioacademico.libertadores.edu.co/event/pago-de-seminario-de-grado-intersemestral-s2pr/
LOCATION:Fundación Universitaria Los Libertadores\, Carrera 16 # 63 A - 68\, Bogotá D.C.\, 110011\, Colombia
CATEGORIES:Seminarios de Grado Periodo Intersemestral II
ORGANIZER;CN="Fundaci%C3%B3n Universitaria Los Libertadores Bogot%C3%A1-Cartagena":MAILTO:fullatencion@libertadores.edu.co
END:VEVENT
BEGIN:VEVENT
DTSTART;VALUE=DATE:20231211
DTEND;VALUE=DATE:20240106
DTSTAMP:20260422T113416
CREATED:20220228T162342Z
LAST-MODIFIED:20221223T142837Z
UID:6571-1702252800-1704499199@calendarioacademico.libertadores.edu.co
SUMMARY:Pago de seminario de grado
DESCRIPTION:
URL:https://calendarioacademico.libertadores.edu.co/event/inscripcion-y-publicacion-de-orden-de-pago-seminario-de-grado-intersemestral-s2pr/
LOCATION:Fundación Universitaria Los Libertadores\, Carrera 16 # 63 A - 68\, Bogotá D.C.\, 110011\, Colombia
CATEGORIES:Seminarios de Grado Periodo Intersemestral II
ORGANIZER;CN="Fundaci%C3%B3n Universitaria Los Libertadores":MAILTO:infopresencial@libertadores.edu.co
END:VEVENT
BEGIN:VEVENT
DTSTART;VALUE=DATE:20231208
DTEND;VALUE=DATE:20231213
DTSTAMP:20260422T113416
CREATED:20220307T145744Z
LAST-MODIFIED:20221222T211513Z
UID:7388-1701993600-1702425599@calendarioacademico.libertadores.edu.co
SUMMARY:Inscripciones a cursos intersemestrales-S2Pr
DESCRIPTION:
URL:https://calendarioacademico.libertadores.edu.co/event/inscripciones-a-cursos-intersemestrales-s2pr-2/
LOCATION:Fundación Universitaria Los Libertadores\, Carrera 16 # 63 A - 68\, Bogotá D.C.\, 110011\, Colombia
CATEGORIES:Cursos Intersemestrales II
ORGANIZER;CN="Fundaci%C3%B3n Universitaria Los Libertadores":MAILTO:infopresencial@libertadores.edu.co
END:VEVENT
BEGIN:VEVENT
DTSTART;VALUE=DATE:20231208
DTEND;VALUE=DATE:20231209
DTSTAMP:20260422T113416
CREATED:20220302T182214Z
LAST-MODIFIED:20221222T205313Z
UID:7195-1701993600-1702079999@calendarioacademico.libertadores.edu.co
SUMMARY:Publicación de calificaciones
DESCRIPTION:
URL:https://calendarioacademico.libertadores.edu.co/event/novedades-de-notas-definitivas-s2pr-2/
LOCATION:Fundación Universitaria Los Libertadores\, Carrera 16 # 63 A - 68\, Bogotá D.C.\, 110011\, Colombia
CATEGORIES:Periodo Académico II
ORGANIZER;CN="Fundaci%C3%B3n Universitaria Los Libertadores Bogot%C3%A1-Cartagena":MAILTO:fullatencion@libertadores.edu.co
END:VEVENT
BEGIN:VEVENT
DTSTART;VALUE=DATE:20231208
DTEND;VALUE=DATE:20231213
DTSTAMP:20260422T113416
CREATED:20220228T192422Z
LAST-MODIFIED:20221223T145340Z
UID:6620-1701993600-1702425599@calendarioacademico.libertadores.edu.co
SUMMARY:Inscripción y matricula práctica intersemestral-S2Pr
DESCRIPTION:
URL:https://calendarioacademico.libertadores.edu.co/event/inscripcion-y-matricula-practica-intersemestral-s2pr/
LOCATION:Fundación Universitaria Los Libertadores\, Carrera 16 # 63 A - 68\, Bogotá D.C.\, 110011\, Colombia
CATEGORIES:Prácticas II
ORGANIZER;CN="Fundaci%C3%B3n Universitaria Los Libertadores Bogot%C3%A1-Cartagena":MAILTO:fullatencion@libertadores.edu.co
END:VEVENT
BEGIN:VEVENT
DTSTART;VALUE=DATE:20231207
DTEND;VALUE=DATE:20231208
DTSTAMP:20260422T113416
CREATED:20220302T181658Z
LAST-MODIFIED:20221222T204916Z
UID:7191-1701907200-1701993599@calendarioacademico.libertadores.edu.co
SUMMARY:Cierre de periodo académico-S2Pr
DESCRIPTION:
URL:https://calendarioacademico.libertadores.edu.co/event/cierre-de-periodo-academico-s2pr/
LOCATION:Fundación Universitaria Los Libertadores\, Carrera 16 # 63 A - 68\, Bogotá D.C.\, 110011\, Colombia
CATEGORIES:Periodo Académico II
ORGANIZER;CN="Fundaci%C3%B3n Universitaria Los Libertadores":MAILTO:infopresencial@libertadores.edu.co
END:VEVENT
BEGIN:VEVENT
DTSTART;VALUE=DATE:20231206
DTEND;VALUE=DATE:20231207
DTSTAMP:20260422T113416
CREATED:20220307T145228Z
LAST-MODIFIED:20221222T211304Z
UID:7383-1701820800-1701907199@calendarioacademico.libertadores.edu.co
SUMMARY:Creación y Confirmación de grupos en SAI y entrega de relación a la Dirección de Admisiones y Registro-S2Pr
DESCRIPTION:
URL:https://calendarioacademico.libertadores.edu.co/event/creacion-y-confirmacion-de-grupos-en-sai-y-entrega-de-relacion-a-la-direccion-de-admisiones-y-registro-s2pr/
LOCATION:Fundación Universitaria Los Libertadores\, Carrera 16 # 63 A - 68\, Bogotá D.C.\, 110011\, Colombia
CATEGORIES:Cursos Intersemestrales II
ORGANIZER;CN="Fundaci%C3%B3n Universitaria Los Libertadores":MAILTO:infopresencial@libertadores.edu.co
END:VEVENT
BEGIN:VEVENT
DTSTART;VALUE=DATE:20231205
DTEND;VALUE=DATE:20231207
DTSTAMP:20260422T113416
CREATED:20221222T204329Z
LAST-MODIFIED:20231205T165929Z
UID:7528-1701734400-1701907199@calendarioacademico.libertadores.edu.co
SUMMARY:Tercera Entrega de novedades – S2Pr
DESCRIPTION:
URL:https://calendarioacademico.libertadores.edu.co/event/tercera-entrega-de-novedades-s2pr/
LOCATION:Fundación Universitaria Los Libertadores\, Carrera 16 # 63 A - 68\, Bogotá D.C.\, 110011\, Colombia
CATEGORIES:Periodo Académico II
ORGANIZER;CN="Fundaci%C3%B3n Universitaria Los Libertadores":MAILTO:infopresencial@libertadores.edu.co
END:VEVENT
BEGIN:VEVENT
DTSTART;VALUE=DATE:20231204
DTEND;VALUE=DATE:20240121
DTSTAMP:20260422T113416
CREATED:20231215T221641Z
LAST-MODIFIED:20231215T221641Z
UID:8222-1701648000-1705795199@calendarioacademico.libertadores.edu.co
SUMMARY:Revisión de historias académicas coterminales trimestrales I - corte 1
DESCRIPTION:
URL:https://calendarioacademico.libertadores.edu.co/event/revision-de-historias-academicas-coterminares-trimestrales-1-corte-1-2/
LOCATION:Bogotá D.C.
CATEGORIES:Coterminales Trimestrales I
END:VEVENT
BEGIN:VEVENT
DTSTART;VALUE=DATE:20231204
DTEND;VALUE=DATE:20240121
DTSTAMP:20260422T113416
CREATED:20231215T221122Z
LAST-MODIFIED:20231215T221122Z
UID:8185-1701648000-1705795199@calendarioacademico.libertadores.edu.co
SUMMARY:Inscripción coterminales trimestrales I - corte 1
DESCRIPTION:
URL:https://calendarioacademico.libertadores.edu.co/event/inscripcion-coterminales-trimestrales-1-corte-1-2/
LOCATION:Bogotá D.C.
CATEGORIES:Coterminales Trimestrales I
END:VEVENT
BEGIN:VEVENT
DTSTART;VALUE=DATE:20231204
DTEND;VALUE=DATE:20240213
DTSTAMP:20260422T113416
CREATED:20231120T223507Z
LAST-MODIFIED:20231120T223507Z
UID:8188-1701648000-1707782399@calendarioacademico.libertadores.edu.co
SUMMARY:Revisión de historias académicas - Coterminales semestrales I
DESCRIPTION:
URL:https://calendarioacademico.libertadores.edu.co/event/revision-de-historias-academicas-coterminales-semestrales-1-2/
LOCATION:Bogotá D.C.
CATEGORIES:Coterminales Semestrales I
END:VEVENT
BEGIN:VEVENT
DTSTART;VALUE=DATE:20231204
DTEND;VALUE=DATE:20240213
DTSTAMP:20260422T113416
CREATED:20231120T223204Z
LAST-MODIFIED:20231120T223204Z
UID:8183-1701648000-1707782399@calendarioacademico.libertadores.edu.co
SUMMARY:Inscripción coterminales semestrales 2023-1
DESCRIPTION:
URL:https://calendarioacademico.libertadores.edu.co/event/inscripcion-coterminales-semestrales-2023-1-2/
LOCATION:Bogotá D.C.
CATEGORIES:Coterminales Semestrales I
END:VEVENT
BEGIN:VEVENT
DTSTART;VALUE=DATE:20231201
DTEND;VALUE=DATE:20231202
DTSTAMP:20260422T113416
CREATED:20220302T172427Z
LAST-MODIFIED:20221226T203636Z
UID:7109-1701388800-1701475199@calendarioacademico.libertadores.edu.co
SUMMARY:Digitación de calificaciones preparatorios II - corte3
DESCRIPTION:
URL:https://calendarioacademico.libertadores.edu.co/event/digitacion-de-calificaciones-preparatorios-2-corte-3/
LOCATION:Fundación Universitaria Los Libertadores\, Carrera 16 # 63 A - 68\, Bogotá D.C.\, 110011\, Colombia
CATEGORIES:Preparatorios II
ORGANIZER;CN="Fundaci%C3%B3n Universitaria Los Libertadores Bogot%C3%A1-Cartagena":MAILTO:fullatencion@libertadores.edu.co
END:VEVENT
BEGIN:VEVENT
DTSTART;VALUE=DATE:20231129
DTEND;VALUE=DATE:20231130
DTSTAMP:20260422T113416
CREATED:20220302T170527Z
LAST-MODIFIED:20221226T195732Z
UID:7094-1701216000-1701302399@calendarioacademico.libertadores.edu.co
SUMMARY:Presentación  preparatorios II - corte 3
DESCRIPTION:
URL:https://calendarioacademico.libertadores.edu.co/event/presentacion-preparatorios-2-corte/
LOCATION:Fundación Universitaria Los Libertadores\, Carrera 16 # 63 A - 68\, Bogotá D.C.\, 110011\, Colombia
CATEGORIES:Preparatorios II
ORGANIZER;CN="Fundaci%C3%B3n Universitaria Los Libertadores Bogot%C3%A1-Cartagena":MAILTO:fullatencion@libertadores.edu.co
END:VEVENT
BEGIN:VEVENT
DTSTART;VALUE=DATE:20231128
DTEND;VALUE=DATE:20231205
DTSTAMP:20260422T113416
CREATED:20221222T202730Z
LAST-MODIFIED:20231205T165826Z
UID:7525-1701129600-1701734399@calendarioacademico.libertadores.edu.co
SUMMARY:Tercera digitación de calificaciones -S2Pr
DESCRIPTION:
URL:https://calendarioacademico.libertadores.edu.co/event/tercera-digitacion-de-calificaciones-s2pr/
LOCATION:Fundación Universitaria Los Libertadores\, Carrera 16 # 63 A - 68\, Bogotá D.C.\, 110011\, Colombia
CATEGORIES:Periodo Académico II
ORGANIZER;CN="Fundaci%C3%B3n Universitaria Los Libertadores":MAILTO:infopresencial@libertadores.edu.co
END:VEVENT
BEGIN:VEVENT
DTSTART;VALUE=DATE:20231127
DTEND;VALUE=DATE:20231204
DTSTAMP:20260422T113416
CREATED:20220302T175426Z
LAST-MODIFIED:20221222T204503Z
UID:7143-1701043200-1701647999@calendarioacademico.libertadores.edu.co
SUMMARY:Examen Final-S2Pr
DESCRIPTION:
URL:https://calendarioacademico.libertadores.edu.co/event/examen-final-s2pr/
LOCATION:Fundación Universitaria Los Libertadores\, Carrera 16 # 63 A - 68\, Bogotá D.C.\, 110011\, Colombia
CATEGORIES:Periodo Académico II
ORGANIZER;CN="Fundaci%C3%B3n Universitaria Los Libertadores":MAILTO:infopresencial@libertadores.edu.co
END:VEVENT
BEGIN:VEVENT
DTSTART;VALUE=DATE:20231126
DTEND;VALUE=DATE:20231127
DTSTAMP:20260422T113416
CREATED:20220302T181202Z
LAST-MODIFIED:20221222T204745Z
UID:7189-1700956800-1701043199@calendarioacademico.libertadores.edu.co
SUMMARY:Finalización de clases (Cartagena) -S2Pr
DESCRIPTION:
URL:https://calendarioacademico.libertadores.edu.co/event/finalizacion-de-clases-cartagena-s2pr/
LOCATION:Fundación Universitaria Los Libertadores – Cartagena\, Calle 31 No. 19 - 51\, Cartagena\, Cartagena de Indias\, 130001\, Colombia
CATEGORIES:Periodo Académico II
ORGANIZER;CN="Fundaci%C3%B3n Universitaria Los Libertadores":MAILTO:infopresencial@libertadores.edu.co
END:VEVENT
BEGIN:VEVENT
DTSTART;VALUE=DATE:20231126
DTEND;VALUE=DATE:20231127
DTSTAMP:20260422T113416
CREATED:20220302T180100Z
LAST-MODIFIED:20221222T204635Z
UID:7157-1700956800-1701043199@calendarioacademico.libertadores.edu.co
SUMMARY:Finalización de clases (Bogotá) -S2Pr
DESCRIPTION:
URL:https://calendarioacademico.libertadores.edu.co/event/finalizacion-de-clases-bogota-s2pr/
LOCATION:Fundación Universitaria Los Libertadores\, Carrera 16 # 63 A - 68\, Bogotá D.C.\, 110011\, Colombia
CATEGORIES:Periodo Académico II
ORGANIZER;CN="Fundaci%C3%B3n Universitaria Los Libertadores":MAILTO:infopresencial@libertadores.edu.co
END:VEVENT
BEGIN:VEVENT
DTSTART;VALUE=DATE:20231126
DTEND;VALUE=DATE:20231128
DTSTAMP:20260422T113416
CREATED:20220302T175858Z
LAST-MODIFIED:20221222T201725Z
UID:7149-1700956800-1701129599@calendarioacademico.libertadores.edu.co
SUMMARY:Entrega de novedades-S2Pr
DESCRIPTION:
URL:https://calendarioacademico.libertadores.edu.co/event/entrega-de-novedades-s2pr-2/
LOCATION:Fundación Universitaria Los Libertadores\, Carrera 16 # 63 A - 68\, Bogotá D.C.\, 110011\, Colombia
CATEGORIES:Periodo Académico II
ORGANIZER;CN="Fundaci%C3%B3n Universitaria Los Libertadores":MAILTO:infopresencial@libertadores.edu.co
END:VEVENT
BEGIN:VEVENT
DTSTART;VALUE=DATE:20231126
DTEND;VALUE=DATE:20231127
DTSTAMP:20260422T113416
CREATED:20220228T192139Z
LAST-MODIFIED:20221223T145238Z
UID:6616-1700956800-1701043199@calendarioacademico.libertadores.edu.co
SUMMARY:Finalización de las prácticas-S2Pr
DESCRIPTION:
URL:https://calendarioacademico.libertadores.edu.co/event/finalizacion-de-las-practicas-s2pr/
LOCATION:Fundación Universitaria Los Libertadores\, Carrera 16 # 63 A - 68\, Bogotá D.C.\, 110011\, Colombia
CATEGORIES:Prácticas II
ORGANIZER;CN="Fundaci%C3%B3n Universitaria Los Libertadores Bogot%C3%A1-Cartagena":MAILTO:fullatencion@libertadores.edu.co
END:VEVENT
BEGIN:VEVENT
DTSTART;VALUE=DATE:20231122
DTEND;VALUE=DATE:20231123
DTSTAMP:20260422T113416
CREATED:20220228T195013Z
LAST-MODIFIED:20221223T150257Z
UID:6635-1700611200-1700697599@calendarioacademico.libertadores.edu.co
SUMMARY:Confirmación de grupos escuela de verano-S2Pr
DESCRIPTION:
URL:https://calendarioacademico.libertadores.edu.co/event/confirmacion-de-grupos-escuela-de-verano-s2pr/
LOCATION:Fundación Universitaria Los Libertadores\, Carrera 16 # 63 A - 68\, Bogotá D.C.\, 110011\, Colombia
CATEGORIES:Escuela de Verano / Invierno II
ORGANIZER;CN="Fundaci%C3%B3n Universitaria Los Libertadores Bogot%C3%A1-Cartagena":MAILTO:fullatencion@libertadores.edu.co
END:VEVENT
END:VCALENDAR