BEGIN:VCALENDAR
VERSION:2.0
PRODID:-//Calendario Académico - ECPv6.15.13.1//NONSGML v1.0//EN
CALSCALE:GREGORIAN
METHOD:PUBLISH
X-ORIGINAL-URL:https://calendarioacademico.libertadores.edu.co
X-WR-CALDESC:Eventos para Calendario Académico
REFRESH-INTERVAL;VALUE=DURATION:PT1H
X-Robots-Tag:noindex
X-PUBLISHED-TTL:PT1H
BEGIN:VTIMEZONE
TZID:America/New_York
BEGIN:DAYLIGHT
TZOFFSETFROM:-0500
TZOFFSETTO:-0400
TZNAME:EDT
DTSTART:20220313T070000
END:DAYLIGHT
BEGIN:STANDARD
TZOFFSETFROM:-0400
TZOFFSETTO:-0500
TZNAME:EST
DTSTART:20221106T060000
END:STANDARD
BEGIN:DAYLIGHT
TZOFFSETFROM:-0500
TZOFFSETTO:-0400
TZNAME:EDT
DTSTART:20230312T070000
END:DAYLIGHT
BEGIN:STANDARD
TZOFFSETFROM:-0400
TZOFFSETTO:-0500
TZNAME:EST
DTSTART:20231105T060000
END:STANDARD
BEGIN:DAYLIGHT
TZOFFSETFROM:-0500
TZOFFSETTO:-0400
TZNAME:EDT
DTSTART:20240310T070000
END:DAYLIGHT
BEGIN:STANDARD
TZOFFSETFROM:-0400
TZOFFSETTO:-0500
TZNAME:EST
DTSTART:20241103T060000
END:STANDARD
BEGIN:DAYLIGHT
TZOFFSETFROM:-0500
TZOFFSETTO:-0400
TZNAME:EDT
DTSTART:20250309T070000
END:DAYLIGHT
BEGIN:STANDARD
TZOFFSETFROM:-0400
TZOFFSETTO:-0500
TZNAME:EST
DTSTART:20251102T060000
END:STANDARD
END:VTIMEZONE
BEGIN:VTIMEZONE
TZID:UTC
BEGIN:STANDARD
TZOFFSETFROM:+0000
TZOFFSETTO:+0000
TZNAME:UTC
DTSTART:20220101T000000
END:STANDARD
END:VTIMEZONE
BEGIN:VEVENT
DTSTART;VALUE=DATE:20231117
DTEND;VALUE=DATE:20231118
DTSTAMP:20260422T164008
CREATED:20231116T215916Z
LAST-MODIFIED:20231116T215916Z
UID:7868-1700179200-1700265599@calendarioacademico.libertadores.edu.co
SUMMARY:Apertura y cierre de SAI para designación de grupos - S1Pr
DESCRIPTION:
URL:https://calendarioacademico.libertadores.edu.co/event/apertura-y-cierre-de-sai-para-designacion-de-grupos-s1pr-6/
LOCATION:Bogotá D.C.
CATEGORIES:Periodo Académico I
END:VEVENT
BEGIN:VEVENT
DTSTART;VALUE=DATE:20231117
DTEND;VALUE=DATE:20231125
DTSTAMP:20260422T164008
CREATED:20220302T165308Z
LAST-MODIFIED:20221226T171124Z
UID:7086-1700179200-1700870399@calendarioacademico.libertadores.edu.co
SUMMARY:Fecha de pago preparatorios II - corte 3
DESCRIPTION:Conoce como hacerlo en el tutorial de pagos. \n 
URL:https://calendarioacademico.libertadores.edu.co/event/fecha-de-pago-preparatorios-2-corte-3/
LOCATION:Fundación Universitaria Los Libertadores\, Carrera 16 # 63 A - 68\, Bogotá D.C.\, 110011\, Colombia
CATEGORIES:Preparatorios II
ORGANIZER;CN="Fundaci%C3%B3n Universitaria Los Libertadores Bogot%C3%A1-Cartagena":MAILTO:fullatencion@libertadores.edu.co
END:VEVENT
BEGIN:VEVENT
DTSTART;VALUE=DATE:20231117
DTEND;VALUE=DATE:20231118
DTSTAMP:20260422T164008
CREATED:20220302T162040Z
LAST-MODIFIED:20221226T170124Z
UID:7068-1700179200-1700265599@calendarioacademico.libertadores.edu.co
SUMMARY:Publicación de orden de pago preparatorios II - corte 3
DESCRIPTION:Conoce como hacerlo en el tutorial de pagos. \n 
URL:https://calendarioacademico.libertadores.edu.co/event/publicacion-de-orden-de-pago-preparatorios-2-corte-3/
LOCATION:Fundación Universitaria Los Libertadores\, Carrera 16 # 63 A - 68\, Bogotá D.C.\, 110011\, Colombia
CATEGORIES:Preparatorios II
ORGANIZER;CN="Fundaci%C3%B3n Universitaria Los Libertadores Bogot%C3%A1-Cartagena":MAILTO:fullatencion@libertadores.edu.co
END:VEVENT
BEGIN:VEVENT
DTSTART;VALUE=DATE:20231115
DTEND;VALUE=DATE:20231126
DTSTAMP:20260422T164008
CREATED:20220228T174920Z
LAST-MODIFIED:20221226T143716Z
UID:6598-1700006400-1700956799@calendarioacademico.libertadores.edu.co
SUMMARY:Fecha límite de pago seminario de grado internacional-S2Pr
DESCRIPTION:
URL:https://calendarioacademico.libertadores.edu.co/event/fecha-limite-de-pago-seminario-de-grado-internacional-s2pr/
LOCATION:Fundación Universitaria Los Libertadores\, Carrera 16 # 63 A - 68\, Bogotá D.C.\, 110011\, Colombia
CATEGORIES:Seminarios de grado internacionales II
ORGANIZER;CN="Fundaci%C3%B3n Universitaria Los Libertadores Bogot%C3%A1-Cartagena":MAILTO:fullatencion@libertadores.edu.co
END:VEVENT
BEGIN:VEVENT
DTSTART;VALUE=DATE:20231114
DTEND;VALUE=DATE:20231116
DTSTAMP:20260422T164008
CREATED:20220302T155617Z
LAST-MODIFIED:20221226T165609Z
UID:7050-1699920000-1700092799@calendarioacademico.libertadores.edu.co
SUMMARY:Novedades de inscripción preparatorios II - corte 3
DESCRIPTION:
URL:https://calendarioacademico.libertadores.edu.co/event/novedades-de-inscripcion-preparatorios-2-corte-3/
LOCATION:Fundación Universitaria Los Libertadores\, Carrera 16 # 63 A - 68\, Bogotá D.C.\, 110011\, Colombia
CATEGORIES:Preparatorios II
ORGANIZER;CN="Fundaci%C3%B3n Universitaria Los Libertadores Bogot%C3%A1-Cartagena":MAILTO:fullatencion@libertadores.edu.co
END:VEVENT
BEGIN:VEVENT
DTSTART;VALUE=DATE:20231112
DTEND;VALUE=DATE:20231121
DTSTAMP:20260422T164008
CREATED:20220228T174038Z
LAST-MODIFIED:20221222T221930Z
UID:6590-1699747200-1700524799@calendarioacademico.libertadores.edu.co
SUMMARY:Fecha límite para digitación de notas Seminarios de Grado regular-S2Pr
DESCRIPTION:
URL:https://calendarioacademico.libertadores.edu.co/event/fecha-limite-para-digitacion-de-notas-seminarios-de-grado-regular-s2pr/
LOCATION:Fundación Universitaria Los Libertadores\, Carrera 16 # 63 A - 68\, Bogotá D.C.\, 110011\, Colombia
CATEGORIES:Seminarios de Grado periodo regular II
ORGANIZER;CN="Fundaci%C3%B3n Universitaria Los Libertadores Bogot%C3%A1-Cartagena":MAILTO:fullatencion@libertadores.edu.co
END:VEVENT
BEGIN:VEVENT
DTSTART;VALUE=DATE:20231108
DTEND;VALUE=DATE:20231110
DTSTAMP:20260422T164008
CREATED:20220302T154335Z
LAST-MODIFIED:20221226T165143Z
UID:7035-1699401600-1699574399@calendarioacademico.libertadores.edu.co
SUMMARY:Inscripción preparatorios II - corte3
DESCRIPTION:
URL:https://calendarioacademico.libertadores.edu.co/event/inscripcion-preparatorios-2-corte-3/
LOCATION:Fundación Universitaria Los Libertadores\, Carrera 16 # 63 A - 68\, Bogotá D.C.\, 110011\, Colombia
CATEGORIES:Preparatorios II
ORGANIZER;CN="Fundaci%C3%B3n Universitaria Los Libertadores Bogot%C3%A1-Cartagena":MAILTO:fullatencion@libertadores.edu.co
END:VEVENT
BEGIN:VEVENT
DTSTART;VALUE=DATE:20231108
DTEND;VALUE=DATE:20231110
DTSTAMP:20260422T164008
CREATED:20220301T211522Z
LAST-MODIFIED:20221125T220700Z
UID:6935-1699401600-1699574399@calendarioacademico.libertadores.edu.co
SUMMARY:Segunda entrega de novedades-S2Pr
DESCRIPTION:
URL:https://calendarioacademico.libertadores.edu.co/event/entrega-de-novedades-s2pr/
LOCATION:Fundación Universitaria Los Libertadores\, Carrera 16 # 63 A - 68\, Bogotá D.C.\, 110011\, Colombia
CATEGORIES:Periodo Académico II
ORGANIZER;CN="Fundaci%C3%B3n Universitaria Los Libertadores Bogot%C3%A1-Cartagena":MAILTO:fullatencion@libertadores.edu.co
END:VEVENT
BEGIN:VEVENT
DTSTART;VALUE=DATE:20231103
DTEND;VALUE=DATE:20240129
DTSTAMP:20260422T164008
CREATED:20221226T144640Z
LAST-MODIFIED:20221226T144640Z
UID:7549-1698969600-1706486399@calendarioacademico.libertadores.edu.co
SUMMARY:Segunda Convocatoria de estancias cortas
DESCRIPTION:
URL:https://calendarioacademico.libertadores.edu.co/event/segunda-convocatoria-de-estancias-cortas/
LOCATION:Fundación Universitaria Los Libertadores\, Carrera 16 # 63 A - 68\, Bogotá D.C.\, 110011\, Colombia
CATEGORIES:Internacionalización II
ORGANIZER;CN="Fundaci%C3%B3n Universitaria Los Libertadores":MAILTO:infopresencial@libertadores.edu.co
END:VEVENT
BEGIN:VEVENT
DTSTART;VALUE=DATE:20231103
DTEND;VALUE=DATE:20231104
DTSTAMP:20260422T164008
CREATED:20220302T152542Z
LAST-MODIFIED:20221226T155353Z
UID:7018-1698969600-1699055999@calendarioacademico.libertadores.edu.co
SUMMARY:Apertura y cierre de SAI para designación de grupos - S2Pr Corte 3
DESCRIPTION:
URL:https://calendarioacademico.libertadores.edu.co/event/apertura-y-cierre-de-sai-para-designacion-de-grupos-s2pr-corte-3/
LOCATION:Fundación Universitaria Los Libertadores\, Carrera 16 # 63 A - 68\, Bogotá D.C.\, 110011\, Colombia
CATEGORIES:Preparatorios II
ORGANIZER;CN="Fundaci%C3%B3n Universitaria Los Libertadores":MAILTO:infopresencial@libertadores.edu.co
END:VEVENT
BEGIN:VEVENT
DTSTART;VALUE=DATE:20231101
DTEND;VALUE=DATE:20240211
DTSTAMP:20260422T164008
CREATED:20231120T194557Z
LAST-MODIFIED:20231120T194557Z
UID:8038-1698796800-1707609599@calendarioacademico.libertadores.edu.co
SUMMARY:Espacios de pre-práctica S1Pr
DESCRIPTION:
URL:https://calendarioacademico.libertadores.edu.co/event/espacios-de-pre-practica-1-2/
LOCATION:Bogotá D.C.
CATEGORIES:Prácticas I
END:VEVENT
BEGIN:VEVENT
DTSTART;VALUE=DATE:20231101
DTEND;VALUE=DATE:20231113
DTSTAMP:20260422T164008
CREATED:20220228T174720Z
LAST-MODIFIED:20230314T220222Z
UID:6596-1698796800-1699833599@calendarioacademico.libertadores.edu.co
SUMMARY:Revisión de historias académicas seminario de grado internacional-S2Pr
DESCRIPTION:
URL:https://calendarioacademico.libertadores.edu.co/event/revision-de-historias-academicas-seminario-de-grado-internacional-s2pr/
LOCATION:Fundación Universitaria Los Libertadores\, Carrera 16 # 63 A - 68\, Bogotá D.C.\, 110011\, Colombia
CATEGORIES:Seminarios de grado internacionales II
ORGANIZER;CN="Fundaci%C3%B3n Universitaria Los Libertadores Bogot%C3%A1-Cartagena":MAILTO:fullatencion@libertadores.edu.co
END:VEVENT
BEGIN:VEVENT
DTSTART;VALUE=DATE:20231030
DTEND;VALUE=DATE:20231127
DTSTAMP:20260422T164008
CREATED:20220302T175307Z
LAST-MODIFIED:20221125T220924Z
UID:7138-1698624000-1701043199@calendarioacademico.libertadores.edu.co
SUMMARY:Tercera calificación parcial-S2Pr
DESCRIPTION:
URL:https://calendarioacademico.libertadores.edu.co/event/tercera-calificacion-parcial-s2pr/
LOCATION:Fundación Universitaria Los Libertadores\, Carrera 16 # 63 A - 68\, Bogotá D.C.\, 110011\, Colombia
CATEGORIES:Periodo Académico II
ORGANIZER;CN="Fundaci%C3%B3n Universitaria Los Libertadores":MAILTO:infopresencial@libertadores.edu.co
END:VEVENT
BEGIN:VEVENT
DTSTART;VALUE=DATE:20231026
DTEND;VALUE=DATE:20231108
DTSTAMP:20260422T164008
CREATED:20220301T211311Z
LAST-MODIFIED:20221125T220409Z
UID:6931-1698278400-1699401599@calendarioacademico.libertadores.edu.co
SUMMARY:Segunda digitación de calificaciones-S2Pr
DESCRIPTION:
URL:https://calendarioacademico.libertadores.edu.co/event/segunda-digitacion-de-calificaciones-s2pr/
LOCATION:Fundación Universitaria Los Libertadores\, Carrera 16 # 63 A - 68\, Bogotá D.C.\, 110011\, Colombia
CATEGORIES:Periodo Académico II
ORGANIZER;CN="Fundaci%C3%B3n Universitaria Los Libertadores":MAILTO:infopresencial@libertadores.edu.co
END:VEVENT
BEGIN:VEVENT
DTSTART;VALUE=DATE:20231024
DTEND;VALUE=DATE:20231025
DTSTAMP:20260422T164008
CREATED:20220302T172244Z
LAST-MODIFIED:20221226T203600Z
UID:7108-1698105600-1698191999@calendarioacademico.libertadores.edu.co
SUMMARY:Digitación de calificaciones preparatorios II - corte 2
DESCRIPTION:
URL:https://calendarioacademico.libertadores.edu.co/event/digitacion-de-calificaciones-preparatorios-2-corte-2/
LOCATION:Fundación Universitaria Los Libertadores\, Carrera 16 # 63 A - 68\, Bogotá D.C.\, 110011\, Colombia
CATEGORIES:Preparatorios II
ORGANIZER;CN="Fundaci%C3%B3n Universitaria Los Libertadores Bogot%C3%A1-Cartagena":MAILTO:fullatencion@libertadores.edu.co
END:VEVENT
BEGIN:VEVENT
DTSTART;VALUE=DATE:20231019
DTEND;VALUE=DATE:20231020
DTSTAMP:20260422T164008
CREATED:20220302T170440Z
LAST-MODIFIED:20221226T195702Z
UID:7093-1697673600-1697759999@calendarioacademico.libertadores.edu.co
SUMMARY:Presentación  preparatorios II - corte 2
DESCRIPTION:
URL:https://calendarioacademico.libertadores.edu.co/event/presentacion-preparatorios-2-corte-2/
LOCATION:Fundación Universitaria Los Libertadores\, Carrera 16 # 63 A - 68\, Bogotá D.C.\, 110011\, Colombia
CATEGORIES:Preparatorios II
ORGANIZER;CN="Fundaci%C3%B3n Universitaria Los Libertadores Bogot%C3%A1-Cartagena":MAILTO:fullatencion@libertadores.edu.co
END:VEVENT
BEGIN:VEVENT
DTSTART;VALUE=DATE:20231016
DTEND;VALUE=DATE:20231211
DTSTAMP:20260422T164008
CREATED:20220302T202641Z
LAST-MODIFIED:20221226T225531Z
UID:7234-1697414400-1702252799@calendarioacademico.libertadores.edu.co
SUMMARY:Inicio y terminación coterminales trimestrales II - corte 2
DESCRIPTION:
URL:https://calendarioacademico.libertadores.edu.co/event/inicio-y-terminacion-coterminales-trimestrales-2-corte-2/
LOCATION:Fundación Universitaria Los Libertadores\, Carrera 16 # 63 A - 68\, Bogotá D.C.\, 110011\, Colombia
CATEGORIES:Coterminales Trimestrales II
ORGANIZER;CN="Fundaci%C3%B3n Universitaria Los Libertadores Bogot%C3%A1-Cartagena":MAILTO:fullatencion@libertadores.edu.co
END:VEVENT
BEGIN:VEVENT
DTSTART;VALUE=DATE:20231013
DTEND;VALUE=DATE:20231115
DTSTAMP:20260422T164008
CREATED:20231116T220359Z
LAST-MODIFIED:20231116T220630Z
UID:7871-1697155200-1700006399@calendarioacademico.libertadores.edu.co
SUMMARY:Renovación de descuentos - S1Pr
DESCRIPTION:
URL:https://calendarioacademico.libertadores.edu.co/event/renovacion-de-descuentos-s1pr-2/
LOCATION:Bogotá D.C.
CATEGORIES:Matricula estudiantes antiguos I,Periodo Académico I,Pregrado Semestral,primer semestre
END:VEVENT
BEGIN:VEVENT
DTSTART;VALUE=DATE:20231003
DTEND;VALUE=DATE:20231018
DTSTAMP:20260422T164008
CREATED:20220302T202138Z
LAST-MODIFIED:20221226T224827Z
UID:7227-1696291200-1697587199@calendarioacademico.libertadores.edu.co
SUMMARY:Fecha límite de pago coterminales trimestrales II - corte 2
DESCRIPTION:
URL:https://calendarioacademico.libertadores.edu.co/event/fecha-limite-de-pago-coterminales-trimestrales-2-corte-2/
LOCATION:Fundación Universitaria Los Libertadores\, Carrera 16 # 63 A - 68\, Bogotá D.C.\, 110011\, Colombia
CATEGORIES:Coterminales Trimestrales II
ORGANIZER;CN="Fundaci%C3%B3n Universitaria Los Libertadores Bogot%C3%A1-Cartagena":MAILTO:fullatencion@libertadores.edu.co
END:VEVENT
BEGIN:VEVENT
DTSTART;VALUE=DATE:20231003
DTEND;VALUE=DATE:20231014
DTSTAMP:20260422T164008
CREATED:20220302T201152Z
LAST-MODIFIED:20221226T215203Z
UID:7223-1696291200-1697241599@calendarioacademico.libertadores.edu.co
SUMMARY:Publicación de órdenes de pago coterminales trimestrales II - corte 2
DESCRIPTION:Descarga tu recibo aquí. \nConoce como hacerlo en el tutorial de pagos. \n 
URL:https://calendarioacademico.libertadores.edu.co/event/publicacion-de-ordenes-de-pago-coterminales-trimestrales-2-corte-2/
LOCATION:Fundación Universitaria Los Libertadores\, Carrera 16 # 63 A - 68\, Bogotá D.C.\, 110011\, Colombia
CATEGORIES:Coterminales Trimestrales II
ORGANIZER;CN="Fundaci%C3%B3n Universitaria Los Libertadores Bogot%C3%A1-Cartagena":MAILTO:fullatencion@libertadores.edu.co
END:VEVENT
BEGIN:VEVENT
DTSTART;VALUE=DATE:20231002
DTEND;VALUE=DATE:20231010
DTSTAMP:20260422T164008
CREATED:20220302T165132Z
LAST-MODIFIED:20221226T171040Z
UID:7083-1696204800-1696895999@calendarioacademico.libertadores.edu.co
SUMMARY:Fecha de pago preparatorios II - corte 2
DESCRIPTION:Conoce como hacerlo en el tutorial de pagos. \n 
URL:https://calendarioacademico.libertadores.edu.co/event/fecha-de-pago-preparatorios-2-corte-2/
LOCATION:Fundación Universitaria Los Libertadores\, Carrera 16 # 63 A - 68\, Bogotá D.C.\, 110011\, Colombia
CATEGORIES:Preparatorios II
ORGANIZER;CN="Fundaci%C3%B3n Universitaria Los Libertadores Bogot%C3%A1-Cartagena":MAILTO:fullatencion@libertadores.edu.co
END:VEVENT
BEGIN:VEVENT
DTSTART;VALUE=DATE:20231002
DTEND;VALUE=DATE:20231003
DTSTAMP:20260422T164008
CREATED:20220302T161511Z
LAST-MODIFIED:20221226T170327Z
UID:7067-1696204800-1696291199@calendarioacademico.libertadores.edu.co
SUMMARY:Publicación de orden de pago preparatorios II- corte 2
DESCRIPTION:Conoce como hacerlo en el tutorial de pagos.
URL:https://calendarioacademico.libertadores.edu.co/event/publicacion-de-orden-de-pago-preparatorios-2-corte-2/
LOCATION:Fundación Universitaria Los Libertadores\, Carrera 16 # 63 A - 68\, Bogotá D.C.\, 110011\, Colombia
CATEGORIES:Preparatorios II
ORGANIZER;CN="Fundaci%C3%B3n Universitaria Los Libertadores Bogot%C3%A1-Cartagena":MAILTO:fullatencion@libertadores.edu.co
END:VEVENT
BEGIN:VEVENT
DTSTART;VALUE=DATE:20230928
DTEND;VALUE=DATE:20231014
DTSTAMP:20260422T164008
CREATED:20220302T194118Z
LAST-MODIFIED:20221226T211900Z
UID:7212-1695859200-1697241599@calendarioacademico.libertadores.edu.co
SUMMARY:Solicitud de órdenes de pago a Admisiones y Registro coterminales trimestrales II - corte 2
DESCRIPTION:
URL:https://calendarioacademico.libertadores.edu.co/event/solicitud-de-ordenes-de-pago-a-admisiones-y-registro-coterminales-trimestrales-2-corte-2/
LOCATION:Fundación Universitaria Los Libertadores\, Carrera 16 # 63 A - 68\, Bogotá D.C.\, 110011\, Colombia
CATEGORIES:Coterminales Trimestrales II
ORGANIZER;CN="Fundaci%C3%B3n Universitaria Los Libertadores Bogot%C3%A1-Cartagena":MAILTO:fullatencion@libertadores.edu.co
END:VEVENT
BEGIN:VEVENT
DTSTART;VALUE=DATE:20230926
DTEND;VALUE=DATE:20230928
DTSTAMP:20260422T164008
CREATED:20220311T144016Z
LAST-MODIFIED:20221125T213155Z
UID:7433-1695686400-1695859199@calendarioacademico.libertadores.edu.co
SUMMARY:Primera entrega de novedades - S2Pr
DESCRIPTION:
URL:https://calendarioacademico.libertadores.edu.co/event/primera-entrega-de-novedades-s2pr/
LOCATION:Fundación Universitaria Los Libertadores\, Carrera 16 # 63 A - 68\, Bogotá D.C.\, 110011\, Colombia
CATEGORIES:Periodo Académico II
ORGANIZER;CN="Fundaci%C3%B3n Universitaria Los Libertadores Bogot%C3%A1-Cartagena":MAILTO:fullatencion@libertadores.edu.co
END:VEVENT
BEGIN:VEVENT
DTSTART;VALUE=DATE:20230926
DTEND;VALUE=DATE:20231014
DTSTAMP:20260422T164008
CREATED:20220302T193137Z
LAST-MODIFIED:20221226T210803Z
UID:7208-1695686400-1697241599@calendarioacademico.libertadores.edu.co
SUMMARY:Inscripción coterminales trimestrales II - corte 2
DESCRIPTION:Conoce mas información aquí.
URL:https://calendarioacademico.libertadores.edu.co/event/inscripcion-coterminales-trimestrales-2-corte-2/
LOCATION:Fundación Universitaria Los Libertadores\, Carrera 16 # 63 A - 68\, Bogotá D.C.\, 110011\, Colombia
CATEGORIES:Coterminales Trimestrales II
ORGANIZER;CN="Fundaci%C3%B3n Universitaria Los Libertadores Bogot%C3%A1-Cartagena":MAILTO:fullatencion@libertadores.edu.co
END:VEVENT
BEGIN:VEVENT
DTSTART;VALUE=DATE:20230926
DTEND;VALUE=DATE:20231014
DTSTAMP:20260422T164008
CREATED:20220302T192929Z
LAST-MODIFIED:20221226T211351Z
UID:7206-1695686400-1697241599@calendarioacademico.libertadores.edu.co
SUMMARY:Revisión de historias académicas coterminales trimestrales II - corte 2
DESCRIPTION:
URL:https://calendarioacademico.libertadores.edu.co/event/revision-de-historias-academicas-coterminales-trimestrales-2-corte-2/
LOCATION:Fundación Universitaria Los Libertadores\, Carrera 16 # 63 A - 68\, Bogotá D.C.\, 110011\, Colombia
CATEGORIES:Coterminales Trimestrales II
ORGANIZER;CN="Fundaci%C3%B3n Universitaria Los Libertadores Bogot%C3%A1-Cartagena":MAILTO:fullatencion@libertadores.edu.co
END:VEVENT
BEGIN:VEVENT
DTSTART;VALUE=DATE:20230925
DTEND;VALUE=DATE:20230927
DTSTAMP:20260422T164008
CREATED:20220302T155430Z
LAST-MODIFIED:20221226T165444Z
UID:7048-1695600000-1695772799@calendarioacademico.libertadores.edu.co
SUMMARY:Novedades de inscripción preparatorios II - corte 2
DESCRIPTION:
URL:https://calendarioacademico.libertadores.edu.co/event/novedades-de-inscripcion-preparatorios-2-corte-2/
LOCATION:Fundación Universitaria Los Libertadores\, Carrera 16 # 63 A - 68\, Bogotá D.C.\, 110011\, Colombia
CATEGORIES:Preparatorios II
ORGANIZER;CN="Fundaci%C3%B3n Universitaria Los Libertadores Bogot%C3%A1-Cartagena":MAILTO:fullatencion@libertadores.edu.co
END:VEVENT
BEGIN:VEVENT
DTSTART;VALUE=DATE:20230921
DTEND;VALUE=DATE:20230923
DTSTAMP:20260422T164008
CREATED:20220302T154243Z
LAST-MODIFIED:20221226T165058Z
UID:7033-1695254400-1695427199@calendarioacademico.libertadores.edu.co
SUMMARY:Inscripción preparatorios II - corte 2
DESCRIPTION:
URL:https://calendarioacademico.libertadores.edu.co/event/inscripcion-preparatorios-2-corte-2/
LOCATION:Fundación Universitaria Los Libertadores\, Carrera 16 # 63 A - 68\, Bogotá D.C.\, 110011\, Colombia
CATEGORIES:Preparatorios II
ORGANIZER;CN="Fundaci%C3%B3n Universitaria Los Libertadores Bogot%C3%A1-Cartagena":MAILTO:fullatencion@libertadores.edu.co
END:VEVENT
BEGIN:VEVENT
DTSTART;VALUE=DATE:20230918
DTEND;VALUE=DATE:20231030
DTSTAMP:20260422T164008
CREATED:20220301T211721Z
LAST-MODIFIED:20230810T204218Z
UID:6937-1694995200-1698623999@calendarioacademico.libertadores.edu.co
SUMMARY:Segunda calificación parcial-S2Pr
DESCRIPTION:
URL:https://calendarioacademico.libertadores.edu.co/event/segunda-calificacion-parcial-s2pr/
LOCATION:Fundación Universitaria Los Libertadores\, Carrera 16 # 63 A - 68\, Bogotá D.C.\, 110011\, Colombia
CATEGORIES:Periodo Académico II
ORGANIZER;CN="Fundaci%C3%B3n Universitaria Los Libertadores":MAILTO:infopresencial@libertadores.edu.co
END:VEVENT
BEGIN:VEVENT
DTSTART;VALUE=DATE:20230915
DTEND;VALUE=DATE:20230916
DTSTAMP:20260422T164008
CREATED:20220302T132252Z
LAST-MODIFIED:20221226T155255Z
UID:7007-1694736000-1694822399@calendarioacademico.libertadores.edu.co
SUMMARY:Apertura y cierre de SAI para designación de grupos - S2Pr corte 2
DESCRIPTION:
URL:https://calendarioacademico.libertadores.edu.co/event/apertura-y-cierre-de-sai-para-designacion-de-grupos-s2pr-corte-2/
LOCATION:Fundación Universitaria Los Libertadores\, Carrera 16 # 63 A - 68\, Bogotá D.C.\, 110011\, Colombia
CATEGORIES:Preparatorios II
ORGANIZER;CN="Fundaci%C3%B3n Universitaria Los Libertadores":MAILTO:infopresencial@libertadores.edu.co
END:VEVENT
END:VCALENDAR