BEGIN:VCALENDAR
VERSION:2.0
PRODID:-//Calendario Académico - ECPv6.15.20//NONSGML v1.0//EN
CALSCALE:GREGORIAN
METHOD:PUBLISH
X-WR-CALNAME:Calendario Académico
X-ORIGINAL-URL:https://calendarioacademico.libertadores.edu.co
X-WR-CALDESC:Eventos para Calendario Académico
REFRESH-INTERVAL;VALUE=DURATION:PT1H
X-Robots-Tag:noindex
X-PUBLISHED-TTL:PT1H
BEGIN:VTIMEZONE
TZID:America/New_York
BEGIN:DAYLIGHT
TZOFFSETFROM:-0500
TZOFFSETTO:-0400
TZNAME:EDT
DTSTART:20220313T070000
END:DAYLIGHT
BEGIN:STANDARD
TZOFFSETFROM:-0400
TZOFFSETTO:-0500
TZNAME:EST
DTSTART:20221106T060000
END:STANDARD
BEGIN:DAYLIGHT
TZOFFSETFROM:-0500
TZOFFSETTO:-0400
TZNAME:EDT
DTSTART:20230312T070000
END:DAYLIGHT
BEGIN:STANDARD
TZOFFSETFROM:-0400
TZOFFSETTO:-0500
TZNAME:EST
DTSTART:20231105T060000
END:STANDARD
BEGIN:DAYLIGHT
TZOFFSETFROM:-0500
TZOFFSETTO:-0400
TZNAME:EDT
DTSTART:20240310T070000
END:DAYLIGHT
BEGIN:STANDARD
TZOFFSETFROM:-0400
TZOFFSETTO:-0500
TZNAME:EST
DTSTART:20241103T060000
END:STANDARD
END:VTIMEZONE
BEGIN:VEVENT
DTSTART;VALUE=DATE:20230804
DTEND;VALUE=DATE:20231030
DTSTAMP:20260423T023027
CREATED:20220228T174526Z
LAST-MODIFIED:20221226T144243Z
UID:6594-1691107200-1698623999@calendarioacademico.libertadores.edu.co
SUMMARY:Inscripción seminario de grado internacional-S2Pr
DESCRIPTION:
URL:https://calendarioacademico.libertadores.edu.co/event/inscripcion-seminario-de-grado-internacional-s2pr/
LOCATION:Fundación Universitaria Los Libertadores\, Carrera 16 # 63 A - 68\, Bogotá D.C.\, 110011\, Colombia
CATEGORIES:Seminarios de grado internacionales II
ORGANIZER;CN="Fundaci%C3%B3n Universitaria Los Libertadores Bogot%C3%A1-Cartagena":MAILTO:fullatencion@libertadores.edu.co
END:VEVENT
BEGIN:VEVENT
DTSTART;VALUE=DATE:20230803
DTEND;VALUE=DATE:20230804
DTSTAMP:20260423T023027
CREATED:20211214T201608Z
LAST-MODIFIED:20221124T141054Z
UID:5218-1691020800-1691107199@calendarioacademico.libertadores.edu.co
SUMMARY:Envío de material de inducción a estudiantes nuevos - Pregrado II
DESCRIPTION:
URL:https://calendarioacademico.libertadores.edu.co/event/envio-de-material-de-induccion-a-estudiantes-nuevos-pregrado/
LOCATION:Fundación Universitaria Los Libertadores\, Carrera 16 # 63 A - 68\, Bogotá D.C.\, 110011\, Colombia
CATEGORIES:Matriculas estudiantes nuevos II
ORGANIZER;CN="Fundaci%C3%B3n Universitaria Los Libertadores":MAILTO:infopresencial@libertadores.edu.co
END:VEVENT
BEGIN:VEVENT
DTSTART;VALUE=DATE:20230803
DTEND;VALUE=DATE:20230811
DTSTAMP:20260423T023027
CREATED:20220303T132707Z
LAST-MODIFIED:20221222T213914Z
UID:7300-1691020800-1691711999@calendarioacademico.libertadores.edu.co
SUMMARY:Pagos de matrícula (estudiantes intersemestral) Primer fecha de pago - S1Pr
DESCRIPTION:
URL:https://calendarioacademico.libertadores.edu.co/event/pagos-de-matricula-estudiantes-intersemestral-primer-fecha-de-pago-s1pr/
LOCATION:Fundación Universitaria Los Libertadores\, Carrera 16 # 63 A - 68\, Bogotá D.C.\, 110011\, Colombia
CATEGORIES:Cursos Intersemestrales I
ORGANIZER;CN="Fundaci%C3%B3n Universitaria Los Libertadores Bogot%C3%A1-Cartagena":MAILTO:fullatencion@libertadores.edu.co
END:VEVENT
BEGIN:VEVENT
DTSTART;VALUE=DATE:20230803
DTEND;VALUE=DATE:20230804
DTSTAMP:20260423T023027
CREATED:20220303T132455Z
LAST-MODIFIED:20221222T213722Z
UID:7298-1691020800-1691107199@calendarioacademico.libertadores.edu.co
SUMMARY:Publicación de recibo de pago de matrícula en el portal WEB institucional (estudiantes intersemestrales) - S1Pr
DESCRIPTION:
URL:https://calendarioacademico.libertadores.edu.co/event/publicacion-de-recibo-de-pago-de-matricula-en-el-portal-web-institucional-estudiantes-intersemestrales-s1pr/
LOCATION:Fundación Universitaria Los Libertadores\, Carrera 16 # 63 A - 68\, Bogotá D.C.\, 110011\, Colombia
CATEGORIES:Cursos Intersemestrales I
ORGANIZER;CN="Fundaci%C3%B3n Universitaria Los Libertadores Bogot%C3%A1-Cartagena":MAILTO:fullatencion@libertadores.edu.co
END:VEVENT
BEGIN:VEVENT
DTSTART;VALUE=DATE:20230802
DTEND;VALUE=DATE:20230806
DTSTAMP:20260423T023027
CREATED:20211214T203118Z
LAST-MODIFIED:20221223T150651Z
UID:5255-1690934400-1691279999@calendarioacademico.libertadores.edu.co
SUMMARY:Registro y entrega de calificaciones Internacionalización Escuela de Verano
DESCRIPTION:Registro y entrega de calificaciones Internacionalización Escuela de Verano
URL:https://calendarioacademico.libertadores.edu.co/event/registro-y-entrega-de-calificaciones-internacionalizacion-escuela-de-verano/
LOCATION:Fundación Universitaria Los Libertadores\, Carrera 16 # 63 A - 68\, Bogotá D.C.\, 110011\, Colombia
ORGANIZER;CN="Fundaci%C3%B3n Universitaria Los Libertadores":MAILTO:infopresencial@libertadores.edu.co
END:VEVENT
BEGIN:VEVENT
DTSTART;VALUE=DATE:20230802
DTEND;VALUE=DATE:20230805
DTSTAMP:20260423T023027
CREATED:20220228T233844Z
LAST-MODIFIED:20221123T220626Z
UID:6679-1690934400-1691193599@calendarioacademico.libertadores.edu.co
SUMMARY:Inducción a estudiantes nuevos-S2Pr
DESCRIPTION:Conoce más información aquí \n 
URL:https://calendarioacademico.libertadores.edu.co/event/induccion-a-estudiantes-nuevos-s2pr/
LOCATION:Fundación Universitaria Los Libertadores\, Carrera 16 # 63 A - 68\, Bogotá D.C.\, 110011\, Colombia
CATEGORIES:Matriculas estudiantes nuevos II
ORGANIZER;CN="Fundaci%C3%B3n Universitaria Los Libertadores":MAILTO:infopresencial@libertadores.edu.co
END:VEVENT
BEGIN:VEVENT
DTSTART;VALUE=DATE:20230801
DTEND;VALUE=DATE:20230802
DTSTAMP:20260423T023027
CREATED:20221124T142108Z
LAST-MODIFIED:20221227T165002Z
UID:7489-1690848000-1690934399@calendarioacademico.libertadores.edu.co
SUMMARY:Encuentro de Padres Cartagena-S2Pr
DESCRIPTION:
URL:https://calendarioacademico.libertadores.edu.co/event/encuentro-de-padres-cartagena-s2pr/
LOCATION:Fundación Universitaria Los Libertadores – Cartagena\, Calle 31 No. 19 - 51\, Cartagena\, Cartagena de Indias\, 130001\, Colombia
CATEGORIES:Matriculas estudiantes nuevos II
ORGANIZER;CN="Fundaci%C3%B3n Universitaria Los Libertadores":MAILTO:infopresencial@libertadores.edu.co
END:VEVENT
BEGIN:VEVENT
DTSTART;VALUE=DATE:20230801
DTEND;VALUE=DATE:20230803
DTSTAMP:20260423T023027
CREATED:20220303T132305Z
LAST-MODIFIED:20221222T213616Z
UID:7296-1690848000-1691020799@calendarioacademico.libertadores.edu.co
SUMMARY:Fecha de selección de horarios para matrículas (estudiantes intersemestrales) - S1Pr
DESCRIPTION:
URL:https://calendarioacademico.libertadores.edu.co/event/fecha-de-seleccion-de-horarios-para-matriculas-estudiantes-intersemestrales-s1pr/
LOCATION:Fundación Universitaria Los Libertadores\, Carrera 16 # 63 A - 68\, Bogotá D.C.\, 110011\, Colombia
CATEGORIES:Cursos Intersemestrales I
ORGANIZER;CN="Fundaci%C3%B3n Universitaria Los Libertadores Bogot%C3%A1-Cartagena":MAILTO:fullatencion@libertadores.edu.co
END:VEVENT
BEGIN:VEVENT
DTSTART;VALUE=DATE:20230801
DTEND;VALUE=DATE:20230803
DTSTAMP:20260423T023027
CREATED:20220303T132107Z
LAST-MODIFIED:20221222T213512Z
UID:7294-1690848000-1691020799@calendarioacademico.libertadores.edu.co
SUMMARY:Novedades de notas definitivas cursos intersemestrales - S1Pr
DESCRIPTION:
URL:https://calendarioacademico.libertadores.edu.co/event/novedades-de-notas-definitivas-cursos-intersemestrales-s1pr/
LOCATION:Fundación Universitaria Los Libertadores\, Carrera 16 # 63 A - 68\, Bogotá D.C.\, 110011\, Colombia
CATEGORIES:Cursos Intersemestrales I
ORGANIZER;CN="Fundaci%C3%B3n Universitaria Los Libertadores Bogot%C3%A1-Cartagena":MAILTO:fullatencion@libertadores.edu.co
END:VEVENT
BEGIN:VEVENT
DTSTART;VALUE=DATE:20230731
DTEND;VALUE=DATE:20230802
DTSTAMP:20260423T023027
CREATED:20221123T221104Z
LAST-MODIFIED:20230306T223206Z
UID:7484-1690761600-1690934399@calendarioacademico.libertadores.edu.co
SUMMARY:Inducción a estudiantes nuevos Cartagena-S2Pr
DESCRIPTION:Conoce más información aquí \n 
URL:https://calendarioacademico.libertadores.edu.co/event/induccion-a-estudiantes-nuevos-cartagena-s2pr/
LOCATION:Fundación Universitaria Los Libertadores – Cartagena\, Calle 31 No. 19 - 51\, Cartagena\, Cartagena de Indias\, 130001\, Colombia
CATEGORIES:Matriculas estudiantes nuevos II
ORGANIZER;CN="Fundaci%C3%B3n Universitaria Los Libertadores - Inscripciones":MAILTO:inscripciones@libertadores.edu.co
END:VEVENT
BEGIN:VEVENT
DTSTART;VALUE=DATE:20230731
DTEND;VALUE=DATE:20230802
DTSTAMP:20260423T023027
CREATED:20220302T155337Z
LAST-MODIFIED:20221226T165359Z
UID:7046-1690761600-1690934399@calendarioacademico.libertadores.edu.co
SUMMARY:Novedades de inscripción preparatorios II - corte 1
DESCRIPTION:
URL:https://calendarioacademico.libertadores.edu.co/event/novedades-de-inscripcion-preparatorios-2-corte-1/
LOCATION:Fundación Universitaria Los Libertadores\, Carrera 16 # 63 A - 68\, Bogotá D.C.\, 110011\, Colombia
CATEGORIES:Preparatorios II
ORGANIZER;CN="Fundaci%C3%B3n Universitaria Los Libertadores Bogot%C3%A1-Cartagena":MAILTO:fullatencion@libertadores.edu.co
END:VEVENT
BEGIN:VEVENT
DTSTART;VALUE=DATE:20230731
DTEND;VALUE=DATE:20230806
DTSTAMP:20260423T023027
CREATED:20220301T200429Z
LAST-MODIFIED:20221124T171122Z
UID:6870-1690761600-1691279999@calendarioacademico.libertadores.edu.co
SUMMARY:Solicitud de reajustes (adición y/o retiro de espacios académicos) -S2Pr
DESCRIPTION:Conoce como hacerlo en el Instructivo de Reajustes
URL:https://calendarioacademico.libertadores.edu.co/event/solicitud-de-reajustes-adicion-y-o-retiro-de-espacios-academicos-s2pr/
LOCATION:Fundación Universitaria Los Libertadores\, Carrera 16 # 63 A - 68\, Bogotá D.C.\, 110011\, Colombia
CATEGORIES:Matricula estudiantes antiguos II
ORGANIZER;CN="Fundaci%C3%B3n Universitaria Los Libertadores":MAILTO:infopresencial@libertadores.edu.co
END:VEVENT
BEGIN:VEVENT
DTSTART;VALUE=DATE:20230730
DTEND;VALUE=DATE:20230807
DTSTAMP:20260423T023027
CREATED:20220301T204729Z
LAST-MODIFIED:20221124T215614Z
UID:6896-1690675200-1691366399@calendarioacademico.libertadores.edu.co
SUMMARY:Primera fecha de Pago de matrícula movilidad académica saliente-S2Pr
DESCRIPTION:Descarga tu recibo aquí \nConoce como hacerlo en el tutorial de pagos 
URL:https://calendarioacademico.libertadores.edu.co/event/primera-fecha-de-pago-de-matricula-movilidad-academica-saliente-s2pr/
LOCATION:Fundación Universitaria Los Libertadores\, Carrera 16 # 63 A - 68\, Bogotá D.C.\, 110011\, Colombia
CATEGORIES:Matrículas Estudiantes Movilidad Académica Salientes II
ORGANIZER;CN="Fundaci%C3%B3n Universitaria Los Libertadores":MAILTO:infopresencial@libertadores.edu.co
END:VEVENT
BEGIN:VEVENT
DTSTART;VALUE=DATE:20230730
DTEND;VALUE=DATE:20230731
DTSTAMP:20260423T023027
CREATED:20220301T204603Z
LAST-MODIFIED:20221124T215423Z
UID:6892-1690675200-1690761599@calendarioacademico.libertadores.edu.co
SUMMARY:Publicación de recibo de pago de matrícula movilidad académica saliente-S2Pr
DESCRIPTION:Descarga tu recibo aquí \nConoce como hacerlo en el tutorial de pagos 
URL:https://calendarioacademico.libertadores.edu.co/event/publicacion-de-recibo-de-pago-de-matricula-movilidad-academica-saliente-s2pr/
LOCATION:Fundación Universitaria Los Libertadores\, Carrera 16 # 63 A - 68\, Bogotá D.C.\, 110011\, Colombia
CATEGORIES:Matrículas Estudiantes Movilidad Académica Salientes II
ORGANIZER;CN="Fundaci%C3%B3n Universitaria Los Libertadores":MAILTO:infopresencial@libertadores.edu.co
END:VEVENT
BEGIN:VEVENT
DTSTART;VALUE=DATE:20230728
DTEND;VALUE=DATE:20230729
DTSTAMP:20260423T023027
CREATED:20220303T131916Z
LAST-MODIFIED:20221222T213403Z
UID:7292-1690502400-1690588799@calendarioacademico.libertadores.edu.co
SUMMARY:Cierre Académico cursos intersemestrales - S1Pr
DESCRIPTION:
URL:https://calendarioacademico.libertadores.edu.co/event/cierre-academico-cursos-intersemestrales-s1pr/
LOCATION:Fundación Universitaria Los Libertadores\, Carrera 16 # 63 A - 68\, Bogotá D.C.\, 110011\, Colombia
CATEGORIES:Cursos Intersemestrales I
ORGANIZER;CN="Fundaci%C3%B3n Universitaria Los Libertadores Bogot%C3%A1-Cartagena":MAILTO:fullatencion@libertadores.edu.co
END:VEVENT
BEGIN:VEVENT
DTSTART;VALUE=DATE:20230728
DTEND;VALUE=DATE:20230730
DTSTAMP:20260423T023027
CREATED:20220301T204348Z
LAST-MODIFIED:20221124T215105Z
UID:6890-1690502400-1690675199@calendarioacademico.libertadores.edu.co
SUMMARY:Selección de horarios para matrículas movilidad académica saliente-S2Pr
DESCRIPTION:
URL:https://calendarioacademico.libertadores.edu.co/event/seleccion-de-horarios-para-matriculas-movilidad-academica-saliente-s2pr/
LOCATION:Fundación Universitaria Los Libertadores\, Carrera 16 # 63 A - 68\, Bogotá D.C.\, 110011\, Colombia
CATEGORIES:Matrículas Estudiantes Movilidad Académica Salientes II
ORGANIZER;CN="Fundaci%C3%B3n Universitaria Los Libertadores":MAILTO:infopresencial@libertadores.edu.co
END:VEVENT
BEGIN:VEVENT
DTSTART;VALUE=DATE:20230727
DTEND;VALUE=DATE:20230729
DTSTAMP:20260423T023027
CREATED:20220302T154141Z
LAST-MODIFIED:20221226T165006Z
UID:7031-1690416000-1690588799@calendarioacademico.libertadores.edu.co
SUMMARY:Inscripción preparatorios II- corte 1
DESCRIPTION:
URL:https://calendarioacademico.libertadores.edu.co/event/inscripcion-preparatorios-2-corte-1/
LOCATION:Fundación Universitaria Los Libertadores\, Carrera 16 # 63 A - 68\, Bogotá D.C.\, 110011\, Colombia
CATEGORIES:Preparatorios II
ORGANIZER;CN="Fundaci%C3%B3n Universitaria Los Libertadores Bogot%C3%A1-Cartagena":MAILTO:fullatencion@libertadores.edu.co
END:VEVENT
BEGIN:VEVENT
DTSTART;VALUE=DATE:20230726
DTEND;VALUE=DATE:20230731
DTSTAMP:20260423T023027
CREATED:20220301T155904Z
LAST-MODIFIED:20221223T150453Z
UID:6818-1690329600-1690761599@calendarioacademico.libertadores.edu.co
SUMMARY:Desarrollo Escuela de Verano -S1Pr
DESCRIPTION:
URL:https://calendarioacademico.libertadores.edu.co/event/desarrollo-escuela-de-verano-s1pr/
LOCATION:Fundación Universitaria Los Libertadores\, Carrera 16 # 63 A - 68\, Bogotá D.C.\, 110011\, Colombia
CATEGORIES:Escuela de Verano / Invierno I
ORGANIZER;CN="Fundaci%C3%B3n Universitaria Los Libertadores Bogot%C3%A1-Cartagena":MAILTO:fullatencion@libertadores.edu.co
END:VEVENT
BEGIN:VEVENT
DTSTART;VALUE=DATE:20230724
DTEND;VALUE=DATE:20230918
DTSTAMP:20260423T023027
CREATED:20220302T202511Z
LAST-MODIFIED:20221226T225627Z
UID:7232-1690156800-1694995199@calendarioacademico.libertadores.edu.co
SUMMARY:Inicio y terminación coterminales trimestrales II - ciclo 1
DESCRIPTION:
URL:https://calendarioacademico.libertadores.edu.co/event/inicio-y-terminacion-coterminales-trimestrales-2-corte-1/
LOCATION:Fundación Universitaria Los Libertadores\, Carrera 16 # 63 A - 68\, Bogotá D.C.\, 110011\, Colombia
CATEGORIES:Coterminales Trimestrales II
ORGANIZER;CN="Fundaci%C3%B3n Universitaria Los Libertadores Bogot%C3%A1-Cartagena":MAILTO:fullatencion@libertadores.edu.co
END:VEVENT
BEGIN:VEVENT
DTSTART;VALUE=DATE:20230722
DTEND;VALUE=DATE:20230809
DTSTAMP:20260423T023027
CREATED:20220301T172606Z
LAST-MODIFIED:20221222T172056Z
UID:6860-1689984000-1691539199@calendarioacademico.libertadores.edu.co
SUMMARY:Pago Ordinario Facultades de: Ingeniería y Ciencias Básicas\, F Ciencias Humanas y Sociales-S2Pr
DESCRIPTION:Descarga tu recibo aquí \nConoce como hacerlo en el tutorial de pagos 
URL:https://calendarioacademico.libertadores.edu.co/event/pago-ordinario-facultades-de-ingenieria-y-ciencias-basicas-y-ciencias-humanas-y-sociales-s2pr/
LOCATION:Fundación Universitaria Los Libertadores\, Carrera 16 # 63 A - 68\, Bogotá D.C.\, 110011\, Colombia
CATEGORIES:Matricula estudiantes antiguos II
ORGANIZER;CN="Fundaci%C3%B3n Universitaria Los Libertadores":MAILTO:infopresencial@libertadores.edu.co
END:VEVENT
BEGIN:VEVENT
DTSTART;VALUE=DATE:20230721
DTEND;VALUE=DATE:20230728
DTSTAMP:20260423T023027
CREATED:20220303T131738Z
LAST-MODIFIED:20221222T213246Z
UID:7290-1689897600-1690502399@calendarioacademico.libertadores.edu.co
SUMMARY:Registro y entrega de calificaciones cursos intersemestrales - S1Pr
DESCRIPTION:
URL:https://calendarioacademico.libertadores.edu.co/event/registro-y-entrega-de-calificaciones-cursos-intersemestrales-s1pr/
LOCATION:Fundación Universitaria Los Libertadores\, Carrera 16 # 63 A - 68\, Bogotá D.C.\, 110011\, Colombia
CATEGORIES:Cursos Intersemestrales I
ORGANIZER;CN="Fundaci%C3%B3n Universitaria Los Libertadores Bogot%C3%A1-Cartagena":MAILTO:fullatencion@libertadores.edu.co
END:VEVENT
BEGIN:VEVENT
DTSTART;VALUE=DATE:20230721
DTEND;VALUE=DATE:20230922
DTSTAMP:20260423T023027
CREATED:20220302T153812Z
LAST-MODIFIED:20221226T144543Z
UID:7029-1689897600-1695340799@calendarioacademico.libertadores.edu.co
SUMMARY:Primera Convocatoria de estancias cortas
DESCRIPTION:
URL:https://calendarioacademico.libertadores.edu.co/event/primera-convocatoria-de-estancias-cortas-s1pr/
LOCATION:Fundación Universitaria Los Libertadores\, Carrera 16 # 63 A - 68\, Bogotá D.C.\, 110011\, Colombia
CATEGORIES:Internacionalización I
ORGANIZER;CN="Fundaci%C3%B3n Universitaria Los Libertadores Bogot%C3%A1-Cartagena":MAILTO:fullatencion@libertadores.edu.co
END:VEVENT
BEGIN:VEVENT
DTSTART;VALUE=DATE:20230721
DTEND;VALUE=DATE:20230722
DTSTAMP:20260423T023027
CREATED:20220302T132140Z
LAST-MODIFIED:20221226T145401Z
UID:7002-1689897600-1689983999@calendarioacademico.libertadores.edu.co
SUMMARY:Apertura y cierre de SAI para designación de grupos - S2Pr corte 1
DESCRIPTION:
URL:https://calendarioacademico.libertadores.edu.co/event/apertura-y-cierre-de-sai-para-designacion-de-grupos-ii/
LOCATION:Fundación Universitaria Los Libertadores\, Carrera 16 # 63 A - 68\, Bogotá D.C.\, 110011\, Colombia
CATEGORIES:Preparatorios II
ORGANIZER;CN="Fundaci%C3%B3n Universitaria Los Libertadores Bogot%C3%A1-Cartagena":MAILTO:fullatencion@libertadores.edu.co
END:VEVENT
BEGIN:VEVENT
DTSTART;VALUE=DATE:20230720
DTEND;VALUE=DATE:20230809
DTSTAMP:20260423T023027
CREATED:20220301T155313Z
LAST-MODIFIED:20221222T171810Z
UID:6775-1689811200-1691539199@calendarioacademico.libertadores.edu.co
SUMMARY:Pago Ordinario Facultades de: Psicología y Ciencias Económicas\, Administrativas y Contables-S2Pr
DESCRIPTION:Descarga tu recibo aquí \nConoce como hacerlo en el tutorial de pagos 
URL:https://calendarioacademico.libertadores.edu.co/event/pago-ordinario-facultades-de-psicologia-y-ciencias-economicas-administrativas-y-contables-s2pr/
LOCATION:Fundación Universitaria Los Libertadores\, Carrera 16 # 63 A - 68\, Bogotá D.C.\, 110011\, Colombia
CATEGORIES:Matricula estudiantes antiguos II
ORGANIZER;CN="Fundaci%C3%B3n Universitaria Los Libertadores":MAILTO:infopresencial@libertadores.edu.co
END:VEVENT
BEGIN:VEVENT
DTSTART;VALUE=DATE:20230719
DTEND;VALUE=DATE:20230720
DTSTAMP:20260423T023027
CREATED:20220302T202211Z
LAST-MODIFIED:20221222T222744Z
UID:7228-1689724800-1689811199@calendarioacademico.libertadores.edu.co
SUMMARY:Entrega de certificados Seminarios de Grado regular - S1Pr
DESCRIPTION:
URL:https://calendarioacademico.libertadores.edu.co/event/entrega-de-certificados-seminarios-de-grado-regular-s1pr/
LOCATION:Fundación Universitaria Los Libertadores\, Carrera 16 # 63 A - 68\, Bogotá D.C.\, 110011\, Colombia
CATEGORIES:Seminarios de Grado periodo regular I
ORGANIZER;CN="Fundaci%C3%B3n Universitaria Los Libertadores Bogot%C3%A1-Cartagena":MAILTO:fullatencion@libertadores.edu.co
END:VEVENT
BEGIN:VEVENT
DTSTART;VALUE=DATE:20230715
DTEND;VALUE=DATE:20230809
DTSTAMP:20260423T023027
CREATED:20220301T161304Z
LAST-MODIFIED:20221222T171930Z
UID:6832-1689379200-1691539199@calendarioacademico.libertadores.edu.co
SUMMARY:Pago Ordinario Facultades de: Ciencias de la Comunicación\, Derecho y Ciencias Políticas-S2Pr
DESCRIPTION: Descarga tu recibo aquí \nConoce como hacerlo en el tutorial de pagos 
URL:https://calendarioacademico.libertadores.edu.co/event/pago-ordinario-facultades-de-ciencias-de-la-comunicacion-derecho-y-ciencias-politicas-s2pr/
LOCATION:Fundación Universitaria Los Libertadores\, Carrera 16 # 63 A - 68\, Bogotá D.C.\, 110011\, Colombia
CATEGORIES:Matricula estudiantes antiguos II
ORGANIZER;CN="Fundaci%C3%B3n Universitaria Los Libertadores":MAILTO:infopresencial@libertadores.edu.co
END:VEVENT
BEGIN:VEVENT
DTSTART;VALUE=DATE:20230715
DTEND;VALUE=DATE:20230809
DTSTAMP:20260423T023027
CREATED:20220228T232910Z
LAST-MODIFIED:20221123T220200Z
UID:6676-1689379200-1691539199@calendarioacademico.libertadores.edu.co
SUMMARY:Pago ordinario admitidos-S2Pr
DESCRIPTION:Descarga el recibo aquí.  \nConoce como hacerlo en el tutorial de pagos.
URL:https://calendarioacademico.libertadores.edu.co/event/pago-ordinario-admitidos-s2pr/
LOCATION:Fundación Universitaria Los Libertadores\, Carrera 16 # 63 A - 68\, Bogotá D.C.\, 110011\, Colombia
CATEGORIES:Matriculas estudiantes nuevos II
ORGANIZER;CN="Fundaci%C3%B3n Universitaria Los Libertadores - Inscripciones":MAILTO:inscripciones@libertadores.edu.co
END:VEVENT
BEGIN:VEVENT
DTSTART;VALUE=DATE:20230712
DTEND;VALUE=DATE:20230725
DTSTAMP:20260423T023027
CREATED:20220302T201715Z
LAST-MODIFIED:20221226T224920Z
UID:7225-1689120000-1690243199@calendarioacademico.libertadores.edu.co
SUMMARY:Fecha límite de pago coterminales trimestrales II - corte 1
DESCRIPTION:
URL:https://calendarioacademico.libertadores.edu.co/event/fecha-limite-de-pago-coterminales-trimestrales-2-ciclo-1/
LOCATION:Fundación Universitaria Los Libertadores\, Carrera 16 # 63 A - 68\, Bogotá D.C.\, 110011\, Colombia
CATEGORIES:Coterminales Trimestrales II
ORGANIZER;CN="Fundaci%C3%B3n Universitaria Los Libertadores Bogot%C3%A1-Cartagena":MAILTO:fullatencion@libertadores.edu.co
END:VEVENT
BEGIN:VEVENT
DTSTART;VALUE=DATE:20230712
DTEND;VALUE=DATE:20230722
DTSTAMP:20260423T023027
CREATED:20220302T200302Z
LAST-MODIFIED:20221226T214941Z
UID:7219-1689120000-1689983999@calendarioacademico.libertadores.edu.co
SUMMARY:Publicación de órdenes de pago coterminales trimestrales II - corte 1
DESCRIPTION:Descarga tu recibo aquí. \nConoce como hacerlo en el tutorial de pagos. \n 
URL:https://calendarioacademico.libertadores.edu.co/event/publicacion-de-ordenes-de-pago-coterminales-trimestrales-ii-1/
LOCATION:Fundación Universitaria Los Libertadores\, Carrera 16 # 63 A - 68\, Bogotá D.C.\, 110011\, Colombia
CATEGORIES:Coterminales Trimestrales II
ORGANIZER;CN="Fundaci%C3%B3n Universitaria Los Libertadores Bogot%C3%A1-Cartagena":MAILTO:fullatencion@libertadores.edu.co
END:VEVENT
BEGIN:VEVENT
DTSTART;VALUE=DATE:20230711
DTEND;VALUE=DATE:20230722
DTSTAMP:20260423T023027
CREATED:20220301T172411Z
LAST-MODIFIED:20221227T172354Z
UID:6856-1689033600-1689983999@calendarioacademico.libertadores.edu.co
SUMMARY:Pago Pronto pago F Ingeniería y Ciencias Básicas\, F Ciencias Humanas y Sociales-S2Pr
DESCRIPTION:Descarga tu recibo aquí \nConoce como hacerlo en el tutorial de pagos 
URL:https://calendarioacademico.libertadores.edu.co/event/pago-pronto-pago-f-ingenieria-y-ciencias-basicas-f-ciencias-humanas-y-sociales-s2pr/
LOCATION:Fundación Universitaria Los Libertadores\, Carrera 16 # 63 A - 68\, Bogotá D.C.\, 110011\, Colombia
CATEGORIES:Matricula estudiantes antiguos II
ORGANIZER;CN="Fundaci%C3%B3n Universitaria Los Libertadores":MAILTO:infopresencial@libertadores.edu.co
END:VEVENT
END:VCALENDAR