BEGIN:VCALENDAR
VERSION:2.0
PRODID:-//Calendario Académico - ECPv6.15.20//NONSGML v1.0//EN
CALSCALE:GREGORIAN
METHOD:PUBLISH
X-ORIGINAL-URL:https://calendarioacademico.libertadores.edu.co
X-WR-CALDESC:Eventos para Calendario Académico
REFRESH-INTERVAL;VALUE=DURATION:PT1H
X-Robots-Tag:noindex
X-PUBLISHED-TTL:PT1H
BEGIN:VTIMEZONE
TZID:America/New_York
BEGIN:DAYLIGHT
TZOFFSETFROM:-0500
TZOFFSETTO:-0400
TZNAME:EDT
DTSTART:20220313T070000
END:DAYLIGHT
BEGIN:STANDARD
TZOFFSETFROM:-0400
TZOFFSETTO:-0500
TZNAME:EST
DTSTART:20221106T060000
END:STANDARD
BEGIN:DAYLIGHT
TZOFFSETFROM:-0500
TZOFFSETTO:-0400
TZNAME:EDT
DTSTART:20230312T070000
END:DAYLIGHT
BEGIN:STANDARD
TZOFFSETFROM:-0400
TZOFFSETTO:-0500
TZNAME:EST
DTSTART:20231105T060000
END:STANDARD
BEGIN:DAYLIGHT
TZOFFSETFROM:-0500
TZOFFSETTO:-0400
TZNAME:EDT
DTSTART:20240310T070000
END:DAYLIGHT
BEGIN:STANDARD
TZOFFSETFROM:-0400
TZOFFSETTO:-0500
TZNAME:EST
DTSTART:20241103T060000
END:STANDARD
END:VTIMEZONE
BEGIN:VTIMEZONE
TZID:UTC
BEGIN:STANDARD
TZOFFSETFROM:+0000
TZOFFSETTO:+0000
TZNAME:UTC
DTSTART:20220101T000000
END:STANDARD
END:VTIMEZONE
BEGIN:VEVENT
DTSTART;VALUE=DATE:20230721
DTEND;VALUE=DATE:20230728
DTSTAMP:20260423T045045
CREATED:20220303T131738Z
LAST-MODIFIED:20221222T213246Z
UID:7290-1689897600-1690502399@calendarioacademico.libertadores.edu.co
SUMMARY:Registro y entrega de calificaciones cursos intersemestrales - S1Pr
DESCRIPTION:
URL:https://calendarioacademico.libertadores.edu.co/event/registro-y-entrega-de-calificaciones-cursos-intersemestrales-s1pr/
LOCATION:Fundación Universitaria Los Libertadores\, Carrera 16 # 63 A - 68\, Bogotá D.C.\, 110011\, Colombia
CATEGORIES:Cursos Intersemestrales I
ORGANIZER;CN="Fundaci%C3%B3n Universitaria Los Libertadores Bogot%C3%A1-Cartagena":MAILTO:fullatencion@libertadores.edu.co
END:VEVENT
BEGIN:VEVENT
DTSTART;VALUE=DATE:20230721
DTEND;VALUE=DATE:20230922
DTSTAMP:20260423T045045
CREATED:20220302T153812Z
LAST-MODIFIED:20221226T144543Z
UID:7029-1689897600-1695340799@calendarioacademico.libertadores.edu.co
SUMMARY:Primera Convocatoria de estancias cortas
DESCRIPTION:
URL:https://calendarioacademico.libertadores.edu.co/event/primera-convocatoria-de-estancias-cortas-s1pr/
LOCATION:Fundación Universitaria Los Libertadores\, Carrera 16 # 63 A - 68\, Bogotá D.C.\, 110011\, Colombia
CATEGORIES:Internacionalización I
ORGANIZER;CN="Fundaci%C3%B3n Universitaria Los Libertadores Bogot%C3%A1-Cartagena":MAILTO:fullatencion@libertadores.edu.co
END:VEVENT
BEGIN:VEVENT
DTSTART;VALUE=DATE:20230721
DTEND;VALUE=DATE:20230722
DTSTAMP:20260423T045045
CREATED:20220302T132140Z
LAST-MODIFIED:20221226T145401Z
UID:7002-1689897600-1689983999@calendarioacademico.libertadores.edu.co
SUMMARY:Apertura y cierre de SAI para designación de grupos - S2Pr corte 1
DESCRIPTION:
URL:https://calendarioacademico.libertadores.edu.co/event/apertura-y-cierre-de-sai-para-designacion-de-grupos-ii/
LOCATION:Fundación Universitaria Los Libertadores\, Carrera 16 # 63 A - 68\, Bogotá D.C.\, 110011\, Colombia
CATEGORIES:Preparatorios II
ORGANIZER;CN="Fundaci%C3%B3n Universitaria Los Libertadores Bogot%C3%A1-Cartagena":MAILTO:fullatencion@libertadores.edu.co
END:VEVENT
BEGIN:VEVENT
DTSTART;VALUE=DATE:20230720
DTEND;VALUE=DATE:20230809
DTSTAMP:20260423T045045
CREATED:20220301T155313Z
LAST-MODIFIED:20221222T171810Z
UID:6775-1689811200-1691539199@calendarioacademico.libertadores.edu.co
SUMMARY:Pago Ordinario Facultades de: Psicología y Ciencias Económicas\, Administrativas y Contables-S2Pr
DESCRIPTION:Descarga tu recibo aquí \nConoce como hacerlo en el tutorial de pagos 
URL:https://calendarioacademico.libertadores.edu.co/event/pago-ordinario-facultades-de-psicologia-y-ciencias-economicas-administrativas-y-contables-s2pr/
LOCATION:Fundación Universitaria Los Libertadores\, Carrera 16 # 63 A - 68\, Bogotá D.C.\, 110011\, Colombia
CATEGORIES:Matricula estudiantes antiguos II
ORGANIZER;CN="Fundaci%C3%B3n Universitaria Los Libertadores":MAILTO:infopresencial@libertadores.edu.co
END:VEVENT
BEGIN:VEVENT
DTSTART;VALUE=DATE:20230719
DTEND;VALUE=DATE:20230720
DTSTAMP:20260423T045045
CREATED:20220302T202211Z
LAST-MODIFIED:20221222T222744Z
UID:7228-1689724800-1689811199@calendarioacademico.libertadores.edu.co
SUMMARY:Entrega de certificados Seminarios de Grado regular - S1Pr
DESCRIPTION:
URL:https://calendarioacademico.libertadores.edu.co/event/entrega-de-certificados-seminarios-de-grado-regular-s1pr/
LOCATION:Fundación Universitaria Los Libertadores\, Carrera 16 # 63 A - 68\, Bogotá D.C.\, 110011\, Colombia
CATEGORIES:Seminarios de Grado periodo regular I
ORGANIZER;CN="Fundaci%C3%B3n Universitaria Los Libertadores Bogot%C3%A1-Cartagena":MAILTO:fullatencion@libertadores.edu.co
END:VEVENT
BEGIN:VEVENT
DTSTART;VALUE=DATE:20230715
DTEND;VALUE=DATE:20230809
DTSTAMP:20260423T045045
CREATED:20220301T161304Z
LAST-MODIFIED:20221222T171930Z
UID:6832-1689379200-1691539199@calendarioacademico.libertadores.edu.co
SUMMARY:Pago Ordinario Facultades de: Ciencias de la Comunicación\, Derecho y Ciencias Políticas-S2Pr
DESCRIPTION: Descarga tu recibo aquí \nConoce como hacerlo en el tutorial de pagos 
URL:https://calendarioacademico.libertadores.edu.co/event/pago-ordinario-facultades-de-ciencias-de-la-comunicacion-derecho-y-ciencias-politicas-s2pr/
LOCATION:Fundación Universitaria Los Libertadores\, Carrera 16 # 63 A - 68\, Bogotá D.C.\, 110011\, Colombia
CATEGORIES:Matricula estudiantes antiguos II
ORGANIZER;CN="Fundaci%C3%B3n Universitaria Los Libertadores":MAILTO:infopresencial@libertadores.edu.co
END:VEVENT
BEGIN:VEVENT
DTSTART;VALUE=DATE:20230715
DTEND;VALUE=DATE:20230809
DTSTAMP:20260423T045045
CREATED:20220228T232910Z
LAST-MODIFIED:20221123T220200Z
UID:6676-1689379200-1691539199@calendarioacademico.libertadores.edu.co
SUMMARY:Pago ordinario admitidos-S2Pr
DESCRIPTION:Descarga el recibo aquí.  \nConoce como hacerlo en el tutorial de pagos.
URL:https://calendarioacademico.libertadores.edu.co/event/pago-ordinario-admitidos-s2pr/
LOCATION:Fundación Universitaria Los Libertadores\, Carrera 16 # 63 A - 68\, Bogotá D.C.\, 110011\, Colombia
CATEGORIES:Matriculas estudiantes nuevos II
ORGANIZER;CN="Fundaci%C3%B3n Universitaria Los Libertadores - Inscripciones":MAILTO:inscripciones@libertadores.edu.co
END:VEVENT
BEGIN:VEVENT
DTSTART;VALUE=DATE:20230712
DTEND;VALUE=DATE:20230725
DTSTAMP:20260423T045045
CREATED:20220302T201715Z
LAST-MODIFIED:20221226T224920Z
UID:7225-1689120000-1690243199@calendarioacademico.libertadores.edu.co
SUMMARY:Fecha límite de pago coterminales trimestrales II - corte 1
DESCRIPTION:
URL:https://calendarioacademico.libertadores.edu.co/event/fecha-limite-de-pago-coterminales-trimestrales-2-ciclo-1/
LOCATION:Fundación Universitaria Los Libertadores\, Carrera 16 # 63 A - 68\, Bogotá D.C.\, 110011\, Colombia
CATEGORIES:Coterminales Trimestrales II
ORGANIZER;CN="Fundaci%C3%B3n Universitaria Los Libertadores Bogot%C3%A1-Cartagena":MAILTO:fullatencion@libertadores.edu.co
END:VEVENT
BEGIN:VEVENT
DTSTART;VALUE=DATE:20230712
DTEND;VALUE=DATE:20230722
DTSTAMP:20260423T045045
CREATED:20220302T200302Z
LAST-MODIFIED:20221226T214941Z
UID:7219-1689120000-1689983999@calendarioacademico.libertadores.edu.co
SUMMARY:Publicación de órdenes de pago coterminales trimestrales II - corte 1
DESCRIPTION:Descarga tu recibo aquí. \nConoce como hacerlo en el tutorial de pagos. \n 
URL:https://calendarioacademico.libertadores.edu.co/event/publicacion-de-ordenes-de-pago-coterminales-trimestrales-ii-1/
LOCATION:Fundación Universitaria Los Libertadores\, Carrera 16 # 63 A - 68\, Bogotá D.C.\, 110011\, Colombia
CATEGORIES:Coterminales Trimestrales II
ORGANIZER;CN="Fundaci%C3%B3n Universitaria Los Libertadores Bogot%C3%A1-Cartagena":MAILTO:fullatencion@libertadores.edu.co
END:VEVENT
BEGIN:VEVENT
DTSTART;VALUE=DATE:20230711
DTEND;VALUE=DATE:20230722
DTSTAMP:20260423T045045
CREATED:20220301T172411Z
LAST-MODIFIED:20221227T172354Z
UID:6856-1689033600-1689983999@calendarioacademico.libertadores.edu.co
SUMMARY:Pago Pronto pago F Ingeniería y Ciencias Básicas\, F Ciencias Humanas y Sociales-S2Pr
DESCRIPTION:Descarga tu recibo aquí \nConoce como hacerlo en el tutorial de pagos 
URL:https://calendarioacademico.libertadores.edu.co/event/pago-pronto-pago-f-ingenieria-y-ciencias-basicas-f-ciencias-humanas-y-sociales-s2pr/
LOCATION:Fundación Universitaria Los Libertadores\, Carrera 16 # 63 A - 68\, Bogotá D.C.\, 110011\, Colombia
CATEGORIES:Matricula estudiantes antiguos II
ORGANIZER;CN="Fundaci%C3%B3n Universitaria Los Libertadores":MAILTO:infopresencial@libertadores.edu.co
END:VEVENT
BEGIN:VEVENT
DTSTART;VALUE=DATE:20230711
DTEND;VALUE=DATE:20230712
DTSTAMP:20260423T045045
CREATED:20220301T171919Z
LAST-MODIFIED:20221124T195513Z
UID:6853-1689033600-1689119999@calendarioacademico.libertadores.edu.co
SUMMARY:Publicación recibos F Ingeniería y Ciencias Básicas\, F Ciencias Humanas y Sociales-S2Pr
DESCRIPTION:Descarga tu recibo aquí \nConoce como hacerlo en el tutorial de pagos 
URL:https://calendarioacademico.libertadores.edu.co/event/publicacion-recibos-f-ingenieria-y-ciencias-basicas-f-ciencias-humanas-y-sociales-s2pr/
LOCATION:Fundación Universitaria Los Libertadores\, Carrera 16 # 63 A - 68\, Bogotá D.C.\, 110011\, Colombia
CATEGORIES:Matricula estudiantes antiguos II
ORGANIZER;CN="Fundaci%C3%B3n Universitaria Los Libertadores":MAILTO:infopresencial@libertadores.edu.co
END:VEVENT
BEGIN:VEVENT
DTSTART;VALUE=DATE:20230711
DTEND;VALUE=DATE:20230712
DTSTAMP:20260423T045045
CREATED:20220228T180138Z
LAST-MODIFIED:20221223T144637Z
UID:6608-1689033600-1689119999@calendarioacademico.libertadores.edu.co
SUMMARY:Inscripción práctica - Fac.  Ciencias Humanas y Sociales y Fac. de Ingeniería y Ciencias Básicas-S2Pr
DESCRIPTION:
URL:https://calendarioacademico.libertadores.edu.co/event/inscripcion-practica-fac-ciencias-humanas-y-sociales-y-fac-de-ingenieria-y-ciencias-basicas-s2pr/
LOCATION:Fundación Universitaria Los Libertadores\, Carrera 16 # 63 A - 68\, Bogotá D.C.\, 110011\, Colombia
CATEGORIES:Prácticas II
ORGANIZER;CN="Fundaci%C3%B3n Universitaria Los Libertadores Bogot%C3%A1-Cartagena":MAILTO:fullatencion@libertadores.edu.co
END:VEVENT
BEGIN:VEVENT
DTSTART;VALUE=DATE:20230710
DTEND;VALUE=DATE:20231214
DTSTAMP:20260423T045045
CREATED:20220301T210740Z
LAST-MODIFIED:20221222T201051Z
UID:6913-1688947200-1702511999@calendarioacademico.libertadores.edu.co
SUMMARY:Solicitud y presentación de suficiencias-S2Pr
DESCRIPTION:
URL:https://calendarioacademico.libertadores.edu.co/event/solicitud-y-presentacion-de-suficiencias-s2pr/
LOCATION:Fundación Universitaria Los Libertadores\, Carrera 16 # 63 A - 68\, Bogotá D.C.\, 110011\, Colombia
CATEGORIES:Periodo Académico II
ORGANIZER;CN="Fundaci%C3%B3n Universitaria Los Libertadores":MAILTO:infopresencial@libertadores.edu.co
END:VEVENT
BEGIN:VEVENT
DTSTART;VALUE=DATE:20230710
DTEND;VALUE=DATE:20230805
DTSTAMP:20260423T045045
CREATED:20220301T150012Z
LAST-MODIFIED:20221226T230706Z
UID:6749-1688947200-1691193599@calendarioacademico.libertadores.edu.co
SUMMARY:Inicio y terminación Preuniversitario II-S2Pr
DESCRIPTION:
URL:https://calendarioacademico.libertadores.edu.co/event/inicio-y-terminacion-preuniversitario-2-s2pr/
LOCATION:Fundación Universitaria Los Libertadores\, Carrera 16 # 63 A - 68\, Bogotá D.C.\, 110011\, Colombia
CATEGORIES:Preuniversitario II
ORGANIZER;CN="Fundaci%C3%B3n Universitaria Los Libertadores":MAILTO:infopresencial@libertadores.edu.co
END:VEVENT
BEGIN:VEVENT
DTSTART;VALUE=DATE:20230710
DTEND;VALUE=DATE:20230805
DTSTAMP:20260423T045045
CREATED:20220301T135552Z
LAST-MODIFIED:20221226T230238Z
UID:6713-1688947200-1691193599@calendarioacademico.libertadores.edu.co
SUMMARY:Inicio y terminación de Nivelatorios II - S2Pr
DESCRIPTION:
URL:https://calendarioacademico.libertadores.edu.co/event/inicio-y-terminacion-de-nivelatorios-2-s2pr/
LOCATION:Fundación Universitaria Los Libertadores\, Carrera 16 # 63 A - 68\, Bogotá D.C.\, 110011\, Colombia
CATEGORIES:Nivelatorios II
ORGANIZER;CN="Fundaci%C3%B3n Universitaria Los Libertadores Bogot%C3%A1-Cartagena":MAILTO:fullatencion@libertadores.edu.co
END:VEVENT
BEGIN:VEVENT
DTSTART;VALUE=DATE:20230709
DTEND;VALUE=DATE:20230720
DTSTAMP:20260423T045045
CREATED:20220301T145839Z
LAST-MODIFIED:20221124T194931Z
UID:6755-1688860800-1689811199@calendarioacademico.libertadores.edu.co
SUMMARY:Pago Pronto pago Facultades de Psicología y Ciencias Económicas\, Administrativas y Contables-S2Pr
DESCRIPTION: Descarga tu recibo aquí \nConoce como hacerlo en el tutorial de pagos 
URL:https://calendarioacademico.libertadores.edu.co/event/pago-pronto-pago-facultades-de-psicologia-y-ciencias-economicas-administrativas-y-contables-s2pr/
LOCATION:Fundación Universitaria Los Libertadores\, Carrera 16 # 63 A - 68\, Bogotá D.C.\, 110011\, Colombia
CATEGORIES:Matricula estudiantes antiguos II
ORGANIZER;CN="Fundaci%C3%B3n Universitaria Los Libertadores":MAILTO:infopresencial@libertadores.edu.co
END:VEVENT
BEGIN:VEVENT
DTSTART;VALUE=DATE:20230708
DTEND;VALUE=DATE:20230709
DTSTAMP:20260423T045045
CREATED:20220301T145650Z
LAST-MODIFIED:20221124T194155Z
UID:6746-1688774400-1688860799@calendarioacademico.libertadores.edu.co
SUMMARY:Publicación recibos Facultades de Psicología y Ciencias Económicas\, Administrativas y Contables-S2Pr
DESCRIPTION:Descarga tu recibo aquí \nConoce como hacerlo en el tutorial de pagos  \n 
URL:https://calendarioacademico.libertadores.edu.co/event/publicacion-recibos-facultades-de-psicologia-y-ciencias-economicas-administrativas-y-contables-s2pr/
LOCATION:Fundación Universitaria Los Libertadores\, Carrera 16 # 63 A - 68\, Bogotá D.C.\, 110011\, Colombia
CATEGORIES:Matricula estudiantes antiguos II
ORGANIZER;CN="Fundaci%C3%B3n Universitaria Los Libertadores":MAILTO:infopresencial@libertadores.edu.co
END:VEVENT
BEGIN:VEVENT
DTSTART;VALUE=DATE:20230707
DTEND;VALUE=DATE:20230722
DTSTAMP:20260423T045045
CREATED:20220302T193758Z
LAST-MODIFIED:20221226T211755Z
UID:7210-1688688000-1689983999@calendarioacademico.libertadores.edu.co
SUMMARY:Solicitud de órdenes de pago a Admisiones y Registro coterminales trimestrales II - corte 1
DESCRIPTION:
URL:https://calendarioacademico.libertadores.edu.co/event/solicitud-de-ordenes-de-pago-a-admisiones-y-registro-coterminales-trimestrales-2-corte-1/
LOCATION:Fundación Universitaria Los Libertadores\, Carrera 16 # 63 A - 68\, Bogotá D.C.\, 110011\, Colombia
CATEGORIES:Coterminales Trimestrales II
ORGANIZER;CN="Fundaci%C3%B3n Universitaria Los Libertadores Bogot%C3%A1-Cartagena":MAILTO:fullatencion@libertadores.edu.co
END:VEVENT
BEGIN:VEVENT
DTSTART;VALUE=DATE:20230706
DTEND;VALUE=DATE:20230726
DTSTAMP:20260423T045045
CREATED:20220302T222523Z
LAST-MODIFIED:20221222T213100Z
UID:7288-1688601600-1690329599@calendarioacademico.libertadores.edu.co
SUMMARY:Inicio y terminación de cursos intersemestrales S1Pr
DESCRIPTION:
URL:https://calendarioacademico.libertadores.edu.co/event/inicio-y-terminacion-de-cursos-intersemestrales-s1pr/
LOCATION:Fundación Universitaria Los Libertadores\, Carrera 16 # 63 A - 68\, Bogotá D.C.\, 110011\, Colombia
CATEGORIES:Cursos Intersemestrales I
ORGANIZER;CN="Fundaci%C3%B3n Universitaria Los Libertadores Bogot%C3%A1-Cartagena":MAILTO:fullatencion@libertadores.edu.co
END:VEVENT
BEGIN:VEVENT
DTSTART;VALUE=DATE:20230706
DTEND;VALUE=DATE:20230715
DTSTAMP:20260423T045045
CREATED:20220301T160830Z
LAST-MODIFIED:20221227T172228Z
UID:6826-1688601600-1689379199@calendarioacademico.libertadores.edu.co
SUMMARY:Pago Pronto pago Facultades de: Ciencias de la Comunicación\, Derecho y Ciencias Políticas-S2Pr
DESCRIPTION:  Descarga tu recibo aquí \nConoce como hacerlo en el tutorial de pagos 
URL:https://calendarioacademico.libertadores.edu.co/event/pago-pronto-pago-facultades-de-ciencias-de-la-comunicacion-derecho-y-ciencias-politicas-s2pr/
LOCATION:Fundación Universitaria Los Libertadores\, Carrera 16 # 63 A - 68\, Bogotá D.C.\, 110011\, Colombia
CATEGORIES:Matricula estudiantes antiguos II
ORGANIZER;CN="Fundaci%C3%B3n Universitaria Los Libertadores":MAILTO:infopresencial@libertadores.edu.co
END:VEVENT
BEGIN:VEVENT
DTSTART;VALUE=DATE:20230706
DTEND;VALUE=DATE:20230812
DTSTAMP:20260423T045045
CREATED:20220301T153027Z
LAST-MODIFIED:20221223T145439Z
UID:6791-1688601600-1691798399@calendarioacademico.libertadores.edu.co
SUMMARY:Práctica intersemestral - S1Pr
DESCRIPTION:
URL:https://calendarioacademico.libertadores.edu.co/event/practica-intersemestral-s1pr/
LOCATION:Fundación Universitaria Los Libertadores\, Carrera 16 # 63 A - 68\, Bogotá D.C.\, 110011\, Colombia
CATEGORIES:Prácticas I
ORGANIZER;CN="Fundaci%C3%B3n Universitaria Los Libertadores Bogot%C3%A1-Cartagena":MAILTO:fullatencion@libertadores.edu.co
END:VEVENT
BEGIN:VEVENT
DTSTART;VALUE=DATE:20230706
DTEND;VALUE=DATE:20230710
DTSTAMP:20260423T045045
CREATED:20220301T144714Z
LAST-MODIFIED:20231205T195359Z
UID:6740-1688601600-1688947199@calendarioacademico.libertadores.edu.co
SUMMARY:Selección de horarios Facultades de: Ingeniería y Ciencias Básicas\, Ciencias Humanas y Sociales-S2Pr
DESCRIPTION:Inscribe tus espacios académicos aquí \nConoce como hacerlo en el tutorial de inscripción de espacios aquí 
URL:https://calendarioacademico.libertadores.edu.co/event/seleccion-de-horarios-facultades-de-ingenieria-y-ciencias-basicas-ciencias-humanas-y-sociales-s2pr/
LOCATION:Fundación Universitaria Los Libertadores\, Carrera 16 # 63 A - 68\, Bogotá D.C.\, 110011\, Colombia
CATEGORIES:Matricula estudiantes antiguos II
ORGANIZER;CN="Fundaci%C3%B3n Universitaria Los Libertadores":MAILTO:infopresencial@libertadores.edu.co
END:VEVENT
BEGIN:VEVENT
DTSTART;TZID=America/New_York:20230705T000000
DTEND;TZID=America/New_York:20230804T235900
DTSTAMP:20260423T045045
CREATED:20220302T173508Z
LAST-MODIFIED:20221227T164501Z
UID:7121-1688515200-1691193540@calendarioacademico.libertadores.edu.co
SUMMARY:Solicitud de cambios de grupos-S2Pr
DESCRIPTION:
URL:https://calendarioacademico.libertadores.edu.co/event/solicitud-de-cambios-de-grupos-s2pr/
LOCATION:Fundación Universitaria Los Libertadores\, Carrera 16 # 63 A - 68\, Bogotá D.C.\, 110011\, Colombia
CATEGORIES:Matricula estudiantes antiguos II
ORGANIZER;CN="Fundaci%C3%B3n Universitaria Los Libertadores":MAILTO:infopresencial@libertadores.edu.co
END:VEVENT
BEGIN:VEVENT
DTSTART;VALUE=DATE:20230705
DTEND;VALUE=DATE:20230706
DTSTAMP:20260423T045045
CREATED:20221223T144407Z
LAST-MODIFIED:20221223T144429Z
UID:7537-1688515200-1688601599@calendarioacademico.libertadores.edu.co
SUMMARY:Inscripción práctica - Fac. Ciencias de la Comunicación y Fac. Derecho\, Ciencias Políticas y Relaciones Internacionales-S2Pr
DESCRIPTION:
URL:https://calendarioacademico.libertadores.edu.co/event/inscripcion-practica-fac-ciencias-de-la-comunicacion-y-fac-derecho-ciencias-politicas-y-relaciones-internacionales-s2pr/
LOCATION:Fundación Universitaria Los Libertadores\, Carrera 16 # 63 A - 68\, Bogotá D.C.\, 110011\, Colombia
CATEGORIES:Prácticas II
ORGANIZER;CN="Fundaci%C3%B3n Universitaria Los Libertadores":MAILTO:infopresencial@libertadores.edu.co
END:VEVENT
BEGIN:VEVENT
DTSTART;VALUE=DATE:20230705
DTEND;VALUE=DATE:20230722
DTSTAMP:20260423T045045
CREATED:20220302T192818Z
LAST-MODIFIED:20221226T211244Z
UID:7204-1688515200-1689983999@calendarioacademico.libertadores.edu.co
SUMMARY:Revisión de historias académicas coterminales trimestrales II - Corte 1
DESCRIPTION:
URL:https://calendarioacademico.libertadores.edu.co/event/revision-de-historias-academicas-coterminales-trimestrales-2-corte-1/
LOCATION:Fundación Universitaria Los Libertadores\, Carrera 16 # 63 A - 68\, Bogotá D.C.\, 110011\, Colombia
CATEGORIES:Coterminales Trimestrales II
ORGANIZER;CN="Fundaci%C3%B3n Universitaria Los Libertadores Bogot%C3%A1-Cartagena":MAILTO:fullatencion@libertadores.edu.co
END:VEVENT
BEGIN:VEVENT
DTSTART;VALUE=DATE:20230705
DTEND;VALUE=DATE:20230722
DTSTAMP:20260423T045045
CREATED:20220302T192531Z
LAST-MODIFIED:20221226T210837Z
UID:7201-1688515200-1689983999@calendarioacademico.libertadores.edu.co
SUMMARY:Inscripción coterminales trimestrales II - corte 1
DESCRIPTION:Conoce mas información aquí.
URL:https://calendarioacademico.libertadores.edu.co/event/inscripcion-coterminales-trimestrales-ii/
LOCATION:Fundación Universitaria Los Libertadores\, Carrera 16 # 63 A - 68\, Bogotá D.C.\, 110011\, Colombia
CATEGORIES:Coterminales Trimestrales II
ORGANIZER;CN="Fundaci%C3%B3n Universitaria Los Libertadores Bogot%C3%A1-Cartagena":MAILTO:fullatencion@libertadores.edu.co
END:VEVENT
BEGIN:VEVENT
DTSTART;VALUE=DATE:20230705
DTEND;VALUE=DATE:20230706
DTSTAMP:20260423T045045
CREATED:20220301T160339Z
LAST-MODIFIED:20221124T191500Z
UID:6820-1688515200-1688601599@calendarioacademico.libertadores.edu.co
SUMMARY:Publicación recibos Facultades de: Ciencias de la Comunicación\, Derecho y Ciencias Políticas-S2Pr
DESCRIPTION:Descarga tu recibo aquí \nConoce como hacerlo en el tutorial de pagos 
URL:https://calendarioacademico.libertadores.edu.co/event/publicacion-recibos-facultades-de-ciencias-de-la-comunicacion-derecho-y-ciencias-politicas-s2pr/
LOCATION:Fundación Universitaria Los Libertadores\, Carrera 16 # 63 A - 68\, Bogotá D.C.\, 110011\, Colombia
CATEGORIES:Matricula estudiantes antiguos II
ORGANIZER;CN="Fundaci%C3%B3n Universitaria Los Libertadores":MAILTO:infopresencial@libertadores.edu.co
END:VEVENT
BEGIN:VEVENT
DTSTART;VALUE=DATE:20230705
DTEND;VALUE=DATE:20230706
DTSTAMP:20260423T045045
CREATED:20220301T145111Z
LAST-MODIFIED:20221226T230631Z
UID:6735-1688515200-1688601599@calendarioacademico.libertadores.edu.co
SUMMARY:Fecha límite de pago Preuniversitario II-S2Pr
DESCRIPTION:Descarga tu recibo aquí. \nConoce como hacerlo en el tutorial de pagos.
URL:https://calendarioacademico.libertadores.edu.co/event/fecha-limite-de-pago-preuniversitario-2-s2pr/
LOCATION:Fundación Universitaria Los Libertadores\, Carrera 16 # 63 A - 68\, Bogotá D.C.\, 110011\, Colombia
CATEGORIES:Preuniversitario II
ORGANIZER;CN="Fundaci%C3%B3n Universitaria Los Libertadores":MAILTO:infopresencial@libertadores.edu.co
END:VEVENT
BEGIN:VEVENT
DTSTART;VALUE=DATE:20230705
DTEND;VALUE=DATE:20230706
DTSTAMP:20260423T045045
CREATED:20220301T134227Z
LAST-MODIFIED:20221226T230123Z
UID:6654-1688515200-1688601599@calendarioacademico.libertadores.edu.co
SUMMARY:Fecha límite de pagos Nivelatorios II - S2Pr
DESCRIPTION:Descarga tu recibo aquí. \nConoce como hacerlo en el tutorial de pagos.
URL:https://calendarioacademico.libertadores.edu.co/event/fecha-limite-de-pagos-nivelatorios-2-s2pr/
LOCATION:Bogotá D.C.
CATEGORIES:Nivelatorios II
ORGANIZER;CN="Fundaci%C3%B3n Universitaria Los Libertadores Bogot%C3%A1-Cartagena":MAILTO:fullatencion@libertadores.edu.co
END:VEVENT
BEGIN:VEVENT
DTSTART;VALUE=DATE:20230704
DTEND;VALUE=DATE:20230707
DTSTAMP:20260423T045045
CREATED:20220301T143055Z
LAST-MODIFIED:20221124T145031Z
UID:6721-1688428800-1688687999@calendarioacademico.libertadores.edu.co
SUMMARY:Selección de horarios Facultades de Psicología y Ciencias Económicas\, Administrativas y Contables-S2Pr
DESCRIPTION:Inscribe tus espacios académicos aquí \nConoce como hacerlo en el tutorial de inscripción de espacios aquí  \n 
URL:https://calendarioacademico.libertadores.edu.co/event/seleccion-de-horarios-facultades-de-psicologia-y-ciencias-economicas-administrativas-y-contables-s2pr/
LOCATION:Fundación Universitaria Los Libertadores\, Carrera 16 # 63 A - 68\, Bogotá D.C.\, 110011\, Colombia
CATEGORIES:Matricula estudiantes antiguos II
ORGANIZER;CN="Fundaci%C3%B3n Universitaria Los Libertadores":MAILTO:infopresencial@libertadores.edu.co
END:VEVENT
END:VCALENDAR