BEGIN:VCALENDAR
VERSION:2.0
PRODID:-//Calendario Académico - ECPv6.15.20//NONSGML v1.0//EN
CALSCALE:GREGORIAN
METHOD:PUBLISH
X-ORIGINAL-URL:https://calendarioacademico.libertadores.edu.co
X-WR-CALDESC:Eventos para Calendario Académico
REFRESH-INTERVAL;VALUE=DURATION:PT1H
X-Robots-Tag:noindex
X-PUBLISHED-TTL:PT1H
BEGIN:VTIMEZONE
TZID:America/New_York
BEGIN:DAYLIGHT
TZOFFSETFROM:-0500
TZOFFSETTO:-0400
TZNAME:EDT
DTSTART:20220313T070000
END:DAYLIGHT
BEGIN:STANDARD
TZOFFSETFROM:-0400
TZOFFSETTO:-0500
TZNAME:EST
DTSTART:20221106T060000
END:STANDARD
BEGIN:DAYLIGHT
TZOFFSETFROM:-0500
TZOFFSETTO:-0400
TZNAME:EDT
DTSTART:20230312T070000
END:DAYLIGHT
BEGIN:STANDARD
TZOFFSETFROM:-0400
TZOFFSETTO:-0500
TZNAME:EST
DTSTART:20231105T060000
END:STANDARD
BEGIN:DAYLIGHT
TZOFFSETFROM:-0500
TZOFFSETTO:-0400
TZNAME:EDT
DTSTART:20240310T070000
END:DAYLIGHT
BEGIN:STANDARD
TZOFFSETFROM:-0400
TZOFFSETTO:-0500
TZNAME:EST
DTSTART:20241103T060000
END:STANDARD
END:VTIMEZONE
BEGIN:VTIMEZONE
TZID:UTC
BEGIN:STANDARD
TZOFFSETFROM:+0000
TZOFFSETTO:+0000
TZNAME:UTC
DTSTART:20220101T000000
END:STANDARD
END:VTIMEZONE
BEGIN:VEVENT
DTSTART;VALUE=DATE:20230613
DTEND;VALUE=DATE:20230819
DTSTAMP:20260423T115302
CREATED:20220302T173259Z
LAST-MODIFIED:20221226T204714Z
UID:7118-1686614400-1692403199@calendarioacademico.libertadores.edu.co
SUMMARY:Revisión de historias académicas  coterminales semestrales II
DESCRIPTION:
URL:https://calendarioacademico.libertadores.edu.co/event/revision-de-historias-academicas-coterminales-semestrales-ii/
LOCATION:Fundación Universitaria Los Libertadores\, Carrera 16 # 63 A - 68\, Bogotá D.C.\, 110011\, Colombia
CATEGORIES:Coterminales Semestrales II
ORGANIZER;CN="Fundaci%C3%B3n Universitaria Los Libertadores Bogot%C3%A1-Cartagena":MAILTO:fullatencion@libertadores.edu.co
END:VEVENT
BEGIN:VEVENT
DTSTART;VALUE=DATE:20230613
DTEND;VALUE=DATE:20230819
DTSTAMP:20260423T115302
CREATED:20220301T220734Z
LAST-MODIFIED:20221226T204637Z
UID:6984-1686614400-1692403199@calendarioacademico.libertadores.edu.co
SUMMARY:Inscripción Coterminales semestrales 2023 - II
DESCRIPTION:Conoce mas información aquí.
URL:https://calendarioacademico.libertadores.edu.co/event/inscripcion-coterminales-semestrales-2023-2/
LOCATION:Fundación Universitaria Los Libertadores\, Carrera 16 # 63 A - 68\, Bogotá D.C.\, 110011\, Colombia
CATEGORIES:Coterminales Semestrales II
ORGANIZER;CN="Fundaci%C3%B3n Universitaria Los Libertadores":MAILTO:infopresencial@libertadores.edu.co
END:VEVENT
BEGIN:VEVENT
DTSTART;VALUE=DATE:20230613
DTEND;VALUE=DATE:20230621
DTSTAMP:20260423T115302
CREATED:20220301T214249Z
LAST-MODIFIED:20221222T204436Z
UID:6962-1686614400-1687305599@calendarioacademico.libertadores.edu.co
SUMMARY:Examen Final - S1Pr
DESCRIPTION:
URL:https://calendarioacademico.libertadores.edu.co/event/examen-final-s1pr/
LOCATION:Fundación Universitaria Los Libertadores\, Carrera 16 # 63 A - 68\, Bogotá D.C.\, 110011\, Colombia
CATEGORIES:Periodo Académico I
ORGANIZER;CN="Fundaci%C3%B3n Universitaria Los Libertadores Bogot%C3%A1-Cartagena":MAILTO:fullatencion@libertadores.edu.co
END:VEVENT
BEGIN:VEVENT
DTSTART;VALUE=DATE:20230611
DTEND;VALUE=DATE:20230612
DTSTAMP:20260423T115302
CREATED:20220301T221015Z
LAST-MODIFIED:20221222T204709Z
UID:6990-1686441600-1686527999@calendarioacademico.libertadores.edu.co
SUMMARY:Finalización de clases (Cartagena) - S1Pr
DESCRIPTION:
URL:https://calendarioacademico.libertadores.edu.co/event/finalizacion-de-clases-cartagena-s1pr/
LOCATION:Fundación Universitaria Los Libertadores\, Carrera 16 # 63 A - 68\, Bogotá D.C.\, 110011\, Colombia
CATEGORIES:Periodo Académico I
ORGANIZER;CN="Fundaci%C3%B3n Universitaria Los Libertadores Bogot%C3%A1-Cartagena":MAILTO:fullatencion@libertadores.edu.co
END:VEVENT
BEGIN:VEVENT
DTSTART;VALUE=DATE:20230611
DTEND;VALUE=DATE:20230612
DTSTAMP:20260423T115302
CREATED:20220301T152610Z
LAST-MODIFIED:20221223T145212Z
UID:6782-1686441600-1686527999@calendarioacademico.libertadores.edu.co
SUMMARY:Finalización de las prácticas - S1Pr
DESCRIPTION:
URL:https://calendarioacademico.libertadores.edu.co/event/finalizacion-de-las-practicas-s1pr/
LOCATION:Fundación Universitaria Los Libertadores\, Carrera 16 # 63 A - 68\, Bogotá D.C.\, 110011\, Colombia
CATEGORIES:Prácticas I
ORGANIZER;CN="Fundaci%C3%B3n Universitaria Los Libertadores Bogot%C3%A1-Cartagena":MAILTO:fullatencion@libertadores.edu.co
END:VEVENT
BEGIN:VEVENT
DTSTART;VALUE=DATE:20230611
DTEND;VALUE=DATE:20230621
DTSTAMP:20260423T115302
CREATED:20220301T132059Z
LAST-MODIFIED:20221222T221700Z
UID:6687-1686441600-1687305599@calendarioacademico.libertadores.edu.co
SUMMARY:Fecha límite para digitación de notas - S1Pr
DESCRIPTION:
URL:https://calendarioacademico.libertadores.edu.co/event/fecha-limite-para-digitacion-de-notas-s1pr/
LOCATION:Fundación Universitaria Los Libertadores\, Carrera 16 # 63 A - 68\, Bogotá D.C.\, 110011\, Colombia
CATEGORIES:Seminarios de Grado periodo regular I
ORGANIZER;CN="Fundaci%C3%B3n Universitaria Los Libertadores Bogot%C3%A1-Cartagena":MAILTO:fullatencion@libertadores.edu.co
END:VEVENT
BEGIN:VEVENT
DTSTART;VALUE=DATE:20230601
DTEND;VALUE=DATE:20230611
DTSTAMP:20260423T115302
CREATED:20220301T141603Z
LAST-MODIFIED:20221226T143632Z
UID:6719-1685577600-1686441599@calendarioacademico.libertadores.edu.co
SUMMARY:Fecha límite de pago seminario de grado internacional - S1Pr
DESCRIPTION:
URL:https://calendarioacademico.libertadores.edu.co/event/fecha-limite-de-pago-s1pr/
LOCATION:Fundación Universitaria Los Libertadores\, Carrera 16 # 63 A - 68\, Bogotá D.C.\, 110011\, Colombia
CATEGORIES:Seminarios de grado internacionales I
ORGANIZER;CN="Fundaci%C3%B3n Universitaria Los Libertadores Bogot%C3%A1-Cartagena":MAILTO:fullatencion@libertadores.edu.co
END:VEVENT
BEGIN:VEVENT
DTSTART;VALUE=DATE:20230529
DTEND;VALUE=DATE:20230530
DTSTAMP:20260423T115302
CREATED:20220302T132324Z
LAST-MODIFIED:20221226T170525Z
UID:7004-1685318400-1685404799@calendarioacademico.libertadores.edu.co
SUMMARY:Publicación de orden de Pago Preparatorios I –  corte 3
DESCRIPTION:Descarga tu recibo de pago Aquí \nConoce más en Tutorial de Pagos \n 
URL:https://calendarioacademico.libertadores.edu.co/event/publicacion-de-orden-de-pago-preparatorios-1-corte-3/
LOCATION:Fundación Universitaria Los Libertadores\, Carrera 16 # 63 A - 68\, Bogotá D.C.\, 110011\, Colombia
CATEGORIES:Preparatorios I
ORGANIZER;CN="Fundaci%C3%B3n Universitaria Los Libertadores Bogot%C3%A1-Cartagena":MAILTO:fullatencion@libertadores.edu.co
END:VEVENT
BEGIN:VEVENT
DTSTART;VALUE=DATE:20230529
DTEND;VALUE=DATE:20230606
DTSTAMP:20260423T115302
CREATED:20211215T152058Z
LAST-MODIFIED:20221226T171605Z
UID:5599-1685318400-1686009599@calendarioacademico.libertadores.edu.co
SUMMARY:Fecha de pago preparatorios I - corte 3
DESCRIPTION:Descarga tu recibo Aquí \nConoce más en Tutorial de Pagos
URL:https://calendarioacademico.libertadores.edu.co/event/fecha-de-pago-preparatorios-1-corte-3/
LOCATION:Fundación Universitaria Los Libertadores\, Carrera 16 # 63 A - 68\, Bogotá D.C.\, 110011\, Colombia
CATEGORIES:Preparatorios I
ORGANIZER;CN="Fundaci%C3%B3n Universitaria Los Libertadores Bogot%C3%A1-Cartagena":MAILTO:fullatencion@libertadores.edu.co
END:VEVENT
BEGIN:VEVENT
DTSTART;VALUE=DATE:20230525
DTEND;VALUE=DATE:20230526
DTSTAMP:20260423T115302
CREATED:20220301T153204Z
LAST-MODIFIED:20221227T173709Z
UID:6794-1684972800-1685059199@calendarioacademico.libertadores.edu.co
SUMMARY:Segundo encuentro institucional de Centros de Práctica - S1Pr
DESCRIPTION:
URL:https://calendarioacademico.libertadores.edu.co/event/segundo-encuentro-institucional-de-centros-de-practica-s1pr/
LOCATION:Fundación Universitaria Los Libertadores\, Carrera 16 # 63 A - 68\, Bogotá D.C.\, 110011\, Colombia
CATEGORIES:Prácticas I
ORGANIZER;CN="Fundaci%C3%B3n Universitaria Los Libertadores Bogot%C3%A1-Cartagena":MAILTO:fullatencion@libertadores.edu.co
END:VEVENT
BEGIN:VEVENT
DTSTART;VALUE=DATE:20230524
DTEND;VALUE=DATE:20230526
DTSTAMP:20260423T115302
CREATED:20220302T215912Z
LAST-MODIFIED:20221125T220614Z
UID:7266-1684886400-1685059199@calendarioacademico.libertadores.edu.co
SUMMARY:Segunda Entrega de novedades - S1Pr
DESCRIPTION:
URL:https://calendarioacademico.libertadores.edu.co/event/segunda-entrega-de-novedades-s1pr/
LOCATION:Fundación Universitaria Los Libertadores\, Carrera 16 # 63 A - 68\, Bogotá D.C.\, 110011\, Colombia
CATEGORIES:Periodo Académico I
ORGANIZER;CN="Fundaci%C3%B3n Universitaria Los Libertadores":MAILTO:infopresencial@libertadores.edu.co
END:VEVENT
BEGIN:VEVENT
DTSTART;VALUE=DATE:20230523
DTEND;VALUE=DATE:20230525
DTSTAMP:20260423T115302
CREATED:20220301T220336Z
LAST-MODIFIED:20221226T165928Z
UID:6982-1684800000-1684972799@calendarioacademico.libertadores.edu.co
SUMMARY:Novedades de Inscripción preparatorios I - corte 3
DESCRIPTION:
URL:https://calendarioacademico.libertadores.edu.co/event/novedades-de-inscripcion-preparatorios-1-corte-3/
LOCATION:Fundación Universitaria Los Libertadores\, Carrera 16 # 63 A - 68\, Bogotá D.C.\, 110011\, Colombia
CATEGORIES:Preparatorios I
ORGANIZER;CN="Fundaci%C3%B3n Universitaria Los Libertadores Bogot%C3%A1-Cartagena":MAILTO:fullatencion@libertadores.edu.co
END:VEVENT
BEGIN:VEVENT
DTSTART;VALUE=DATE:20230518
DTEND;VALUE=DATE:20230520
DTSTAMP:20260423T115302
CREATED:20220301T215335Z
LAST-MODIFIED:20221226T155717Z
UID:6974-1684368000-1684540799@calendarioacademico.libertadores.edu.co
SUMMARY:Inscripción Preparatorios I - corte 3
DESCRIPTION:Inscripción de horarios Aquí \nConoce más en Tutorial inscripción de horarios
URL:https://calendarioacademico.libertadores.edu.co/event/inscripcion-preparatorios-i-s1pr-3/
LOCATION:Fundación Universitaria Los Libertadores\, Carrera 16 # 63 A - 68\, Bogotá D.C.\, 110011\, Colombia
CATEGORIES:Preparatorios I
ORGANIZER;CN="Fundaci%C3%B3n Universitaria Los Libertadores Bogot%C3%A1-Cartagena":MAILTO:fullatencion@libertadores.edu.co
END:VEVENT
BEGIN:VEVENT
DTSTART;VALUE=DATE:20230517
DTEND;VALUE=DATE:20230529
DTSTAMP:20260423T115302
CREATED:20220301T140155Z
LAST-MODIFIED:20221226T144010Z
UID:6717-1684281600-1685318399@calendarioacademico.libertadores.edu.co
SUMMARY:Revisión de historias académicas  seminario de grado internacional - S1Pr
DESCRIPTION:
URL:https://calendarioacademico.libertadores.edu.co/event/revision-de-historias-academicas-s1pr/
LOCATION:Fundación Universitaria Los Libertadores\, Carrera 16 # 63 A - 68\, Bogotá D.C.\, 110011\, Colombia
CATEGORIES:Seminarios de grado internacionales I
ORGANIZER;CN="Fundaci%C3%B3n Universitaria Los Libertadores Bogot%C3%A1-Cartagena":MAILTO:fullatencion@libertadores.edu.co
END:VEVENT
BEGIN:VEVENT
DTSTART;VALUE=DATE:20230515
DTEND;VALUE=DATE:20230612
DTSTAMP:20260423T115302
CREATED:20220302T220103Z
LAST-MODIFIED:20221125T220747Z
UID:7268-1684108800-1686527999@calendarioacademico.libertadores.edu.co
SUMMARY:Tercera calificación parcial - S1Pr
DESCRIPTION:
URL:https://calendarioacademico.libertadores.edu.co/event/tercera-calificacion-parcial-s1pr-2/
LOCATION:Fundación Universitaria Los Libertadores\, Carrera 16 # 63 A - 68\, Bogotá D.C.\, 110011\, Colombia
CATEGORIES:Periodo Académico I
ORGANIZER;CN="Fundaci%C3%B3n Universitaria Los Libertadores":MAILTO:infopresencial@libertadores.edu.co
END:VEVENT
BEGIN:VEVENT
DTSTART;VALUE=DATE:20230512
DTEND;VALUE=DATE:20230513
DTSTAMP:20260423T115302
CREATED:20220301T211145Z
LAST-MODIFIED:20221226T144915Z
UID:6925-1683849600-1683935999@calendarioacademico.libertadores.edu.co
SUMMARY:Apertura y cierre de SAI para designación de grupos - S1Pr corte 3
DESCRIPTION:
URL:https://calendarioacademico.libertadores.edu.co/event/apertura-y-cierre-de-sai-para-designacion-de-grupos-s1pr-4/
LOCATION:Fundación Universitaria Los Libertadores\, Carrera 16 # 63 A - 68\, Bogotá D.C.\, 110011\, Colombia
CATEGORIES:Preparatorios I
ORGANIZER;CN="Fundaci%C3%B3n Universitaria Los Libertadores Bogot%C3%A1-Cartagena":MAILTO:fullatencion@libertadores.edu.co
END:VEVENT
BEGIN:VEVENT
DTSTART;VALUE=DATE:20230508
DTEND;VALUE=DATE:20230524
DTSTAMP:20260423T115302
CREATED:20220302T215636Z
LAST-MODIFIED:20221125T220250Z
UID:7045-1683504000-1684886399@calendarioacademico.libertadores.edu.co
SUMMARY:Segunda Digitación de calificaciones - S1Pr
DESCRIPTION:
URL:https://calendarioacademico.libertadores.edu.co/event/segunda-digitacion-de-calificaciones-s1pr/
LOCATION:Fundación Universitaria Los Libertadores\, Carrera 16 # 63 A - 68\, Bogotá D.C.\, 110011\, Colombia
CATEGORIES:Periodo Académico I
ORGANIZER;CN="Fundaci%C3%B3n Universitaria Los Libertadores Bogot%C3%A1-Cartagena":MAILTO:fullatencion@libertadores.edu.co
END:VEVENT
BEGIN:VEVENT
DTSTART;VALUE=DATE:20230508
DTEND;VALUE=DATE:20230701
DTSTAMP:20260423T115302
CREATED:20220301T210609Z
LAST-MODIFIED:20221222T200849Z
UID:6909-1683504000-1688169599@calendarioacademico.libertadores.edu.co
SUMMARY:Apertura y cierre de SAI para designación de grupos-S2Pr
DESCRIPTION:
URL:https://calendarioacademico.libertadores.edu.co/event/apertura-y-cierre-de-sai-para-designacion-de-grupos-s2pr/
LOCATION:Fundación Universitaria Los Libertadores\, Carrera 16 # 63 A - 68\, Bogotá D.C.\, 110011\, Colombia
CATEGORIES:Periodo Académico II
ORGANIZER;CN="Fundaci%C3%B3n Universitaria Los Libertadores":MAILTO:infopresencial@libertadores.edu.co
END:VEVENT
BEGIN:VEVENT
DTSTART;VALUE=DATE:20230502
DTEND;VALUE=DATE:20230806
DTSTAMP:20260423T115302
CREATED:20220228T175425Z
LAST-MODIFIED:20221223T143739Z
UID:6602-1682985600-1691279999@calendarioacademico.libertadores.edu.co
SUMMARY:Espacios de pre-práctica-S2Pr
DESCRIPTION:
URL:https://calendarioacademico.libertadores.edu.co/event/espacios-de-pre-practica-s2pr/
LOCATION:Fundación Universitaria Los Libertadores\, Carrera 16 # 63 A - 68\, Bogotá D.C.\, 110011\, Colombia
CATEGORIES:Prácticas II
ORGANIZER;CN="Fundaci%C3%B3n Universitaria Los Libertadores Bogot%C3%A1-Cartagena":MAILTO:fullatencion@libertadores.edu.co
END:VEVENT
BEGIN:VEVENT
DTSTART;VALUE=DATE:20230501
DTEND;VALUE=DATE:20230626
DTSTAMP:20260423T115302
CREATED:20211213T174808Z
LAST-MODIFIED:20221226T225431Z
UID:5063-1682899200-1687737599@calendarioacademico.libertadores.edu.co
SUMMARY:Inicio y terminación coterminares trimestrales 1 - corte 2
DESCRIPTION:
URL:https://calendarioacademico.libertadores.edu.co/event/inicio-y-terminacion-coterminares-trimestrales-1-corte-2/
LOCATION:Fundación Universitaria Los Libertadores\, Carrera 16 # 63 A - 68\, Bogotá D.C.\, 110011\, Colombia
CATEGORIES:Coterminales Trimestrales I
ORGANIZER;CN="Fundaci%C3%B3n Universitaria Los Libertadores Bogot%C3%A1-Cartagena":MAILTO:fullatencion@libertadores.edu.co
END:VEVENT
BEGIN:VEVENT
DTSTART;VALUE=DATE:20230425
DTEND;VALUE=DATE:20230426
DTSTAMP:20260423T115302
CREATED:20211215T152645Z
LAST-MODIFIED:20221226T203846Z
UID:5617-1682380800-1682467199@calendarioacademico.libertadores.edu.co
SUMMARY:Digitación de calificaciones preparatorios I - corte 2
DESCRIPTION:
URL:https://calendarioacademico.libertadores.edu.co/event/digitacion-de-calificaciones-preparatorios-1-corte-2/
LOCATION:Fundación Universitaria Los Libertadores\, Carrera 16 # 63 A - 68\, Bogotá D.C.\, 110011\, Colombia
CATEGORIES:Preparatorios I
ORGANIZER;CN="Fundaci%C3%B3n Universitaria Los Libertadores Bogot%C3%A1-Cartagena":MAILTO:fullatencion@libertadores.edu.co
END:VEVENT
BEGIN:VEVENT
DTSTART;VALUE=DATE:20230424
DTEND;VALUE=DATE:20230429
DTSTAMP:20260423T115302
CREATED:20220303T150742Z
LAST-MODIFIED:20221226T214846Z
UID:7343-1682294400-1682726399@calendarioacademico.libertadores.edu.co
SUMMARY:Publicación de órdenes de pago coterminares trimestrales I - corte 2
DESCRIPTION:Descarga tu recibo Aquí \nConoce más en Tutorial de pagos \n 
URL:https://calendarioacademico.libertadores.edu.co/event/publicacion-de-ordenes-de-pago-coterminares-trimestrales-1-corte-2/
LOCATION:Fundación Universitaria Los Libertadores\, Carrera 16 # 63 A - 68\, Bogotá D.C.\, 110011\, Colombia
CATEGORIES:Coterminales Trimestrales I
ORGANIZER;CN="Fundaci%C3%B3n Universitaria Los Libertadores Bogot%C3%A1-Cartagena":MAILTO:fullatencion@libertadores.edu.co
END:VEVENT
BEGIN:VEVENT
DTSTART;VALUE=DATE:20230424
DTEND;VALUE=DATE:20230502
DTSTAMP:20260423T115302
CREATED:20211213T174005Z
LAST-MODIFIED:20221226T225019Z
UID:5059-1682294400-1682985599@calendarioacademico.libertadores.edu.co
SUMMARY:Fecha límite de pago coterminales trimestrales I - corte 2
DESCRIPTION:
URL:https://calendarioacademico.libertadores.edu.co/event/fecha-limite-de-pago-coterminares-trimestrales-1-corte-2/
LOCATION:Fundación Universitaria Los Libertadores\, Carrera 16 # 63 A - 68\, Bogotá D.C.\, 110011\, Colombia
CATEGORIES:Coterminales Trimestrales I
ORGANIZER;CN="Fundaci%C3%B3n Universitaria Los Libertadores Bogot%C3%A1-Cartagena":MAILTO:fullatencion@libertadores.edu.co
END:VEVENT
BEGIN:VEVENT
DTSTART;VALUE=DATE:20230420
DTEND;VALUE=DATE:20230429
DTSTAMP:20260423T115302
CREATED:20211213T171315Z
LAST-MODIFIED:20221226T211650Z
UID:5051-1681948800-1682726399@calendarioacademico.libertadores.edu.co
SUMMARY:Solicitud de órdenes de pago a Admisiones y Registro coterminales trimestrales I - corte 2
DESCRIPTION:
URL:https://calendarioacademico.libertadores.edu.co/event/solicitud-de-ordenes-de-pago-a-admisiones-y-registro-coterminales-trimestrales-1-corte-2/
LOCATION:Fundación Universitaria Los Libertadores\, Carrera 16 # 63 A - 68\, Bogotá D.C.\, 110011\, Colombia
CATEGORIES:Coterminales Trimestrales I
ORGANIZER;CN="Fundaci%C3%B3n Universitaria Los Libertadores Bogot%C3%A1-Cartagena":MAILTO:fullatencion@libertadores.edu.co
END:VEVENT
BEGIN:VEVENT
DTSTART;VALUE=DATE:20230420
DTEND;VALUE=DATE:20230421
DTSTAMP:20260423T115302
CREATED:20220302T220628Z
LAST-MODIFIED:20221226T171902Z
UID:7275-1681948800-1682035199@calendarioacademico.libertadores.edu.co
SUMMARY:Presentación  preparatorios I - Corte 2
DESCRIPTION:
URL:https://calendarioacademico.libertadores.edu.co/event/presentacion-preparatorios-1-corte-2/
LOCATION:Fundación Universitaria Los Libertadores\, Carrera 16 # 63 A - 68\, Bogotá D.C.\, 110011\, Colombia
CATEGORIES:Preparatorios I
ORGANIZER;CN="Fundaci%C3%B3n Universitaria Los Libertadores Bogot%C3%A1-Cartagena":MAILTO:fullatencion@libertadores.edu.co
END:VEVENT
BEGIN:VEVENT
DTSTART;VALUE=DATE:20230418
DTEND;VALUE=DATE:20230429
DTSTAMP:20260423T115302
CREATED:20211213T170425Z
LAST-MODIFIED:20221226T210410Z
UID:5041-1681776000-1682726399@calendarioacademico.libertadores.edu.co
SUMMARY:Inscripción coterminales trimestrales I - corte 2
DESCRIPTION:Inscripción de horarios Aquí  \nTutorial inscripción de horarios
URL:https://calendarioacademico.libertadores.edu.co/event/inscripcion-coterminales-trimestrales-1-corte-2/
LOCATION:Fundación Universitaria Los Libertadores\, Carrera 16 # 63 A - 68\, Bogotá D.C.\, 110011\, Colombia
CATEGORIES:Coterminales Trimestrales I
ORGANIZER;CN="Fundaci%C3%B3n Universitaria Los Libertadores Bogot%C3%A1-Cartagena":MAILTO:fullatencion@libertadores.edu.co
END:VEVENT
BEGIN:VEVENT
DTSTART;VALUE=DATE:20230418
DTEND;VALUE=DATE:20230429
DTSTAMP:20260423T115302
CREATED:20221226T211130Z
LAST-MODIFIED:20221226T211130Z
UID:7626-1681776000-1682726399@calendarioacademico.libertadores.edu.co
SUMMARY:Revisión de historias académicas coterminales trimestrales I - corte 2
DESCRIPTION:
URL:https://calendarioacademico.libertadores.edu.co/event/revision-de-historias-academicas-coterminales-trimestrales-i-corte-2/
LOCATION:Fundación Universitaria Los Libertadores\, Carrera 16 # 63 A - 68\, Bogotá D.C.\, 110011\, Colombia
CATEGORIES:Coterminales Trimestrales I
ORGANIZER;CN="Fundaci%C3%B3n Universitaria Los Libertadores":MAILTO:infopresencial@libertadores.edu.co
END:VEVENT
BEGIN:VEVENT
DTSTART;VALUE=DATE:20230411
DTEND;VALUE=DATE:20230413
DTSTAMP:20260423T115302
CREATED:20220302T155112Z
LAST-MODIFIED:20221125T211605Z
UID:7043-1681171200-1681343999@calendarioacademico.libertadores.edu.co
SUMMARY:Primera Entrega de novedades – S1Pr
DESCRIPTION:
URL:https://calendarioacademico.libertadores.edu.co/event/primera-entrega-de-novedades-s1pr/
LOCATION:Fundación Universitaria Los Libertadores\, Carrera 16 # 63 A - 68\, Bogotá D.C.\, 110011\, Colombia
CATEGORIES:Periodo Académico I
ORGANIZER;CN="Fundaci%C3%B3n Universitaria Los Libertadores Bogot%C3%A1-Cartagena":MAILTO:fullatencion@libertadores.edu.co
END:VEVENT
BEGIN:VEVENT
DTSTART;VALUE=DATE:20230410
DTEND;VALUE=DATE:20230514
DTSTAMP:20260423T115302
CREATED:20220301T202105Z
LAST-MODIFIED:20221125T201954Z
UID:6880-1681084800-1684022399@calendarioacademico.libertadores.edu.co
SUMMARY:Renovación de descuentos-S2Pr
DESCRIPTION:
URL:https://calendarioacademico.libertadores.edu.co/event/renovacion-de-descuentos-s2pr/
LOCATION:Fundación Universitaria Los Libertadores\, Carrera 16 # 63 A - 68\, Bogotá D.C.\, 110011\, Colombia
CATEGORIES:Matricula estudiantes antiguos II
ORGANIZER;CN="Fundaci%C3%B3n Universitaria Los Libertadores":MAILTO:infopresencial@libertadores.edu.co
END:VEVENT
BEGIN:VEVENT
DTSTART;VALUE=DATE:20230403
DTEND;VALUE=DATE:20230404
DTSTAMP:20260423T115302
CREATED:20220302T131909Z
LAST-MODIFIED:20221226T170612Z
UID:6999-1680480000-1680566399@calendarioacademico.libertadores.edu.co
SUMMARY:Publicación de orden de Pago Preparatorios I – corte 2
DESCRIPTION:Descarga tu recibo de pago aquí \nConoce más  en Tutorial de Pagos \n 
URL:https://calendarioacademico.libertadores.edu.co/event/publicacion-de-orden-de-pago-preparatorios-1-corte-2/
LOCATION:Fundación Universitaria Los Libertadores\, Carrera 16 # 63 A - 68\, Bogotá D.C.\, 110011\, Colombia
CATEGORIES:Preparatorios I
ORGANIZER;CN="Fundaci%C3%B3n Universitaria Los Libertadores Bogot%C3%A1-Cartagena":MAILTO:fullatencion@libertadores.edu.co
END:VEVENT
END:VCALENDAR