BEGIN:VCALENDAR
VERSION:2.0
PRODID:-//Calendario Académico - ECPv6.15.20//NONSGML v1.0//EN
CALSCALE:GREGORIAN
METHOD:PUBLISH
X-WR-CALNAME:Calendario Académico
X-ORIGINAL-URL:https://calendarioacademico.libertadores.edu.co
X-WR-CALDESC:Eventos para Calendario Académico
REFRESH-INTERVAL;VALUE=DURATION:PT1H
X-Robots-Tag:noindex
X-PUBLISHED-TTL:PT1H
BEGIN:VTIMEZONE
TZID:America/New_York
BEGIN:DAYLIGHT
TZOFFSETFROM:-0500
TZOFFSETTO:-0400
TZNAME:EDT
DTSTART:20220313T070000
END:DAYLIGHT
BEGIN:STANDARD
TZOFFSETFROM:-0400
TZOFFSETTO:-0500
TZNAME:EST
DTSTART:20221106T060000
END:STANDARD
BEGIN:DAYLIGHT
TZOFFSETFROM:-0500
TZOFFSETTO:-0400
TZNAME:EDT
DTSTART:20230312T070000
END:DAYLIGHT
BEGIN:STANDARD
TZOFFSETFROM:-0400
TZOFFSETTO:-0500
TZNAME:EST
DTSTART:20231105T060000
END:STANDARD
BEGIN:DAYLIGHT
TZOFFSETFROM:-0500
TZOFFSETTO:-0400
TZNAME:EDT
DTSTART:20240310T070000
END:DAYLIGHT
BEGIN:STANDARD
TZOFFSETFROM:-0400
TZOFFSETTO:-0500
TZNAME:EST
DTSTART:20241103T060000
END:STANDARD
END:VTIMEZONE
BEGIN:VTIMEZONE
TZID:UTC
BEGIN:STANDARD
TZOFFSETFROM:+0000
TZOFFSETTO:+0000
TZNAME:UTC
DTSTART:20220101T000000
END:STANDARD
END:VTIMEZONE
BEGIN:VEVENT
DTSTART;VALUE=DATE:20230403
DTEND;VALUE=DATE:20230414
DTSTAMP:20260423T163045
CREATED:20211215T152023Z
LAST-MODIFIED:20221226T171548Z
UID:5596-1680480000-1681430399@calendarioacademico.libertadores.edu.co
SUMMARY:Fecha de pago preparatorios I - corte 2
DESCRIPTION:Descarga tu recibo Aquí \nConoce más en Tutorial de Pagos \n 
URL:https://calendarioacademico.libertadores.edu.co/event/fecha-de-pago-preparatorios-1-corte-2/
LOCATION:Fundación Universitaria Los Libertadores\, Carrera 16 # 63 A - 68\, Bogotá D.C.\, 110011\, Colombia
CATEGORIES:Preparatorios I
ORGANIZER;CN="Fundaci%C3%B3n Universitaria Los Libertadores Bogot%C3%A1-Cartagena":MAILTO:fullatencion@libertadores.edu.co
END:VEVENT
BEGIN:VEVENT
DTSTART;VALUE=DATE:20230401
DTEND;VALUE=DATE:20230701
DTSTAMP:20260423T163045
CREATED:20211214T202310Z
LAST-MODIFIED:20221223T145949Z
UID:5231-1680307200-1688169599@calendarioacademico.libertadores.edu.co
SUMMARY:Inscripción escuela de verano -S1Pr
DESCRIPTION:Inscripciones Internacionalización Escuela de Verano Pregrado
URL:https://calendarioacademico.libertadores.edu.co/event/inscripcion-escuela-de-verano-2/
LOCATION:Fundación Universitaria Los Libertadores\, Carrera 16 # 63 A - 68\, Bogotá D.C.\, 110011\, Colombia
CATEGORIES:Escuela de Verano / Invierno I
ORGANIZER;CN="Fundaci%C3%B3n Universitaria Los Libertadores Bogot%C3%A1-Cartagena":MAILTO:fullatencion@libertadores.edu.co
END:VEVENT
BEGIN:VEVENT
DTSTART;VALUE=DATE:20230401
DTEND;VALUE=DATE:20230701
DTSTAMP:20260423T163045
CREATED:20220301T155800Z
LAST-MODIFIED:20221223T150330Z
UID:6815-1680307200-1688169599@calendarioacademico.libertadores.edu.co
SUMMARY:Pago Escuela de Verano -S1Pr
DESCRIPTION:
URL:https://calendarioacademico.libertadores.edu.co/event/pago-escuela-de-verano-s1pr/
LOCATION:Fundación Universitaria Los Libertadores\, Carrera 16 # 63 A - 68\, Bogotá D.C.\, 110011\, Colombia
CATEGORIES:Escuela de Verano / Invierno I
ORGANIZER;CN="Fundaci%C3%B3n Universitaria Los Libertadores Bogot%C3%A1-Cartagena":MAILTO:fullatencion@libertadores.edu.co
END:VEVENT
BEGIN:VEVENT
DTSTART;VALUE=DATE:20230327
DTEND;VALUE=DATE:20230329
DTSTAMP:20260423T163045
CREATED:20220301T220229Z
LAST-MODIFIED:20221226T165843Z
UID:6980-1679875200-1680047999@calendarioacademico.libertadores.edu.co
SUMMARY:Novedades de Inscripción preparatorios I - corte 2
DESCRIPTION:
URL:https://calendarioacademico.libertadores.edu.co/event/novedades-de-inscripcion-preparatorios-1-corte-2/
LOCATION:Fundación Universitaria Los Libertadores\, Carrera 16 # 63 A - 68\, Bogotá D.C.\, 110011\, Colombia
CATEGORIES:Preparatorios I
ORGANIZER;CN="Fundaci%C3%B3n Universitaria Los Libertadores Bogot%C3%A1-Cartagena":MAILTO:fullatencion@libertadores.edu.co
END:VEVENT
BEGIN:VEVENT
DTSTART;VALUE=DATE:20230327
DTEND;VALUE=DATE:20230515
DTSTAMP:20260423T163045
CREATED:20220301T213513Z
LAST-MODIFIED:20221125T215316Z
UID:6952-1679875200-1684108799@calendarioacademico.libertadores.edu.co
SUMMARY:Segunda calificación parcial – S1Pr
DESCRIPTION:
URL:https://calendarioacademico.libertadores.edu.co/event/segunda-calificacion-parcial-s1pr/
LOCATION:Fundación Universitaria Los Libertadores\, Carrera 16 # 63 A - 68\, Bogotá D.C.\, 110011\, Colombia
CATEGORIES:Periodo Académico I
ORGANIZER;CN="Fundaci%C3%B3n Universitaria Los Libertadores Bogot%C3%A1-Cartagena":MAILTO:fullatencion@libertadores.edu.co
END:VEVENT
BEGIN:VEVENT
DTSTART;VALUE=DATE:20230323
DTEND;VALUE=DATE:20230325
DTSTAMP:20260423T163045
CREATED:20220301T215235Z
LAST-MODIFIED:20221226T155647Z
UID:6972-1679529600-1679702399@calendarioacademico.libertadores.edu.co
SUMMARY:Inscripción Preparatorios I - corte 2
DESCRIPTION:Inscripción de horarios Aquí \nConoce más en Tutorial inscripción de horarios
URL:https://calendarioacademico.libertadores.edu.co/event/inscripcion-preparatorios-i-s1pr-2/
LOCATION:Fundación Universitaria Los Libertadores\, Carrera 16 # 63 A - 68\, Bogotá D.C.\, 110011\, Colombia
CATEGORIES:Preparatorios I
ORGANIZER;CN="Fundaci%C3%B3n Universitaria Los Libertadores Bogot%C3%A1-Cartagena":MAILTO:fullatencion@libertadores.edu.co
END:VEVENT
BEGIN:VEVENT
DTSTART;VALUE=DATE:20230321
DTEND;VALUE=DATE:20230411
DTSTAMP:20260423T163045
CREATED:20220302T154922Z
LAST-MODIFIED:20221222T201525Z
UID:7040-1679356800-1681171199@calendarioacademico.libertadores.edu.co
SUMMARY:Primera Digitación de calificaciones - S1Pr
DESCRIPTION:
URL:https://calendarioacademico.libertadores.edu.co/event/primera-digitacion-de-calificaciones-s1pr/
LOCATION:Fundación Universitaria Los Libertadores\, Carrera 16 # 63 A - 68\, Bogotá D.C.\, 110011\, Colombia
CATEGORIES:Periodo Académico I
ORGANIZER;CN="Fundaci%C3%B3n Universitaria Los Libertadores Bogot%C3%A1-Cartagena":MAILTO:fullatencion@libertadores.edu.co
END:VEVENT
BEGIN:VEVENT
DTSTART;VALUE=DATE:20230315
DTEND;VALUE=DATE:20230801
DTSTAMP:20260423T163045
CREATED:20221227T171436Z
LAST-MODIFIED:20221227T171436Z
UID:7670-1678838400-1690847999@calendarioacademico.libertadores.edu.co
SUMMARY:Fecha de radicación de documentos - S2Pr
DESCRIPTION:
URL:https://calendarioacademico.libertadores.edu.co/event/fecha-de-radicacion-de-documentos-s2pr/
LOCATION:Fundación Universitaria Los Libertadores\, Carrera 16 # 63 A - 68\, Bogotá D.C.\, 110011\, Colombia
CATEGORIES:Matriculas estudiantes nuevos II
ORGANIZER;CN="Fundaci%C3%B3n Universitaria Los Libertadores":MAILTO:infopresencial@libertadores.edu.co
END:VEVENT
BEGIN:VEVENT
DTSTART;VALUE=DATE:20230315
DTEND;VALUE=DATE:20230715
DTSTAMP:20260423T163045
CREATED:20220228T231825Z
LAST-MODIFIED:20221123T215456Z
UID:6674-1678838400-1689379199@calendarioacademico.libertadores.edu.co
SUMMARY:Pago pronto pago admitidos-S2Pr
DESCRIPTION:Descarga tu recibo aquí  \nConoce como hacerlo en el tutorial de pagos 
URL:https://calendarioacademico.libertadores.edu.co/event/pago-pronto-pago-admitidos-s2pr/
LOCATION:Fundación Universitaria Los Libertadores\, Carrera 16 # 63 A - 68\, Bogotá D.C.\, 110011\, Colombia
CATEGORIES:Matriculas estudiantes nuevos II
ORGANIZER;CN="Fundaci%C3%B3n Universitaria Los Libertadores":MAILTO:infopresencial@libertadores.edu.co
END:VEVENT
BEGIN:VEVENT
DTSTART;VALUE=DATE:20230315
DTEND;VALUE=DATE:20230801
DTSTAMP:20260423T163045
CREATED:20220228T231012Z
LAST-MODIFIED:20231116T141542Z
UID:6671-1678838400-1690847999@calendarioacademico.libertadores.edu.co
SUMMARY:Inscripciones estudiantes nuevos\, transferentes externos y transferentes internos -S2Pr
DESCRIPTION:Más información en  https://www.ulibertadores.edu.co/admisiones/ \nDescarga tu recibo Aquí https://registrodematricula.libertadores.edu.co/ \nConoce más en Tutorial de Pagos https://www.youtube.com/watch?v=nib9jmpiEuY
URL:https://calendarioacademico.libertadores.edu.co/event/inscripciones-estudiantes-nuevos-transferentes-externos-transferentes-internos-y-reintegros-s2pr/
LOCATION:Fundación Universitaria Los Libertadores\, Carrera 16 # 63 A - 68\, Bogotá D.C.\, 110011\, Colombia
CATEGORIES:Matriculas estudiantes nuevos II
ORGANIZER;CN="Fundaci%C3%B3n Universitaria Los Libertadores - Inscripciones":MAILTO:inscripciones@libertadores.edu.co
END:VEVENT
BEGIN:VEVENT
DTSTART;VALUE=DATE:20230306
DTEND;VALUE=DATE:20230611
DTSTAMP:20260423T163045
CREATED:20220301T131828Z
LAST-MODIFIED:20221222T221514Z
UID:6685-1678060800-1686441599@calendarioacademico.libertadores.edu.co
SUMMARY:Inicio y terminación de seminarios de grado S1Pr
DESCRIPTION:
URL:https://calendarioacademico.libertadores.edu.co/event/inicio-y-terminacion-de-seminarios-de-grado-s1pr/
LOCATION:Fundación Universitaria Los Libertadores\, Carrera 16 # 63 A - 68\, Bogotá D.C.\, 110011\, Colombia
CATEGORIES:Seminarios de Grado periodo regular I
ORGANIZER;CN="Fundaci%C3%B3n Universitaria Los Libertadores":MAILTO:infopresencial@libertadores.edu.co
END:VEVENT
BEGIN:VEVENT
DTSTART;VALUE=DATE:20230302
DTEND;VALUE=DATE:20230515
DTSTAMP:20260423T163045
CREATED:20221226T144335Z
LAST-MODIFIED:20221226T144335Z
UID:7545-1677715200-1684108799@calendarioacademico.libertadores.edu.co
SUMMARY:Inscripción seminario de grado internacional-S1Pr
DESCRIPTION:
URL:https://calendarioacademico.libertadores.edu.co/event/inscripcion-seminario-de-grado-internacional-s1pr/
LOCATION:Fundación Universitaria Los Libertadores\, Carrera 16 # 63 A - 68\, Bogotá D.C.\, 110011\, Colombia
CATEGORIES:Seminarios de grado internacionales I
ORGANIZER;CN="Fundaci%C3%B3n Universitaria Los Libertadores":MAILTO:infopresencial@libertadores.edu.co
END:VEVENT
BEGIN:VEVENT
DTSTART;VALUE=DATE:20230227
DTEND;VALUE=DATE:20230627
DTSTAMP:20260423T163045
CREATED:20211214T213229Z
LAST-MODIFIED:20221226T205141Z
UID:5336-1677456000-1687823999@calendarioacademico.libertadores.edu.co
SUMMARY:Inicio y terminación - Coterminales semestrales  I
DESCRIPTION:
URL:https://calendarioacademico.libertadores.edu.co/event/inicio-y-terminacion-coterminales-semestrales-pregrado-1/
LOCATION:Fundación Universitaria Los Libertadores\, Carrera 16 # 63 A - 68\, Bogotá D.C.\, 110011\, Colombia
CATEGORIES:Coterminales Semestrales I
ORGANIZER;CN="Fundaci%C3%B3n Universitaria Los Libertadores Bogot%C3%A1-Cartagena":MAILTO:fullatencion@libertadores.edu.co
END:VEVENT
BEGIN:VEVENT
DTSTART;VALUE=DATE:20230225
DTEND;VALUE=DATE:20230226
DTSTAMP:20260423T163045
CREATED:20211215T153514Z
LAST-MODIFIED:20211222T211044Z
UID:5625-1677283200-1677369599@calendarioacademico.libertadores.edu.co
SUMMARY:pago ordinario de matrícula propedéuticos
DESCRIPTION:Pago ordinario de matrícula propedéuticos.
URL:https://calendarioacademico.libertadores.edu.co/event/pago-ordinario-de-matricula-propedeuticos/
LOCATION:Fundación Universitaria Los Libertadores\, Carrera 16 # 63 A - 68\, Bogotá D.C.\, 110011\, Colombia
ORGANIZER;CN="Fundaci%C3%B3n Universitaria Los Libertadores":MAILTO:infopresencial@libertadores.edu.co
END:VEVENT
BEGIN:VEVENT
DTSTART;VALUE=DATE:20230224
DTEND;VALUE=DATE:20230225
DTSTAMP:20260423T163045
CREATED:20211215T152614Z
LAST-MODIFIED:20221226T204043Z
UID:5615-1677196800-1677283199@calendarioacademico.libertadores.edu.co
SUMMARY:Digitación de calificaciones preparatorios I corte 1
DESCRIPTION:
URL:https://calendarioacademico.libertadores.edu.co/event/digitacion-de-calificaciones-preparatorios-1-corte-1/
LOCATION:Fundación Universitaria Los Libertadores\, Carrera 16 # 63 A - 68\, Bogotá D.C.\, 110011\, Colombia
CATEGORIES:Preparatorios I
ORGANIZER;CN="Fundaci%C3%B3n Universitaria Los Libertadores Bogot%C3%A1-Cartagena":MAILTO:fullatencion@libertadores.edu.co
END:VEVENT
BEGIN:VEVENT
DTSTART;VALUE=DATE:20230221
DTEND;VALUE=DATE:20230222
DTSTAMP:20260423T163045
CREATED:20220302T220531Z
LAST-MODIFIED:20221226T171821Z
UID:7273-1676937600-1677023999@calendarioacademico.libertadores.edu.co
SUMMARY:Presentación  preparatorios I - corte 1
DESCRIPTION:
URL:https://calendarioacademico.libertadores.edu.co/event/presentacion-preparatorios-1-corte-1/
LOCATION:Fundación Universitaria Los Libertadores\, Carrera 16 # 63 A - 68\, Bogotá D.C.\, 110011\, Colombia
CATEGORIES:Preparatorios I
ORGANIZER;CN="Fundaci%C3%B3n Universitaria Los Libertadores Bogot%C3%A1-Cartagena":MAILTO:fullatencion@libertadores.edu.co
END:VEVENT
BEGIN:VEVENT
DTSTART;VALUE=DATE:20230220
DTEND;VALUE=DATE:20230221
DTSTAMP:20260423T163045
CREATED:20220301T153659Z
LAST-MODIFIED:20221227T170437Z
UID:6798-1676851200-1676937599@calendarioacademico.libertadores.edu.co
SUMMARY:Pago de adiciones - S1Pr
DESCRIPTION:Descarga tu recibo aquí . \nConoce como hacerlo en el tutorial de pagos.
URL:https://calendarioacademico.libertadores.edu.co/event/pago-de-adiciones-s1pr/
LOCATION:Fundación Universitaria Los Libertadores\, Carrera 16 # 63 A - 68\, Bogotá D.C.\, 110011\, Colombia
CATEGORIES:Matricula estudiantes antiguos I
ORGANIZER;CN="Fundaci%C3%B3n Universitaria Los Libertadores Bogot%C3%A1-Cartagena":MAILTO:fullatencion@libertadores.edu.co
END:VEVENT
BEGIN:VEVENT
DTSTART;VALUE=DATE:20230216
DTEND;VALUE=DATE:20230217
DTSTAMP:20260423T163045
CREATED:20220301T210727Z
LAST-MODIFIED:20221226T144847Z
UID:6912-1676505600-1676591999@calendarioacademico.libertadores.edu.co
SUMMARY:Apertura y cierre de SAI para designación de grupos - S1Pr corte 2
DESCRIPTION:
URL:https://calendarioacademico.libertadores.edu.co/event/apertura-y-cierre-de-sai-para-designacion-de-grupos-s1pr-3/
LOCATION:Fundación Universitaria Los Libertadores\, Carrera 16 # 63 A - 68\, Bogotá D.C.\, 110011\, Colombia
CATEGORIES:Preparatorios I
ORGANIZER;CN="Fundaci%C3%B3n Universitaria Los Libertadores Bogot%C3%A1-Cartagena":MAILTO:fullatencion@libertadores.edu.co
END:VEVENT
BEGIN:VEVENT
DTSTART;VALUE=DATE:20230214
DTEND;VALUE=DATE:20230215
DTSTAMP:20260423T163045
CREATED:20220301T153204Z
LAST-MODIFIED:20221124T173320Z
UID:6792-1676332800-1676419199@calendarioacademico.libertadores.edu.co
SUMMARY:Publicación de recibos de adiciones en el portal WEB institucional – S1Pr
DESCRIPTION:Descarga tu recibo aquí . \nConoce como hacerlo en el tutorial de pagos.
URL:https://calendarioacademico.libertadores.edu.co/event/publicacion-de-recibos-de-adiciones-en-el-portal-web-institucional-s1pr/
LOCATION:Fundación Universitaria Los Libertadores\, Carrera 16 # 63 A - 68\, Bogotá D.C.\, 110011\, Colombia
CATEGORIES:Matricula estudiantes antiguos I
ORGANIZER;CN="Fundaci%C3%B3n Universitaria Los Libertadores Bogot%C3%A1-Cartagena":MAILTO:fullatencion@libertadores.edu.co
END:VEVENT
BEGIN:VEVENT
DTSTART;VALUE=DATE:20230213
DTEND;VALUE=DATE:20230214
DTSTAMP:20260423T163045
CREATED:20220310T214330Z
LAST-MODIFIED:20221125T202158Z
UID:7429-1676246400-1676332799@calendarioacademico.libertadores.edu.co
SUMMARY:Inicio de clases - S1Pr
DESCRIPTION:
URL:https://calendarioacademico.libertadores.edu.co/event/inicio-de-clases-s1pr-2/
LOCATION:Fundación Universitaria Los Libertadores\, Carrera 16 # 63 A - 68\, Bogotá D.C.\, 110011\, Colombia
CATEGORIES:Periodo Académico I
ORGANIZER;CN="Fundaci%C3%B3n Universitaria Los Libertadores Bogot%C3%A1-Cartagena":MAILTO:fullatencion@libertadores.edu.co
END:VEVENT
BEGIN:VEVENT
DTSTART;VALUE=DATE:20230213
DTEND;VALUE=DATE:20230327
DTSTAMP:20260423T163045
CREATED:20220301T212740Z
LAST-MODIFIED:20221125T210733Z
UID:6944-1676246400-1679875199@calendarioacademico.libertadores.edu.co
SUMMARY:Primera calificación parcial – S1Pr
DESCRIPTION:
URL:https://calendarioacademico.libertadores.edu.co/event/primera-calificacion-parcial-s1pr/
LOCATION:Fundación Universitaria Los Libertadores\, Carrera 16 # 63 A - 68\, Bogotá D.C.\, 110011\, Colombia
CATEGORIES:Periodo Académico I
ORGANIZER;CN="Fundaci%C3%B3n Universitaria Los Libertadores Bogot%C3%A1-Cartagena":MAILTO:fullatencion@libertadores.edu.co
END:VEVENT
BEGIN:VEVENT
DTSTART;VALUE=DATE:20230213
DTEND;VALUE=DATE:20230501
DTSTAMP:20260423T163045
CREATED:20220301T212023Z
LAST-MODIFIED:20221222T201233Z
UID:6940-1676246400-1682899199@calendarioacademico.libertadores.edu.co
SUMMARY:Cancelación de espacios académicos – S1Pr
DESCRIPTION:
URL:https://calendarioacademico.libertadores.edu.co/event/cancelacion-de-espacios-academicos-s1pr/
LOCATION:Fundación Universitaria Los Libertadores\, Carrera 16 # 63 A - 68\, Bogotá D.C.\, 110011\, Colombia
CATEGORIES:Periodo Académico I
ORGANIZER;CN="Fundaci%C3%B3n Universitaria Los Libertadores Bogot%C3%A1-Cartagena":MAILTO:fullatencion@libertadores.edu.co
END:VEVENT
BEGIN:VEVENT
DTSTART;VALUE=DATE:20230213
DTEND;VALUE=DATE:20230214
DTSTAMP:20260423T163045
CREATED:20220301T211141Z
LAST-MODIFIED:20221125T202310Z
UID:6923-1676246400-1676332799@calendarioacademico.libertadores.edu.co
SUMMARY:Inicio de clases - S1Pr
DESCRIPTION:
URL:https://calendarioacademico.libertadores.edu.co/event/inicio-de-clases-s1pr/
LOCATION:Fundación Universitaria Los Libertadores\, Carrera 16 # 63 A - 68\, Bogotá D.C.\, 110011\, Colombia
CATEGORIES:Matriculas estudiantes nuevos I
ORGANIZER;CN="Fundaci%C3%B3n Universitaria Los Libertadores Bogot%C3%A1-Cartagena":MAILTO:fullatencion@libertadores.edu.co
END:VEVENT
BEGIN:VEVENT
DTSTART;VALUE=DATE:20230213
DTEND;VALUE=DATE:20230327
DTSTAMP:20260423T163045
CREATED:20220301T152511Z
LAST-MODIFIED:20221223T144954Z
UID:6780-1676246400-1679875199@calendarioacademico.libertadores.edu.co
SUMMARY:Entrega de documentos para la formalización de la práctica - S1Pr
DESCRIPTION:
URL:https://calendarioacademico.libertadores.edu.co/event/entrega-de-documentos-para-la-formalizacion-de-la-practica-s1pr/
LOCATION:Fundación Universitaria Los Libertadores\, Carrera 16 # 63 A - 68\, Bogotá D.C.\, 110011\, Colombia
CATEGORIES:Prácticas I
ORGANIZER;CN="Fundaci%C3%B3n Universitaria Los Libertadores Bogot%C3%A1-Cartagena":MAILTO:fullatencion@libertadores.edu.co
END:VEVENT
BEGIN:VEVENT
DTSTART;VALUE=DATE:20230213
DTEND;VALUE=DATE:20230214
DTSTAMP:20260423T163045
CREATED:20220301T152350Z
LAST-MODIFIED:20221223T144848Z
UID:6778-1676246400-1676332799@calendarioacademico.libertadores.edu.co
SUMMARY:Inicio de las prácticas - S1Pr
DESCRIPTION:
URL:https://calendarioacademico.libertadores.edu.co/event/inicio-de-las-practicas-s1pr/
LOCATION:Fundación Universitaria Los Libertadores\, Carrera 16 # 63 A - 68\, Bogotá D.C.\, 110011\, Colombia
CATEGORIES:Prácticas I
ORGANIZER;CN="Fundaci%C3%B3n Universitaria Los Libertadores Bogot%C3%A1-Cartagena":MAILTO:fullatencion@libertadores.edu.co
END:VEVENT
BEGIN:VEVENT
DTSTART;VALUE=DATE:20230213
DTEND;VALUE=DATE:20230219
DTSTAMP:20260423T163045
CREATED:20220301T152133Z
LAST-MODIFIED:20221223T144727Z
UID:6774-1676246400-1676764799@calendarioacademico.libertadores.edu.co
SUMMARY:Reunión general de inicio de prácticas- S1Pr
DESCRIPTION:
URL:https://calendarioacademico.libertadores.edu.co/event/reunion-general-de-inicio-de-practicas-2/
LOCATION:Fundación Universitaria Los Libertadores\, Carrera 16 # 63 A - 68\, Bogotá D.C.\, 110011\, Colombia
CATEGORIES:Prácticas I
ORGANIZER;CN="Fundaci%C3%B3n Universitaria Los Libertadores Bogot%C3%A1-Cartagena":MAILTO:fullatencion@libertadores.edu.co
END:VEVENT
BEGIN:VEVENT
DTSTART;VALUE=DATE:20230211
DTEND;VALUE=DATE:20230225
DTSTAMP:20260423T163045
CREATED:20220303T211711Z
LAST-MODIFIED:20221222T173852Z
UID:7312-1676073600-1677283199@calendarioacademico.libertadores.edu.co
SUMMARY:Pago Extraordinario Facultades de: Ciencias de la Comunicación\, Derecho y Ciencias Políticas - S1Pr
DESCRIPTION:
URL:https://calendarioacademico.libertadores.edu.co/event/pago-extraordinario-facultades-de-ciencias-de-la-comunicacion-derecho-y-ciencias-politicas-s1pr/
LOCATION:Fundación Universitaria Los Libertadores\, Carrera 16 # 63 A - 68\, Bogotá D.C.\, 110011\, Colombia
CATEGORIES:Matricula estudiantes antiguos I
ORGANIZER;CN="Fundaci%C3%B3n Universitaria Los Libertadores Bogot%C3%A1-Cartagena":MAILTO:fullatencion@libertadores.edu.co
END:VEVENT
BEGIN:VEVENT
DTSTART;VALUE=DATE:20230211
DTEND;VALUE=DATE:20230225
DTSTAMP:20260423T163045
CREATED:20220303T134213Z
LAST-MODIFIED:20221222T173952Z
UID:7314-1676073600-1677283199@calendarioacademico.libertadores.edu.co
SUMMARY:Pago Extraordinario Facultades de: Ingeniería y Ciencias Básicas y Ciencias Humanas y Sociales - S1Pr
DESCRIPTION:
URL:https://calendarioacademico.libertadores.edu.co/event/pago-extraordinario-facultades-de-ingenieria-y-ciencias-basicas-ciencias-humanas-y-sociales-s1pr/
LOCATION:Fundación Universitaria Los Libertadores\, Carrera 16 # 63 A - 68\, Bogotá D.C.\, 110011\, Colombia
CATEGORIES:Matricula estudiantes antiguos I
ORGANIZER;CN="Fundaci%C3%B3n Universitaria Los Libertadores Bogot%C3%A1-Cartagena":MAILTO:fullatencion@libertadores.edu.co
END:VEVENT
BEGIN:VEVENT
DTSTART;VALUE=DATE:20230211
DTEND;VALUE=DATE:20230225
DTSTAMP:20260423T163045
CREATED:20220303T133848Z
LAST-MODIFIED:20221222T174035Z
UID:7310-1676073600-1677283199@calendarioacademico.libertadores.edu.co
SUMMARY:Pago Extraordinario Facultades de Psicología y de Ciencias Económicas\, Administrativas y Contables - S1Pr
DESCRIPTION:
URL:https://calendarioacademico.libertadores.edu.co/event/pago-extraordinario-facultades-de-psicologia-y-de-ciencias-economicas-administrativas-y-contables-s1pr/
LOCATION:Fundación Universitaria Los Libertadores\, Carrera 16 # 63 A - 68\, Bogotá D.C.\, 110011\, Colombia
CATEGORIES:Matricula estudiantes antiguos I
ORGANIZER;CN="Fundaci%C3%B3n Universitaria Los Libertadores Bogot%C3%A1-Cartagena":MAILTO:fullatencion@libertadores.edu.co
END:VEVENT
BEGIN:VEVENT
DTSTART;VALUE=DATE:20230211
DTEND;VALUE=DATE:20230218
DTSTAMP:20260423T163045
CREATED:20220301T205559Z
LAST-MODIFIED:20221124T215720Z
UID:6902-1676073600-1676678399@calendarioacademico.libertadores.edu.co
SUMMARY:Segunda fecha de Pago de matrícula movilidad académica saliente -S1Pr
DESCRIPTION:
URL:https://calendarioacademico.libertadores.edu.co/event/segunda-fecha-de-pago-de-matricula-movilidad-academica-saliente-s1pr/
LOCATION:Fundación Universitaria Los Libertadores\, Carrera 16 # 63 A - 68\, Bogotá D.C.\, 110011\, Colombia
CATEGORIES:Matrículas Estudiantes Movilidad Académica Salientes I
ORGANIZER;CN="Fundaci%C3%B3n Universitaria Los Libertadores Bogot%C3%A1-Cartagena":MAILTO:fullatencion@libertadores.edu.co
END:VEVENT
END:VCALENDAR