BEGIN:VCALENDAR
VERSION:2.0
PRODID:-//Calendario Académico - ECPv6.15.20//NONSGML v1.0//EN
CALSCALE:GREGORIAN
METHOD:PUBLISH
X-ORIGINAL-URL:https://calendarioacademico.libertadores.edu.co
X-WR-CALDESC:Eventos para Calendario Académico
REFRESH-INTERVAL;VALUE=DURATION:PT1H
X-Robots-Tag:noindex
X-PUBLISHED-TTL:PT1H
BEGIN:VTIMEZONE
TZID:America/New_York
BEGIN:DAYLIGHT
TZOFFSETFROM:-0500
TZOFFSETTO:-0400
TZNAME:EDT
DTSTART:20210314T070000
END:DAYLIGHT
BEGIN:STANDARD
TZOFFSETFROM:-0400
TZOFFSETTO:-0500
TZNAME:EST
DTSTART:20211107T060000
END:STANDARD
BEGIN:DAYLIGHT
TZOFFSETFROM:-0500
TZOFFSETTO:-0400
TZNAME:EDT
DTSTART:20220313T070000
END:DAYLIGHT
BEGIN:STANDARD
TZOFFSETFROM:-0400
TZOFFSETTO:-0500
TZNAME:EST
DTSTART:20221106T060000
END:STANDARD
BEGIN:DAYLIGHT
TZOFFSETFROM:-0500
TZOFFSETTO:-0400
TZNAME:EDT
DTSTART:20230312T070000
END:DAYLIGHT
BEGIN:STANDARD
TZOFFSETFROM:-0400
TZOFFSETTO:-0500
TZNAME:EST
DTSTART:20231105T060000
END:STANDARD
BEGIN:DAYLIGHT
TZOFFSETFROM:-0500
TZOFFSETTO:-0400
TZNAME:EDT
DTSTART:20240310T070000
END:DAYLIGHT
BEGIN:STANDARD
TZOFFSETFROM:-0400
TZOFFSETTO:-0500
TZNAME:EST
DTSTART:20241103T060000
END:STANDARD
END:VTIMEZONE
BEGIN:VEVENT
DTSTART;VALUE=DATE:20230210
DTEND;VALUE=DATE:20230211
DTSTAMP:20260423T205849
CREATED:20220225T154749Z
LAST-MODIFIED:20221124T141228Z
UID:6568-1675987200-1676073599@calendarioacademico.libertadores.edu.co
SUMMARY:Encuentro de Padres-S1Pr
DESCRIPTION:
URL:https://calendarioacademico.libertadores.edu.co/event/encuentro-de-padres-s1pr/
LOCATION:Fundación Universitaria Los Libertadores\, Carrera 16 # 63 A - 68\, Bogotá D.C.\, 110011\, Colombia
CATEGORIES:Matriculas estudiantes nuevos I
ORGANIZER;CN="Fundaci%C3%B3n Universitaria Los Libertadores":MAILTO:infopresencial@libertadores.edu.co
END:VEVENT
BEGIN:VEVENT
DTSTART;VALUE=DATE:20230209
DTEND;VALUE=DATE:20230210
DTSTAMP:20260423T205849
CREATED:20220310T214950Z
LAST-MODIFIED:20221124T140605Z
UID:7431-1675900800-1675987199@calendarioacademico.libertadores.edu.co
SUMMARY:Envío de material de inducción a estudiantes nuevos – Pregrado I
DESCRIPTION:
URL:https://calendarioacademico.libertadores.edu.co/event/envio-de-material-de-induccion-a-estudiantes-nuevos-pregrado-i/
LOCATION:Fundación Universitaria Los Libertadores\, Carrera 16 # 63 A - 68\, Bogotá D.C.\, 110011\, Colombia
CATEGORIES:Matriculas estudiantes nuevos I
ORGANIZER;CN="Fundaci%C3%B3n Universitaria Los Libertadores":MAILTO:infopresencial@libertadores.edu.co
END:VEVENT
BEGIN:VEVENT
DTSTART;VALUE=DATE:20230208
DTEND;VALUE=DATE:20230211
DTSTAMP:20260423T205849
CREATED:20220225T154257Z
LAST-MODIFIED:20221123T220516Z
UID:6565-1675814400-1676073599@calendarioacademico.libertadores.edu.co
SUMMARY:Inducción a estudiantes nuevos-S1Pr
DESCRIPTION:Conoce más información aquí \n 
URL:https://calendarioacademico.libertadores.edu.co/event/induccion-a-estudiantes-nuevos-s1pr/
LOCATION:Fundación Universitaria Los Libertadores\, Carrera 16 # 63 A - 68\, Bogotá D.C.\, 110011\, Colombia
CATEGORIES:Matriculas estudiantes nuevos I
ORGANIZER;CN="Fundaci%C3%B3n Universitaria Los Libertadores":MAILTO:infopresencial@libertadores.edu.co
END:VEVENT
BEGIN:VEVENT
DTSTART;VALUE=DATE:20230207
DTEND;VALUE=DATE:20230208
DTSTAMP:20260423T205849
CREATED:20221124T141419Z
LAST-MODIFIED:20221124T141419Z
UID:7487-1675728000-1675814399@calendarioacademico.libertadores.edu.co
SUMMARY:Encuentro de Padres Cartagena-S1Pr
DESCRIPTION:
URL:https://calendarioacademico.libertadores.edu.co/event/encuentro-de-padres-cartagena-s1pr/
LOCATION:Fundación Universitaria Los Libertadores – Cartagena\, Calle 31 No. 19 - 51\, Cartagena\, Cartagena de Indias\, 130001\, Colombia
CATEGORIES:Matriculas estudiantes nuevos I
ORGANIZER;CN="Fundaci%C3%B3n Universitaria Los Libertadores":MAILTO:infopresencial@libertadores.edu.co
END:VEVENT
BEGIN:VEVENT
DTSTART;VALUE=DATE:20230206
DTEND;VALUE=DATE:20230403
DTSTAMP:20260423T205849
CREATED:20211213T174227Z
LAST-MODIFIED:20221226T225400Z
UID:5061-1675641600-1680479999@calendarioacademico.libertadores.edu.co
SUMMARY:Inicio y terminación coterminales trimestrales 1 - corte 1
DESCRIPTION:
URL:https://calendarioacademico.libertadores.edu.co/event/inicio-y-terminacion-coterminares-trimestrales-1-corte-1/
LOCATION:Fundación Universitaria Los Libertadores\, Carrera 16 # 63 A - 68\, Bogotá D.C.\, 110011\, Colombia
CATEGORIES:Coterminales Trimestrales I
ORGANIZER;CN="Fundaci%C3%B3n Universitaria Los Libertadores Bogot%C3%A1-Cartagena":MAILTO:fullatencion@libertadores.edu.co
END:VEVENT
BEGIN:VEVENT
DTSTART;TZID=America/New_York:20230206T000000
DTEND;TZID=America/New_York:20230207T000000
DTSTAMP:20260423T205849
CREATED:20221123T220908Z
LAST-MODIFIED:20221123T220908Z
UID:7482-1675641600-1675728000@calendarioacademico.libertadores.edu.co
SUMMARY:Inducción a estudiantes nuevos Cartagena-S1Pr
DESCRIPTION:Conoce más información aquí \n 
URL:https://calendarioacademico.libertadores.edu.co/event/induccion-a-estudiantes-nuevos-cartagena-s1pr/
LOCATION:Fundación Universitaria Los Libertadores – Cartagena\, Calle 31 No. 19 - 51\, Cartagena\, Cartagena de Indias\, 130001\, Colombia
CATEGORIES:Matriculas estudiantes nuevos I
ORGANIZER;CN="Fundaci%C3%B3n Universitaria Los Libertadores":MAILTO:infopresencial@libertadores.edu.co
END:VEVENT
BEGIN:VEVENT
DTSTART;VALUE=DATE:20230206
DTEND;VALUE=DATE:20230207
DTSTAMP:20260423T205849
CREATED:20220301T220843Z
LAST-MODIFIED:20221226T170721Z
UID:6985-1675641600-1675727999@calendarioacademico.libertadores.edu.co
SUMMARY:Publicación de orden de Pago Preparatorios I - corte 1
DESCRIPTION:Descarga tu recibo aquí \nConoce más en Tutorial de Pagos \n 
URL:https://calendarioacademico.libertadores.edu.co/event/publicacion-de-orden-de-pago-preparatorios-1-corte-1/
LOCATION:Fundación Universitaria Los Libertadores\, Carrera 16 # 63 A - 68\, Bogotá D.C.\, 110011\, Colombia
CATEGORIES:Preparatorios I
ORGANIZER;CN="Fundaci%C3%B3n Universitaria Los Libertadores Bogot%C3%A1-Cartagena":MAILTO:fullatencion@libertadores.edu.co
END:VEVENT
BEGIN:VEVENT
DTSTART;VALUE=DATE:20230206
DTEND;VALUE=DATE:20230212
DTSTAMP:20260423T205849
CREATED:20220301T152722Z
LAST-MODIFIED:20221124T171025Z
UID:6783-1675641600-1676159999@calendarioacademico.libertadores.edu.co
SUMMARY:Solicitud de reajustes (adición y/o retiro de espacios académicos) - S1Pr
DESCRIPTION:Solicita el reajuste aquí. \nConoce como hacerlo en el Instructivo de Reajustes.
URL:https://calendarioacademico.libertadores.edu.co/event/solicitud-de-reajustes-adicion-y-o-retiro-de-espacios-academicos-s1pr/
LOCATION:Fundación Universitaria Los Libertadores\, Carrera 16 # 63 A - 68\, Bogotá D.C.\, 110011\, Colombia
CATEGORIES:Matricula estudiantes antiguos I
ORGANIZER;CN="Fundaci%C3%B3n Universitaria Los Libertadores Bogot%C3%A1-Cartagena":MAILTO:fullatencion@libertadores.edu.co
END:VEVENT
BEGIN:VEVENT
DTSTART;VALUE=DATE:20230206
DTEND;VALUE=DATE:20230214
DTSTAMP:20260423T205849
CREATED:20211215T151942Z
LAST-MODIFIED:20221226T171523Z
UID:5593-1675641600-1676332799@calendarioacademico.libertadores.edu.co
SUMMARY:Fecha de pago preparatorios I - corte 1
DESCRIPTION:Descarga tu recibo de pago Aquí \nConoce más en Tutorial de pagos \n 
URL:https://calendarioacademico.libertadores.edu.co/event/fecha-de-pago-preparatorios-pregrado-1-corte-1/
LOCATION:Fundación Universitaria Los Libertadores\, Carrera 16 # 63 A - 68\, Bogotá D.C.\, 110011\, Colombia
CATEGORIES:Preparatorios I
ORGANIZER;CN="Fundaci%C3%B3n Universitaria Los Libertadores Bogot%C3%A1-Cartagena":MAILTO:fullatencion@libertadores.edu.co
END:VEVENT
BEGIN:VEVENT
DTSTART;VALUE=DATE:20230204
DTEND;VALUE=DATE:20230331
DTSTAMP:20260423T205849
CREATED:20211214T202023Z
LAST-MODIFIED:20221226T142524Z
UID:5226-1675468800-1680220799@calendarioacademico.libertadores.edu.co
SUMMARY:Convocatoria semestre de intercambio en el exterior -S1Pr
DESCRIPTION:
URL:https://calendarioacademico.libertadores.edu.co/event/convocatoria-semestre-de-intercambio-en-el-exterior-1/
LOCATION:Fundación Universitaria Los Libertadores\, Carrera 16 # 63 A - 68\, Bogotá D.C.\, 110011\, Colombia
CATEGORIES:Internacionalización I
ORGANIZER;CN="Fundaci%C3%B3n Universitaria Los Libertadores Bogot%C3%A1-Cartagena":MAILTO:fullatencion@libertadores.edu.co
END:VEVENT
BEGIN:VEVENT
DTSTART;VALUE=DATE:20230130
DTEND;VALUE=DATE:20230201
DTSTAMP:20260423T205849
CREATED:20220301T220121Z
LAST-MODIFIED:20221226T165755Z
UID:6978-1675036800-1675209599@calendarioacademico.libertadores.edu.co
SUMMARY:Novedades de Inscripción preparatorios I - Corte 1
DESCRIPTION:
URL:https://calendarioacademico.libertadores.edu.co/event/novedades-de-inscripcion-preparatorios-1-corte-1/
LOCATION:Fundación Universitaria Los Libertadores\, Carrera 16 # 63 A - 68\, Bogotá D.C.\, 110011\, Colombia
CATEGORIES:Preparatorios I
ORGANIZER;CN="Fundaci%C3%B3n Universitaria Los Libertadores Bogot%C3%A1-Cartagena":MAILTO:fullatencion@libertadores.edu.co
END:VEVENT
BEGIN:VEVENT
DTSTART;VALUE=DATE:20230128
DTEND;VALUE=DATE:20230211
DTSTAMP:20260423T205849
CREATED:20220301T204726Z
LAST-MODIFIED:20221124T215517Z
UID:6894-1674864000-1676073599@calendarioacademico.libertadores.edu.co
SUMMARY:Primera fecha de Pago de matrícula movilidad académica saliente - S1Pr
DESCRIPTION:
URL:https://calendarioacademico.libertadores.edu.co/event/primera-fecha-de-pago-de-matricula-movilidad-academica-saliente-s1pr/
LOCATION:Fundación Universitaria Los Libertadores\, Carrera 16 # 63 A - 68\, Bogotá D.C.\, 110011\, Colombia
CATEGORIES:Matrículas Estudiantes Movilidad Académica Salientes I
ORGANIZER;CN="Fundaci%C3%B3n Universitaria Los Libertadores Bogot%C3%A1-Cartagena":MAILTO:fullatencion@libertadores.edu.co
END:VEVENT
BEGIN:VEVENT
DTSTART;VALUE=DATE:20230128
DTEND;VALUE=DATE:20230129
DTSTAMP:20260423T205849
CREATED:20220301T163318Z
LAST-MODIFIED:20221222T175336Z
UID:6838-1674864000-1674950399@calendarioacademico.libertadores.edu.co
SUMMARY:Publicación de recibo de pago de matrícula movilidad académica saliente - S1Pr
DESCRIPTION:
URL:https://calendarioacademico.libertadores.edu.co/event/publicacion-de-recibo-de-pago-de-matricula-movilidad-academica-saliente-s1pr/
LOCATION:Fundación Universitaria Los Libertadores\, Carrera 16 # 63 A - 68\, Bogotá D.C.\, 110011\, Colombia
CATEGORIES:Matrículas Estudiantes Movilidad Académica Salientes I
ORGANIZER;CN="Fundaci%C3%B3n Universitaria Los Libertadores Bogot%C3%A1-Cartagena":MAILTO:fullatencion@libertadores.edu.co
END:VEVENT
BEGIN:VEVENT
DTSTART;VALUE=DATE:20230126
DTEND;VALUE=DATE:20230128
DTSTAMP:20260423T205849
CREATED:20220301T214112Z
LAST-MODIFIED:20221226T155617Z
UID:6958-1674691200-1674863999@calendarioacademico.libertadores.edu.co
SUMMARY:Inscripción Preparatorios I - corte 1
DESCRIPTION:Inscripción de horarios Aquí \nConoce más en Tutorial inscripción de horarios
URL:https://calendarioacademico.libertadores.edu.co/event/inscripcion-preparatorios-i-s1pr/
LOCATION:Fundación Universitaria Los Libertadores\, Carrera 16 # 63 A - 68\, Bogotá D.C.\, 110011\, Colombia
CATEGORIES:Preparatorios I
ORGANIZER;CN="Fundaci%C3%B3n Universitaria Los Libertadores Bogot%C3%A1-Cartagena":MAILTO:fullatencion@libertadores.edu.co
END:VEVENT
BEGIN:VEVENT
DTSTART;VALUE=DATE:20230126
DTEND;VALUE=DATE:20230128
DTSTAMP:20260423T205849
CREATED:20220301T163100Z
LAST-MODIFIED:20221222T175231Z
UID:6836-1674691200-1674863999@calendarioacademico.libertadores.edu.co
SUMMARY:Selección de horarios para matrículas movilidad académica saliente S1Pr
DESCRIPTION:
URL:https://calendarioacademico.libertadores.edu.co/event/seleccion-de-horarios-para-matriculas-movilidad-academica-saliente-s1pr/
LOCATION:Fundación Universitaria Los Libertadores\, Carrera 16 # 63 A - 68\, Bogotá D.C.\, 110011\, Colombia
CATEGORIES:Matrículas Estudiantes Movilidad Académica Salientes I
ORGANIZER;CN="Fundaci%C3%B3n Universitaria Los Libertadores Bogot%C3%A1-Cartagena":MAILTO:fullatencion@libertadores.edu.co
END:VEVENT
BEGIN:VEVENT
DTSTART;VALUE=DATE:20230120
DTEND;VALUE=DATE:20230121
DTSTAMP:20260423T205849
CREATED:20220301T210513Z
LAST-MODIFIED:20221226T144820Z
UID:6906-1674172800-1674259199@calendarioacademico.libertadores.edu.co
SUMMARY:Apertura y cierre de SAI para designación de grupos - S1Pr corte 1
DESCRIPTION:
URL:https://calendarioacademico.libertadores.edu.co/event/apertura-y-cierre-de-sai-para-designacion-de-grupos-s1pr-2/
LOCATION:Fundación Universitaria Los Libertadores\, Carrera 16 # 63 A - 68\, Bogotá D.C.\, 110011\, Colombia
CATEGORIES:Preparatorios I
ORGANIZER;CN="Fundaci%C3%B3n Universitaria Los Libertadores Bogot%C3%A1-Cartagena":MAILTO:fullatencion@libertadores.edu.co
END:VEVENT
BEGIN:VEVENT
DTSTART;VALUE=DATE:20230116
DTEND;VALUE=DATE:20230211
DTSTAMP:20260423T205849
CREATED:20211213T154748Z
LAST-MODIFIED:20221226T230516Z
UID:5030-1673827200-1676073599@calendarioacademico.libertadores.edu.co
SUMMARY:Inicio y terminación preuniversitario - S1Pr
DESCRIPTION:
URL:https://calendarioacademico.libertadores.edu.co/event/inicio-y-terminacion-preuniversitario/
LOCATION:Fundación Universitaria Los Libertadores\, Carrera 16 # 63 A - 68\, Bogotá D.C.\, 110011\, Colombia
CATEGORIES:Preuniversitario I
END:VEVENT
BEGIN:VEVENT
DTSTART;VALUE=DATE:20230116
DTEND;VALUE=DATE:20230211
DTSTAMP:20260423T205849
CREATED:20211213T164902Z
LAST-MODIFIED:20221226T230153Z
UID:5037-1673827200-1676073599@calendarioacademico.libertadores.edu.co
SUMMARY:Inicio y terminación nivelatorios I - S1Pr
DESCRIPTION:
URL:https://calendarioacademico.libertadores.edu.co/event/inicio-y-terminacion-nivelatorios-1-s1pr/
LOCATION:Fundación Universitaria Los Libertadores\, Carrera 16 # 63 A - 68\, Bogotá D.C.\, 110011\, Colombia
CATEGORIES:Nivelatorios I
ORGANIZER;CN="Fundaci%C3%B3n Universitaria Los Libertadores Bogot%C3%A1-Cartagena":MAILTO:fullatencion@libertadores.edu.co
END:VEVENT
BEGIN:VEVENT
DTSTART;VALUE=DATE:20230113
DTEND;VALUE=DATE:20230630
DTSTAMP:20260423T205849
CREATED:20220301T210920Z
LAST-MODIFIED:20221222T200950Z
UID:6914-1673568000-1688083199@calendarioacademico.libertadores.edu.co
SUMMARY:Solicitud y presentación de suficiencias - S1Pr
DESCRIPTION:
URL:https://calendarioacademico.libertadores.edu.co/event/solicitud-y-presentacion-de-suficiencias-s1pr/
LOCATION:Fundación Universitaria Los Libertadores\, Carrera 16 # 63 A - 68\, Bogotá D.C.\, 110011\, Colombia
CATEGORIES:Periodo Académico I
ORGANIZER;CN="Fundaci%C3%B3n Universitaria Los Libertadores Bogot%C3%A1-Cartagena":MAILTO:fullatencion@libertadores.edu.co
END:VEVENT
BEGIN:VEVENT
DTSTART;VALUE=DATE:20230111
DTEND;VALUE=DATE:20230112
DTSTAMP:20260423T205849
CREATED:20211213T164622Z
LAST-MODIFIED:20221226T230039Z
UID:5035-1673395200-1673481599@calendarioacademico.libertadores.edu.co
SUMMARY:Fecha límite de pago Nivelatorios I - S1Pr
DESCRIPTION:Descarga tu recibo Aquí \nConoce más en Tutorial de Pagos
URL:https://calendarioacademico.libertadores.edu.co/event/fecha-limite-de-pago-nivelatorios-1-s1pr/
LOCATION:Fundación Universitaria Los Libertadores\, Carrera 16 # 63 A - 68\, Bogotá D.C.\, 110011\, Colombia
CATEGORIES:Nivelatorios I
ORGANIZER;CN="Fundaci%C3%B3n Universitaria Los Libertadores Bogot%C3%A1-Cartagena":MAILTO:fullatencion@libertadores.edu.co
END:VEVENT
BEGIN:VEVENT
DTSTART;VALUE=DATE:20230111
DTEND;VALUE=DATE:20230112
DTSTAMP:20260423T205849
CREATED:20211213T154608Z
LAST-MODIFIED:20221226T230452Z
UID:5028-1673395200-1673481599@calendarioacademico.libertadores.edu.co
SUMMARY:Fecha limite de pago preuniversitario I - S1Pr
DESCRIPTION:Descarga tu recibo Aquí \nConoce más en Tutorial de Pagos
URL:https://calendarioacademico.libertadores.edu.co/event/fecha-limite-de-pago-preuniversitario-1-s1pr/
LOCATION:Fundación Universitaria Los Libertadores\, Carrera 16 # 63 A - 68\, Bogotá D.C.\, 110011\, Colombia
CATEGORIES:Preuniversitario I
ORGANIZER;CN="Fundaci%C3%B3n Universitaria Los Libertadores Bogot%C3%A1-Cartagena":MAILTO:fullatencion@libertadores.edu.co
END:VEVENT
BEGIN:VEVENT
DTSTART;VALUE=DATE:20230104
DTEND;VALUE=DATE:20230112
DTSTAMP:20260423T205849
CREATED:20211213T164501Z
LAST-MODIFIED:20221226T225746Z
UID:5033-1672790400-1673481599@calendarioacademico.libertadores.edu.co
SUMMARY:Inscripción Nivelatorios I - S1Pr
DESCRIPTION:
URL:https://calendarioacademico.libertadores.edu.co/event/inscripcion-nivelatorios-1-s1pr/
LOCATION:Fundación Universitaria Los Libertadores\, Carrera 16 # 63 A - 68\, Bogotá D.C.\, 110011\, Colombia
CATEGORIES:Nivelatorios I
ORGANIZER;CN="Fundaci%C3%B3n Universitaria Los Libertadores Bogot%C3%A1-Cartagena":MAILTO:fullatencion@libertadores.edu.co
END:VEVENT
BEGIN:VEVENT
DTSTART;VALUE=DATE:20230104
DTEND;VALUE=DATE:20230112
DTSTAMP:20260423T205849
CREATED:20211213T152504Z
LAST-MODIFIED:20221226T230420Z
UID:5024-1672790400-1673481599@calendarioacademico.libertadores.edu.co
SUMMARY:Inscripción Preuniversitario 1 - S1Pr
DESCRIPTION:Admisiones Aquí \n 
URL:https://calendarioacademico.libertadores.edu.co/event/inscripcion-preuniversitario-1-s1pr/
LOCATION:Fundación Universitaria Los Libertadores\, Carrera 16 # 63 A - 68\, Bogotá D.C.\, 110011\, Colombia
CATEGORIES:Preuniversitario I
ORGANIZER;CN="Fundaci%C3%B3n Universitaria Los Libertadores Bogot%C3%A1-Cartagena":MAILTO:fullatencion@libertadores.edu.co
END:VEVENT
BEGIN:VEVENT
DTSTART;VALUE=DATE:20230101
DTEND;VALUE=DATE:20230214
DTSTAMP:20260423T205849
CREATED:20220225T153356Z
LAST-MODIFIED:20221123T220024Z
UID:6563-1672531200-1676332799@calendarioacademico.libertadores.edu.co
SUMMARY:Pago ordinario admitidos - S1Pr
DESCRIPTION:Descarga el recibo aquí.  \nConoce como hacerlo en el tutorial de pagos.
URL:https://calendarioacademico.libertadores.edu.co/event/pago-ordinario-admitidos-s1pr/
LOCATION:Fundación Universitaria Los Libertadores\, Carrera 16 # 63 A - 68\, Bogotá D.C.\, 110011\, Colombia
CATEGORIES:Matriculas estudiantes nuevos I
ORGANIZER;CN="Fundaci%C3%B3n Universitaria Los Libertadores":MAILTO:infopresencial@libertadores.edu.co
END:VEVENT
BEGIN:VEVENT
DTSTART;VALUE=DATE:20221228
DTEND;VALUE=DATE:20230211
DTSTAMP:20260423T205849
CREATED:20220301T151736Z
LAST-MODIFIED:20221222T170312Z
UID:6769-1672185600-1676073599@calendarioacademico.libertadores.edu.co
SUMMARY:Pago Ordinario Facultades de: Ingeniería y Ciencias Básicas\, Ciencias Humanas y Sociales - S1Pr
DESCRIPTION:Descarga tu recibo aquí . \nConoce como hacerlo en el tutorial de pagos.
URL:https://calendarioacademico.libertadores.edu.co/event/pago-ordinario-facultades-de-ingenieria-y-ciencias-basicas-ciencias-humanas-y-sociales-s1pr/
LOCATION:Fundación Universitaria Los Libertadores\, Carrera 16 # 63 A - 68\, Bogotá D.C.\, 110011\, Colombia
CATEGORIES:Matricula estudiantes antiguos I
ORGANIZER;CN="Fundaci%C3%B3n Universitaria Los Libertadores":MAILTO:infopresencial@libertadores.edu.co
END:VEVENT
BEGIN:VEVENT
DTSTART;VALUE=DATE:20221223
DTEND;VALUE=DATE:20230211
DTSTAMP:20260423T205849
CREATED:20220301T134314Z
LAST-MODIFIED:20221222T165238Z
UID:6698-1671753600-1676073599@calendarioacademico.libertadores.edu.co
SUMMARY:Pago Ordinario Facultades de Psicología y Ciencias Económicas\, Administrativas y Contables – S1Pr
DESCRIPTION:Descarga tu recibo aquí . \nConoce como hacerlo en el tutorial de pagos.
URL:https://calendarioacademico.libertadores.edu.co/event/pago-ordinario-facultades-de-psicologia-y-ciencias-economicas-administrativas-y-contables-s1pr/
LOCATION:Fundación Universitaria Los Libertadores\, Carrera 16 # 63 A - 68\, Bogotá D.C.\, 110011\, Colombia
CATEGORIES:Matricula estudiantes antiguos I
ORGANIZER;CN="Fundaci%C3%B3n Universitaria Los Libertadores Bogot%C3%A1-Cartagena":MAILTO:fullatencion@libertadores.edu.co
END:VEVENT
BEGIN:VEVENT
DTSTART;VALUE=DATE:20221222
DTEND;VALUE=DATE:20230211
DTSTAMP:20260423T205849
CREATED:20220301T145213Z
LAST-MODIFIED:20221222T164614Z
UID:6744-1671667200-1676073599@calendarioacademico.libertadores.edu.co
SUMMARY:Pago Ordinario Facultades de: Ciencias de la Comunicación\, Derecho y Ciencias Políticas - S1Pr
DESCRIPTION:Descarga tu recibo aquí . \nConoce como hacerlo en el tutorial de pagos.
URL:https://calendarioacademico.libertadores.edu.co/event/pago-ordinario-facultades-de-ciencias-de-la-comunicacion-derecho-y-ciencias-politicas-s1pr/
LOCATION:Fundación Universitaria Los Libertadores\, Carrera 16 # 63 A - 68\, Bogotá D.C.\, 110011\, Colombia
CATEGORIES:Matricula estudiantes antiguos I
ORGANIZER;CN="Fundaci%C3%B3n Universitaria Los Libertadores Bogot%C3%A1-Cartagena":MAILTO:fullatencion@libertadores.edu.co
END:VEVENT
BEGIN:VEVENT
DTSTART;VALUE=DATE:20221219
DTEND;VALUE=DATE:20230125
DTSTAMP:20260423T205849
CREATED:20211214T213017Z
LAST-MODIFIED:20221226T205026Z
UID:5328-1671408000-1674604799@calendarioacademico.libertadores.edu.co
SUMMARY:Publicación de órdenes de pago - Coterminales semestrales 1
DESCRIPTION:
URL:https://calendarioacademico.libertadores.edu.co/event/publicacion-de-ordenes-de-pago-coterminales-semestrales-pregrado/
LOCATION:Fundación Universitaria Los Libertadores\, Carrera 16 # 63 A - 68\, Bogotá D.C.\, 110011\, Colombia
CATEGORIES:Coterminales Semestrales I
ORGANIZER;CN="Fundaci%C3%B3n Universitaria Los Libertadores Bogot%C3%A1-Cartagena":MAILTO:fullatencion@libertadores.edu.co
END:VEVENT
BEGIN:VEVENT
DTSTART;VALUE=DATE:20221219
DTEND;VALUE=DATE:20230204
DTSTAMP:20260423T205849
CREATED:20211213T171620Z
LAST-MODIFIED:20221226T214735Z
UID:5053-1671408000-1675468799@calendarioacademico.libertadores.edu.co
SUMMARY:Publicación de órdenes de pago coterminares trimestrales I - corte 1
DESCRIPTION:Descarga tu recibo Aquí \nConoce más en Tutorial de Pagos
URL:https://calendarioacademico.libertadores.edu.co/event/publicacion-de-ordenes-de-pago-coterminares-trimestrales-1/
LOCATION:Fundación Universitaria Los Libertadores\, Carrera 16 # 63 A - 68\, Bogotá D.C.\, 110011\, Colombia
CATEGORIES:Coterminales Trimestrales I
ORGANIZER;CN="Fundaci%C3%B3n Universitaria Los Libertadores Bogot%C3%A1-Cartagena":MAILTO:fullatencion@libertadores.edu.co
END:VEVENT
BEGIN:VEVENT
DTSTART;VALUE=DATE:20221219
DTEND;VALUE=DATE:20230207
DTSTAMP:20260423T205849
CREATED:20211213T173549Z
LAST-MODIFIED:20221226T225110Z
UID:5055-1671408000-1675727999@calendarioacademico.libertadores.edu.co
SUMMARY:Fecha límite de pago coterminares trimestrales I - corte 1
DESCRIPTION:
URL:https://calendarioacademico.libertadores.edu.co/event/fecha-limite-de-pago-coterminares-trimestrales-1-corte-1/
LOCATION:Fundación Universitaria Los Libertadores\, Carrera 16 # 63 A - 68\, Bogotá D.C.\, 110011\, Colombia
CATEGORIES:Coterminales Trimestrales I
ORGANIZER;CN="Fundaci%C3%B3n Universitaria Los Libertadores Bogot%C3%A1-Cartagena":MAILTO:fullatencion@libertadores.edu.co
END:VEVENT
END:VCALENDAR