BEGIN:VCALENDAR
VERSION:2.0
PRODID:-//Calendario Académico - ECPv6.15.20//NONSGML v1.0//EN
CALSCALE:GREGORIAN
METHOD:PUBLISH
X-WR-CALNAME:Calendario Académico
X-ORIGINAL-URL:https://calendarioacademico.libertadores.edu.co
X-WR-CALDESC:Eventos para Calendario Académico
REFRESH-INTERVAL;VALUE=DURATION:PT1H
X-Robots-Tag:noindex
X-PUBLISHED-TTL:PT1H
BEGIN:VTIMEZONE
TZID:America/New_York
BEGIN:DAYLIGHT
TZOFFSETFROM:-0500
TZOFFSETTO:-0400
TZNAME:EDT
DTSTART:20210314T070000
END:DAYLIGHT
BEGIN:STANDARD
TZOFFSETFROM:-0400
TZOFFSETTO:-0500
TZNAME:EST
DTSTART:20211107T060000
END:STANDARD
BEGIN:DAYLIGHT
TZOFFSETFROM:-0500
TZOFFSETTO:-0400
TZNAME:EDT
DTSTART:20220313T070000
END:DAYLIGHT
BEGIN:STANDARD
TZOFFSETFROM:-0400
TZOFFSETTO:-0500
TZNAME:EST
DTSTART:20221106T060000
END:STANDARD
BEGIN:DAYLIGHT
TZOFFSETFROM:-0500
TZOFFSETTO:-0400
TZNAME:EDT
DTSTART:20230312T070000
END:DAYLIGHT
BEGIN:STANDARD
TZOFFSETFROM:-0400
TZOFFSETTO:-0500
TZNAME:EST
DTSTART:20231105T060000
END:STANDARD
BEGIN:DAYLIGHT
TZOFFSETFROM:-0500
TZOFFSETTO:-0400
TZNAME:EDT
DTSTART:20240310T070000
END:DAYLIGHT
BEGIN:STANDARD
TZOFFSETFROM:-0400
TZOFFSETTO:-0500
TZNAME:EST
DTSTART:20241103T060000
END:STANDARD
END:VTIMEZONE
BEGIN:VEVENT
DTSTART;VALUE=DATE:20221212
DTEND;VALUE=DATE:20221215
DTSTAMP:20260424T024559
CREATED:20221124T160846Z
LAST-MODIFIED:20221227T170948Z
UID:7494-1670803200-1671062399@calendarioacademico.libertadores.edu.co
SUMMARY:Selección de horarios Facultades de: Ingeniería y Ciencias Básicas\, Ciencias Humanas y Sociales-S1Pr
DESCRIPTION:Inscribe tus espacios académicos aquí \nConoce como hacerlo en el tutorial de inscripción de espacios aquí 
URL:https://calendarioacademico.libertadores.edu.co/event/seleccion-de-horarios-facultades-de-ingenieria-y-ciencias-basicas-ciencias-humanas-y-sociales-s1pr/
LOCATION:Fundación Universitaria Los Libertadores\, Carrera 16 # 63 A - 68\, Bogotá D.C.\, 110011\, Colombia
CATEGORIES:Matricula estudiantes antiguos I
ORGANIZER;CN="Fundaci%C3%B3n Universitaria Los Libertadores":MAILTO:infopresencial@libertadores.edu.co
END:VEVENT
BEGIN:VEVENT
DTSTART;VALUE=DATE:20221212
DTEND;VALUE=DATE:20230304
DTSTAMP:20260424T024559
CREATED:20220228T223205Z
LAST-MODIFIED:20221222T214333Z
UID:6669-1670803200-1677887999@calendarioacademico.libertadores.edu.co
SUMMARY:Inscripción y publicación de orden de pago - S1Pr
DESCRIPTION:Descarga tu recibo aquí
URL:https://calendarioacademico.libertadores.edu.co/event/inscripcion-y-publicacion-de-orden-de-pago-s1pr/
LOCATION:Fundación Universitaria Los Libertadores\, Carrera 16 # 63 A - 68\, Bogotá D.C.\, 110011\, Colombia
CATEGORIES:Seminarios de Grado periodo regular I
ORGANIZER;CN="Fundaci%C3%B3n Universitaria Los Libertadores Bogot%C3%A1-Cartagena":MAILTO:fullatencion@libertadores.edu.co
END:VEVENT
BEGIN:VEVENT
DTSTART;VALUE=DATE:20221210
DTEND;VALUE=DATE:20230211
DTSTAMP:20260424T024559
CREATED:20220303T134457Z
LAST-MODIFIED:20221124T174902Z
UID:7316-1670630400-1676073599@calendarioacademico.libertadores.edu.co
SUMMARY:Solicitud de cambios de grupos - S1Pr
DESCRIPTION:
URL:https://calendarioacademico.libertadores.edu.co/event/solicitud-de-cambios-de-grupos-s1pr/
LOCATION:Fundación Universitaria Los Libertadores\, Carrera 16 # 63 A - 68\, Bogotá D.C.\, 110011\, Colombia
CATEGORIES:Matricula estudiantes antiguos I
ORGANIZER;CN="Fundaci%C3%B3n Universitaria Los Libertadores Bogot%C3%A1-Cartagena":MAILTO:fullatencion@libertadores.edu.co
END:VEVENT
BEGIN:VEVENT
DTSTART;VALUE=DATE:20221210
DTEND;VALUE=DATE:20221211
DTSTAMP:20260424T024559
CREATED:20220301T150415Z
LAST-MODIFIED:20221223T144112Z
UID:6763-1670630400-1670716799@calendarioacademico.libertadores.edu.co
SUMMARY:Inscripción práctica - Fac. Ciencias de la Comunicación y Fac. Derecho\, Ciencias Políticas y Relaciones Internacionales -S1Pr
DESCRIPTION:
URL:https://calendarioacademico.libertadores.edu.co/event/inscripcion-practica-fac-ciencias-de-la-comunicacion-y-fac-derecho-ciencias-politicas-y-relaciones-internacionales-s1pr/
LOCATION:Fundación Universitaria Los Libertadores\, Carrera 16 # 63 A - 68\, Bogotá D.C.\, 110011\, Colombia
CATEGORIES:Prácticas I
ORGANIZER;CN="Fundaci%C3%B3n Universitaria Los Libertadores Bogot%C3%A1-Cartagena":MAILTO:fullatencion@libertadores.edu.co
END:VEVENT
BEGIN:VEVENT
DTSTART;VALUE=DATE:20221210
DTEND;VALUE=DATE:20221222
DTSTAMP:20260424T024559
CREATED:20220301T144021Z
LAST-MODIFIED:20221209T201538Z
UID:6734-1670630400-1671667199@calendarioacademico.libertadores.edu.co
SUMMARY:Pago pronto pago Facultades de: Ciencias de la Comunicación\,  Derecho y Ciencias Políticas - S1Pr
DESCRIPTION:Descarga tu recibo aquí . \nConoce como hacerlo en el tutorial de pagos.
URL:https://calendarioacademico.libertadores.edu.co/event/pago-pronto-pago-facultades-de-ciencias-de-la-comunicacion-derecho-y-ciencias-politicas-s1pr/
LOCATION:Fundación Universitaria Los Libertadores\, Carrera 16 # 63 A - 68\, Bogotá D.C.\, 110011\, Colombia
CATEGORIES:Matricula estudiantes antiguos I
ORGANIZER;CN="Fundaci%C3%B3n Universitaria Los Libertadores Bogot%C3%A1-Cartagena":MAILTO:fullatencion@libertadores.edu.co
END:VEVENT
BEGIN:VEVENT
DTSTART;VALUE=DATE:20221210
DTEND;VALUE=DATE:20221211
DTSTAMP:20260424T024559
CREATED:20220301T143308Z
LAST-MODIFIED:20221124T191408Z
UID:6727-1670630400-1670716799@calendarioacademico.libertadores.edu.co
SUMMARY:Publicación recibos Facultades de: Ciencias de la Comunicación\, Derecho y Ciencias Políticas - S1Pr
DESCRIPTION:Descarga tu recibo aquí . \nConoce como hacerlo en el tutorial de pagos.
URL:https://calendarioacademico.libertadores.edu.co/event/publicacion-recibos-facultades-de-ciencias-de-la-comunicacion-derecho-y-ciencias-politicas-s1pr/
LOCATION:Fundación Universitaria Los Libertadores\, Carrera 16 # 63 A - 68\, Bogotá D.C.\, 110011\, Colombia
CATEGORIES:Matricula estudiantes antiguos I
ORGANIZER;CN="Fundaci%C3%B3n Universitaria Los Libertadores Bogot%C3%A1-Cartagena":MAILTO:fullatencion@libertadores.edu.co
END:VEVENT
BEGIN:VEVENT
DTSTART;VALUE=DATE:20221207
DTEND;VALUE=DATE:20221208
DTSTAMP:20260424T024559
CREATED:20220307T150020Z
LAST-MODIFIED:20220307T150020Z
UID:7390-1670371200-1670457599@calendarioacademico.libertadores.edu.co
SUMMARY:Publicación de recibos de cursos intersemestrales-S2Pr
DESCRIPTION:Descarga tu recibo aquí \nConoce como hacerlo en el tutorial de pagos 
URL:https://calendarioacademico.libertadores.edu.co/event/publicacion-de-recibos-de-cursos-intersemestrales-s2pr/
LOCATION:Fundación Universitaria Los Libertadores\, Carrera 16 # 63 A - 68\, Bogotá D.C.\, 110011\, Colombia
CATEGORIES:Cursos Intersemestrales II
ORGANIZER;CN="Fundaci%C3%B3n Universitaria Los Libertadores":MAILTO:infopresencial@libertadores.edu.co
END:VEVENT
BEGIN:VEVENT
DTSTART;VALUE=DATE:20221207
DTEND;VALUE=DATE:20221212
DTSTAMP:20260424T024559
CREATED:20220301T140450Z
LAST-MODIFIED:20221227T170854Z
UID:6711-1670371200-1670803199@calendarioacademico.libertadores.edu.co
SUMMARY:Selección de horarios Facultades de Psicología y Ciencias  Económicas\, Administrativas y Contables - S1Pr
DESCRIPTION:Inscribe tus espacios académicos aquí. \nConoce como hacerlo en el tutorial de inscripción de espacios.
URL:https://calendarioacademico.libertadores.edu.co/event/seleccion-de-horarios-facultades-de-psicologia-y-ciencias-economicas-administrativas-y-contables-s1pr/
LOCATION:Fundación Universitaria Los Libertadores\, Carrera 16 # 63 A - 68\, Bogotá D.C.\, 110011\, Colombia
CATEGORIES:Matricula estudiantes antiguos I
ORGANIZER;CN="Fundaci%C3%B3n Universitaria Los Libertadores Bogot%C3%A1-Cartagena":MAILTO:fullatencion@libertadores.edu.co
END:VEVENT
BEGIN:VEVENT
DTSTART;VALUE=DATE:20221206
DTEND;VALUE=DATE:20221213
DTSTAMP:20260424T024559
CREATED:20211215T134610Z
LAST-MODIFIED:20220301T214353Z
UID:5500-1670284800-1670889599@calendarioacademico.libertadores.edu.co
SUMMARY:Comité de evaluación profesoral II
DESCRIPTION:
URL:https://calendarioacademico.libertadores.edu.co/event/comite-de-evaluacion-profesoral/
LOCATION:Fundación Universitaria Los Libertadores\, Carrera 16 # 63 A - 68\, Bogotá D.C.\, 110011\, Colombia
ORGANIZER;CN="Fundaci%C3%B3n Universitaria Los Libertadores":MAILTO:infopresencial@libertadores.edu.co
END:VEVENT
BEGIN:VEVENT
DTSTART;VALUE=DATE:20221205
DTEND;VALUE=DATE:20230218
DTSTAMP:20260424T024559
CREATED:20211214T212405Z
LAST-MODIFIED:20221226T204502Z
UID:5317-1670198400-1676678399@calendarioacademico.libertadores.edu.co
SUMMARY:Revisión de historias académicas - Coterminales semestrales I
DESCRIPTION:
URL:https://calendarioacademico.libertadores.edu.co/event/revision-de-historias-academicas-coterminales-semestrales-1/
LOCATION:Fundación Universitaria Los Libertadores\, Carrera 16 # 63 A - 68\, Bogotá D.C.\, 110011\, Colombia
CATEGORIES:Coterminales Semestrales I
ORGANIZER;CN="Fundaci%C3%B3n Universitaria Los Libertadores Bogot%C3%A1-Cartagena":MAILTO:fullatencion@libertadores.edu.co
END:VEVENT
BEGIN:VEVENT
DTSTART;VALUE=DATE:20221205
DTEND;VALUE=DATE:20230218
DTSTAMP:20260424T024559
CREATED:20211214T125857Z
LAST-MODIFIED:20221226T204424Z
UID:5069-1670198400-1676678399@calendarioacademico.libertadores.edu.co
SUMMARY:Inscripción coterminales semestrales 2023-1
DESCRIPTION:
URL:https://calendarioacademico.libertadores.edu.co/event/inscripcion-coterminales-semestrales-2023-1/
LOCATION:Fundación Universitaria Los Libertadores\, Carrera 16 # 63 A - 68\, Bogotá D.C.\, 110011\, Colombia
CATEGORIES:Coterminales Semestrales I
ORGANIZER;CN="Fundaci%C3%B3n Universitaria Los Libertadores Bogot%C3%A1-Cartagena":MAILTO:fullatencion@libertadores.edu.co
END:VEVENT
BEGIN:VEVENT
DTSTART;VALUE=DATE:20221205
DTEND;VALUE=DATE:20230204
DTSTAMP:20260424T024559
CREATED:20211213T170255Z
LAST-MODIFIED:20221226T210156Z
UID:5039-1670198400-1675468799@calendarioacademico.libertadores.edu.co
SUMMARY:Inscripción coterminales trimestrales I - corte 1
DESCRIPTION:
URL:https://calendarioacademico.libertadores.edu.co/event/inscripcion-coterminales-trimestrales-1-corte-1/
LOCATION:Fundación Universitaria Los Libertadores\, Carrera 16 # 63 A - 68\, Bogotá D.C.\, 110011\, Colombia
CATEGORIES:Coterminales Trimestrales I
ORGANIZER;CN="Fundaci%C3%B3n Universitaria Los Libertadores Bogot%C3%A1-Cartagena":MAILTO:fullatencion@libertadores.edu.co
END:VEVENT
BEGIN:VEVENT
DTSTART;VALUE=DATE:20221205
DTEND;VALUE=DATE:20230204
DTSTAMP:20260424T024559
CREATED:20211213T170552Z
LAST-MODIFIED:20221226T211046Z
UID:5043-1670198400-1675468799@calendarioacademico.libertadores.edu.co
SUMMARY:Revisión de historias académicas coterminales trimestrales I - corte 1
DESCRIPTION:
URL:https://calendarioacademico.libertadores.edu.co/event/revision-de-historias-academicas-coterminares-trimestrales-1-corte-1/
LOCATION:Fundación Universitaria Los Libertadores\, Carrera 16 # 63 A - 68\, Bogotá D.C.\, 110011\, Colombia
CATEGORIES:Coterminales Trimestrales I
ORGANIZER;CN="Fundaci%C3%B3n Universitaria Los Libertadores Bogot%C3%A1-Cartagena":MAILTO:fullatencion@libertadores.edu.co
END:VEVENT
BEGIN:VEVENT
DTSTART;VALUE=DATE:20221205
DTEND;VALUE=DATE:20221208
DTSTAMP:20260424T024559
CREATED:20220301T142003Z
LAST-MODIFIED:20221227T170841Z
UID:6724-1670198400-1670457599@calendarioacademico.libertadores.edu.co
SUMMARY:Selección de horarios Facultades de: Ciencias de la Comunicación\, Derecho y Ciencias Políticas - S1Pr
DESCRIPTION:Inscribe tus espacios académicos aquí. \nConoce como hacerlo en el tutorial de inscripción de espacios.
URL:https://calendarioacademico.libertadores.edu.co/event/seleccion-de-horarios-facultades-de-ciencias-de-la-comunicacion-derecho-y-ciencias-politicas-s1pr/
LOCATION:Fundación Universitaria Los Libertadores\, Carrera 16 # 63 A - 68\, Bogotá D.C.\, 110011\, Colombia
CATEGORIES:Matricula estudiantes antiguos I
ORGANIZER;CN="Fundaci%C3%B3n Universitaria Los Libertadores Bogot%C3%A1-Cartagena":MAILTO:fullatencion@libertadores.edu.co
END:VEVENT
BEGIN:VEVENT
DTSTART;VALUE=DATE:20221205
DTEND;VALUE=DATE:20221206
DTSTAMP:20260424T024559
CREATED:20211215T134833Z
LAST-MODIFIED:20220301T214327Z
UID:5503-1670198400-1670284799@calendarioacademico.libertadores.edu.co
SUMMARY:Entrega de resultados a facultades II
DESCRIPTION:
URL:https://calendarioacademico.libertadores.edu.co/event/entrega-de-resultados-a-facultades/
LOCATION:Fundación Universitaria Los Libertadores\, Carrera 16 # 63 A - 68\, Bogotá D.C.\, 110011\, Colombia
ORGANIZER;CN="Fundaci%C3%B3n Universitaria Los Libertadores":MAILTO:infopresencial@libertadores.edu.co
END:VEVENT
BEGIN:VEVENT
DTSTART;VALUE=DATE:20221122
DTEND;VALUE=DATE:20221127
DTSTAMP:20260424T024559
CREATED:20211214T204941Z
LAST-MODIFIED:20220301T173316Z
UID:5274-1669075200-1669507199@calendarioacademico.libertadores.edu.co
SUMMARY:Día del Egresado Libertador
DESCRIPTION:
URL:https://calendarioacademico.libertadores.edu.co/event/dia-del-egresado-libertador/
LOCATION:Fundación Universitaria Los Libertadores\, Carrera 16 # 63 A - 68\, Bogotá D.C.\, 110011\, Colombia
ORGANIZER;CN="Fundaci%C3%B3n Universitaria Los Libertadores":MAILTO:infopresencial@libertadores.edu.co
END:VEVENT
BEGIN:VEVENT
DTSTART;VALUE=DATE:20221122
DTEND;VALUE=DATE:20221129
DTSTAMP:20260424T024559
CREATED:20220302T175630Z
LAST-MODIFIED:20220302T175630Z
UID:7146-1669075200-1669679999@calendarioacademico.libertadores.edu.co
SUMMARY:Digitación final de calificaciones-S2Pr
DESCRIPTION:
URL:https://calendarioacademico.libertadores.edu.co/event/digitacion-final-de-calificaciones-s2pr/
LOCATION:Fundación Universitaria Los Libertadores\, Carrera 16 # 63 A - 68\, Bogotá D.C.\, 110011\, Colombia
CATEGORIES:Periodo Académico II
ORGANIZER;CN="Fundaci%C3%B3n Universitaria Los Libertadores":MAILTO:infopresencial@libertadores.edu.co
END:VEVENT
BEGIN:VEVENT
DTSTART;VALUE=DATE:20221104
DTEND;VALUE=DATE:20221105
DTSTAMP:20260424T024559
CREATED:20220228T175129Z
LAST-MODIFIED:20220228T175129Z
UID:6600-1667520000-1667606399@calendarioacademico.libertadores.edu.co
SUMMARY:Inicio y terminación seminario de grado internacional-S2Pr
DESCRIPTION:El inicio y terminación estará sujeto a la programación de cada seminario
URL:https://calendarioacademico.libertadores.edu.co/event/inicio-y-terminacion-seminario-de-grado-internacional-s2pr/
LOCATION:Fundación Universitaria Los Libertadores\, Carrera 16 # 63 A - 68\, Bogotá D.C.\, 110011\, Colombia
CATEGORIES:Seminarios de grado internacionales II
ORGANIZER;CN="Fundaci%C3%B3n Universitaria Los Libertadores Bogot%C3%A1-Cartagena":MAILTO:fullatencion@libertadores.edu.co
END:VEVENT
BEGIN:VEVENT
DTSTART;VALUE=DATE:20221101
DTEND;VALUE=DATE:20230212
DTSTAMP:20260424T024559
CREATED:20211214T205634Z
LAST-MODIFIED:20221223T143420Z
UID:5278-1667260800-1676159999@calendarioacademico.libertadores.edu.co
SUMMARY:Espacios de pre-práctica S1Pr
DESCRIPTION:
URL:https://calendarioacademico.libertadores.edu.co/event/espacios-de-pre-practica-1/
LOCATION:Fundación Universitaria Los Libertadores\, Carrera 16 # 63 A - 68\, Bogotá D.C.\, 110011\, Colombia
CATEGORIES:Prácticas I
ORGANIZER;CN="Fundaci%C3%B3n Universitaria Los Libertadores Bogot%C3%A1-Cartagena":MAILTO:fullatencion@libertadores.edu.co
END:VEVENT
BEGIN:VEVENT
DTSTART;VALUE=DATE:20221101
DTEND;VALUE=DATE:20221201
DTSTAMP:20260424T024559
CREATED:20220301T213026Z
LAST-MODIFIED:20220301T213026Z
UID:6932-1667260800-1669852799@calendarioacademico.libertadores.edu.co
SUMMARY:Evaluación de desempeño profesores y empleados administrativos
DESCRIPTION:
URL:https://calendarioacademico.libertadores.edu.co/event/evaluacion-de-desempeno-profesores-y-empleados-administrativos/
LOCATION:Fundación Universitaria Los Libertadores\, Carrera 16 # 63 A - 68\, Bogotá D.C.\, 110011\, Colombia
ORGANIZER;CN="Fundaci%C3%B3n Universitaria Los Libertadores":MAILTO:infopresencial@libertadores.edu.co
END:VEVENT
BEGIN:VEVENT
DTSTART;VALUE=DATE:20221020
DTEND;VALUE=DATE:20221022
DTSTAMP:20260424T024559
CREATED:20220302T154543Z
LAST-MODIFIED:20220302T180106Z
UID:7039-1666224000-1666396799@calendarioacademico.libertadores.edu.co
SUMMARY:Inscripción preparatorios II-5
DESCRIPTION:
URL:https://calendarioacademico.libertadores.edu.co/event/inscripcion-preparatorios-s2-5/
LOCATION:Fundación Universitaria Los Libertadores\, Carrera 16 # 63 A - 68\, Bogotá D.C.\, 110011\, Colombia
CATEGORIES:Preparatorios II
ORGANIZER;CN="Fundaci%C3%B3n Universitaria Los Libertadores Bogot%C3%A1-Cartagena":MAILTO:fullatencion@libertadores.edu.co
END:VEVENT
BEGIN:VEVENT
DTSTART;VALUE=DATE:20221019
DTEND;VALUE=DATE:20221020
DTSTAMP:20260424T024559
CREATED:20220302T172540Z
LAST-MODIFIED:20220302T180309Z
UID:7112-1666137600-1666223999@calendarioacademico.libertadores.edu.co
SUMMARY:Digitación de calificaciones preparatorios II-4
DESCRIPTION:
URL:https://calendarioacademico.libertadores.edu.co/event/digitacion-de-calificaciones-preparatorios-ii-s2-1-4/
LOCATION:Fundación Universitaria Los Libertadores\, Carrera 16 # 63 A - 68\, Bogotá D.C.\, 110011\, Colombia
CATEGORIES:Preparatorios II
ORGANIZER;CN="Fundaci%C3%B3n Universitaria Los Libertadores Bogot%C3%A1-Cartagena":MAILTO:fullatencion@libertadores.edu.co
END:VEVENT
BEGIN:VEVENT
DTSTART;VALUE=DATE:20221018
DTEND;VALUE=DATE:20221020
DTSTAMP:20260424T024559
CREATED:20220302T153158Z
LAST-MODIFIED:20220302T175802Z
UID:7026-1666051200-1666223999@calendarioacademico.libertadores.edu.co
SUMMARY:Apertura y cierre de SAI para designación de grupos II-5
DESCRIPTION:
URL:https://calendarioacademico.libertadores.edu.co/event/apertura-y-cierre-de-sai-para-designacion-de-grupos-ii-s2-5/
LOCATION:Fundación Universitaria Los Libertadores\, Carrera 16 # 63 A - 68\, Bogotá D.C.\, 110011\, Colombia
CATEGORIES:Preparatorios II
ORGANIZER;CN="Fundaci%C3%B3n Universitaria Los Libertadores Bogot%C3%A1-Cartagena":MAILTO:fullatencion@libertadores.edu.co
END:VEVENT
BEGIN:VEVENT
DTSTART;VALUE=DATE:20221018
DTEND;VALUE=DATE:20221201
DTSTAMP:20260424T024559
CREATED:20220228T192315Z
LAST-MODIFIED:20220228T192315Z
UID:6618-1666051200-1669852799@calendarioacademico.libertadores.edu.co
SUMMARY:Espacios Pre-Práctica para prácticas en periodo intersemestral-S2Pr
DESCRIPTION:
URL:https://calendarioacademico.libertadores.edu.co/event/espacios-pre-practica-para-practicas-en-periodo-intersemestral-s2pr/
LOCATION:Fundación Universitaria Los Libertadores\, Carrera 16 # 63 A - 68\, Bogotá D.C.\, 110011\, Colombia
CATEGORIES:Prácticas II
ORGANIZER;CN="Fundaci%C3%B3n Universitaria Los Libertadores Bogot%C3%A1-Cartagena":MAILTO:fullatencion@libertadores.edu.co
END:VEVENT
BEGIN:VEVENT
DTSTART;VALUE=DATE:20221013
DTEND;VALUE=DATE:20221116
DTSTAMP:20260424T024559
CREATED:20220301T154404Z
LAST-MODIFIED:20221125T201756Z
UID:6801-1665619200-1668556799@calendarioacademico.libertadores.edu.co
SUMMARY:Renovación de descuentos - S1Pr
DESCRIPTION:
URL:https://calendarioacademico.libertadores.edu.co/event/renovacion-de-descuentos-s1pr/
LOCATION:Fundación Universitaria Los Libertadores\, Carrera 16 # 63 A - 68\, Bogotá D.C.\, 110011\, Colombia
CATEGORIES:Matricula estudiantes antiguos I
ORGANIZER;CN="Fundaci%C3%B3n Universitaria Los Libertadores Bogot%C3%A1-Cartagena":MAILTO:fullatencion@libertadores.edu.co
END:VEVENT
BEGIN:VEVENT
DTSTART;VALUE=DATE:20221010
DTEND;VALUE=DATE:20221119
DTSTAMP:20260424T024559
CREATED:20220302T132931Z
LAST-MODIFIED:20221125T200652Z
UID:7019-1665360000-1668815999@calendarioacademico.libertadores.edu.co
SUMMARY:Apertura y cierre de SAI pra programas para designación de grupos - S1Pr
DESCRIPTION:
URL:https://calendarioacademico.libertadores.edu.co/event/apertura-y-cierre-de-sai-para-designacion-de-grupos-s1pr/
LOCATION:Fundación Universitaria Los Libertadores\, Carrera 16 # 63 A - 68\, Bogotá D.C.\, 110011\, Colombia
CATEGORIES:Periodo Académico I
ORGANIZER;CN="Fundaci%C3%B3n Universitaria Los Libertadores Bogot%C3%A1-Cartagena":MAILTO:fullatencion@libertadores.edu.co
END:VEVENT
BEGIN:VEVENT
DTSTART;VALUE=DATE:20221010
DTEND;VALUE=DATE:20221129
DTSTAMP:20260424T024559
CREATED:20220301T170943Z
LAST-MODIFIED:20220301T214258Z
UID:6849-1665360000-1669679999@calendarioacademico.libertadores.edu.co
SUMMARY:Evaluación integral de profesores II
DESCRIPTION:
URL:https://calendarioacademico.libertadores.edu.co/event/evaluacion-integral-de-profesores-ii-s2pr/
LOCATION:Fundación Universitaria Los Libertadores\, Carrera 16 # 63 A - 68\, Bogotá D.C.\, 110011\, Colombia
ORGANIZER;CN="Fundaci%C3%B3n Universitaria Los Libertadores":MAILTO:infopresencial@libertadores.edu.co
END:VEVENT
BEGIN:VEVENT
DTSTART;VALUE=DATE:20221007
DTEND;VALUE=DATE:20221008
DTSTAMP:20260424T024559
CREATED:20211220T180858Z
LAST-MODIFIED:20220107T173158Z
UID:6029-1665100800-1665187199@calendarioacademico.libertadores.edu.co
SUMMARY:Segunda fecha de grados por ventanilla BOGOTÁ
DESCRIPTION:Grados colectivos CARTAGENA – Posgrados Virtuales y a Distancia semestrales 2022-1
URL:https://calendarioacademico.libertadores.edu.co/event/segunda-fecha-de-grados-por-ventanilla-bogota-posgrado-semestral-virtual-distancia-2022-1/
LOCATION:Fundación Universitaria Los Libertadores – Cartagena\, Calle 31 No. 19 - 51\, Cartagena\, Cartagena de Indias\, 130001\, Colombia
ORGANIZER;CN="Fundaci%C3%B3n Universitaria Los Libertadores":MAILTO:infopresencial@libertadores.edu.co
END:VEVENT
BEGIN:VEVENT
DTSTART;VALUE=DATE:20221003
DTEND;VALUE=DATE:20221210
DTSTAMP:20260424T024559
CREATED:20211215T133647Z
LAST-MODIFIED:20220301T201128Z
UID:5494-1664755200-1670630399@calendarioacademico.libertadores.edu.co
SUMMARY:Convocatoria y selección interna de proyectos de I+D+I
DESCRIPTION:
URL:https://calendarioacademico.libertadores.edu.co/event/convocatoria-y-seleccion-interna-de-proyectos-de-idi/
LOCATION:Fundación Universitaria Los Libertadores\, Carrera 16 # 63 A - 68\, Bogotá D.C.\, 110011\, Colombia
ORGANIZER;CN="Fundaci%C3%B3n Universitaria Los Libertadores":MAILTO:infopresencial@libertadores.edu.co
END:VEVENT
BEGIN:VEVENT
DTSTART;VALUE=DATE:20220930
DTEND;VALUE=DATE:20221001
DTSTAMP:20260424T024559
CREATED:20211220T180655Z
LAST-MODIFIED:20220107T173132Z
UID:6027-1664496000-1664582399@calendarioacademico.libertadores.edu.co
SUMMARY:Primera fecha de grados por ventanilla BOGOTÁ
DESCRIPTION:Grados colectivos BOGOTÁ – Posgrados Virtuales y a Distancia semestrales 2022-1
URL:https://calendarioacademico.libertadores.edu.co/event/primera-fecha-de-grados-por-ventanilla-bogota-posgrado-semestral-virtual-distancia-2022-1/
LOCATION:Fundación Universitaria Los Libertadores\, Carrera 16 # 63 A - 68\, Bogotá D.C.\, 110011\, Colombia
ORGANIZER;CN="Fundaci%C3%B3n Universitaria Los Libertadores":MAILTO:infopresencial@libertadores.edu.co
END:VEVENT
END:VCALENDAR