BEGIN:VCALENDAR
VERSION:2.0
PRODID:-//Calendario Académico - ECPv6.15.20//NONSGML v1.0//EN
CALSCALE:GREGORIAN
METHOD:PUBLISH
X-WR-CALNAME:Calendario Académico
X-ORIGINAL-URL:https://calendarioacademico.libertadores.edu.co
X-WR-CALDESC:Eventos para Calendario Académico
REFRESH-INTERVAL;VALUE=DURATION:PT1H
X-Robots-Tag:noindex
X-PUBLISHED-TTL:PT1H
BEGIN:VTIMEZONE
TZID:America/New_York
BEGIN:DAYLIGHT
TZOFFSETFROM:-0500
TZOFFSETTO:-0400
TZNAME:EDT
DTSTART:20210314T070000
END:DAYLIGHT
BEGIN:STANDARD
TZOFFSETFROM:-0400
TZOFFSETTO:-0500
TZNAME:EST
DTSTART:20211107T060000
END:STANDARD
BEGIN:DAYLIGHT
TZOFFSETFROM:-0500
TZOFFSETTO:-0400
TZNAME:EDT
DTSTART:20220313T070000
END:DAYLIGHT
BEGIN:STANDARD
TZOFFSETFROM:-0400
TZOFFSETTO:-0500
TZNAME:EST
DTSTART:20221106T060000
END:STANDARD
BEGIN:DAYLIGHT
TZOFFSETFROM:-0500
TZOFFSETTO:-0400
TZNAME:EDT
DTSTART:20230312T070000
END:DAYLIGHT
BEGIN:STANDARD
TZOFFSETFROM:-0400
TZOFFSETTO:-0500
TZNAME:EST
DTSTART:20231105T060000
END:STANDARD
BEGIN:DAYLIGHT
TZOFFSETFROM:-0500
TZOFFSETTO:-0400
TZNAME:EDT
DTSTART:20240310T070000
END:DAYLIGHT
BEGIN:STANDARD
TZOFFSETFROM:-0400
TZOFFSETTO:-0500
TZNAME:EST
DTSTART:20241103T060000
END:STANDARD
END:VTIMEZONE
BEGIN:VTIMEZONE
TZID:UTC
BEGIN:STANDARD
TZOFFSETFROM:+0000
TZOFFSETTO:+0000
TZNAME:UTC
DTSTART:20210101T000000
END:STANDARD
END:VTIMEZONE
BEGIN:VEVENT
DTSTART;VALUE=DATE:20220926
DTEND;VALUE=DATE:20220927
DTSTAMP:20260424T072141
CREATED:20220301T195436Z
LAST-MODIFIED:20220301T214227Z
UID:6865-1664150400-1664236799@calendarioacademico.libertadores.edu.co
SUMMARY:Curso de formación en investigación | Modalidad Virtual
DESCRIPTION:
URL:https://calendarioacademico.libertadores.edu.co/event/curso-de-formacion-en-investigacion-modalidad-virtual-s2v/
LOCATION:Fundación Universitaria Los Libertadores\, Carrera 16 # 63 A - 68\, Bogotá D.C.\, 110011\, Colombia
ORGANIZER;CN="Fundaci%C3%B3n Universitaria Los Libertadores":MAILTO:infopresencial@libertadores.edu.co
END:VEVENT
BEGIN:VEVENT
DTSTART;TZID=America/New_York:20220922T080000
DTEND;TZID=America/New_York:20220923T170000
DTSTAMP:20260424T072141
CREATED:20220302T154426Z
LAST-MODIFIED:20220302T180115Z
UID:7037-1663833600-1663952400@calendarioacademico.libertadores.edu.co
SUMMARY:Inscripción preparatorios II-4
DESCRIPTION:
URL:https://calendarioacademico.libertadores.edu.co/event/inscripcion-preparatorios-s2-4/
LOCATION:Fundación Universitaria Los Libertadores\, Carrera 16 # 63 A - 68\, Bogotá D.C.\, 110011\, Colombia
CATEGORIES:Preparatorios II
ORGANIZER;CN="Fundaci%C3%B3n Universitaria Los Libertadores Bogot%C3%A1-Cartagena":MAILTO:fullatencion@libertadores.edu.co
END:VEVENT
BEGIN:VEVENT
DTSTART;VALUE=DATE:20220922
DTEND;VALUE=DATE:20220923
DTSTAMP:20260424T072141
CREATED:20220228T193848Z
LAST-MODIFIED:20220228T194132Z
UID:6626-1663804800-1663891199@calendarioacademico.libertadores.edu.co
SUMMARY:Segundo encuentro institucional de Centros de Práctica-S2Pr
DESCRIPTION:
URL:https://calendarioacademico.libertadores.edu.co/event/segundo-encuentro-institucional-de-centros-de-practica-s2pr/
LOCATION:Fundación Universitaria Los Libertadores\, Carrera 16 # 63 A - 68\, Bogotá D.C.\, 110011\, Colombia
CATEGORIES:Prácticas II
ORGANIZER;CN="Fundaci%C3%B3n Universitaria Los Libertadores Bogot%C3%A1-Cartagena":MAILTO:fullatencion@libertadores.edu.co
END:VEVENT
BEGIN:VEVENT
DTSTART;VALUE=DATE:20220922
DTEND;VALUE=DATE:20220923
DTSTAMP:20260424T072141
CREATED:20211214T214117Z
LAST-MODIFIED:20211214T214117Z
UID:5350-1663804800-1663891199@calendarioacademico.libertadores.edu.co
SUMMARY:Segundo encuentro institucional de Centros de Práctica
DESCRIPTION:Segundo encuentro institucional de Centros de Práctica
URL:https://calendarioacademico.libertadores.edu.co/event/segundo-encuentro-institucional-de-centros-de-practica/
LOCATION:Fundación Universitaria Los Libertadores\, Carrera 16 # 63 A - 68\, Bogotá D.C.\, 110011\, Colombia
ORGANIZER;CN="Fundaci%C3%B3n Universitaria Los Libertadores":MAILTO:infopresencial@libertadores.edu.co
END:VEVENT
BEGIN:VEVENT
DTSTART;VALUE=DATE:20220920
DTEND;VALUE=DATE:20230207
DTSTAMP:20260424T072141
CREATED:20221227T171316Z
LAST-MODIFIED:20221227T171316Z
UID:7668-1663632000-1675727999@calendarioacademico.libertadores.edu.co
SUMMARY:Fecha de radicación de documentos - S1Pr
DESCRIPTION:
URL:https://calendarioacademico.libertadores.edu.co/event/fecha-de-radicacion-de-documentos-s1pr/
LOCATION:Fundación Universitaria Los Libertadores\, Carrera 16 # 63 A - 68\, Bogotá D.C.\, 110011\, Colombia
CATEGORIES:Matriculas estudiantes nuevos I
ORGANIZER;CN="Fundaci%C3%B3n Universitaria Los Libertadores":MAILTO:infopresencial@libertadores.edu.co
END:VEVENT
BEGIN:VEVENT
DTSTART;VALUE=DATE:20220920
DTEND;VALUE=DATE:20220922
DTSTAMP:20260424T072141
CREATED:20220302T152955Z
LAST-MODIFIED:20220302T175815Z
UID:7024-1663632000-1663804799@calendarioacademico.libertadores.edu.co
SUMMARY:Apertura y cierre de SAI para designación de grupos II-4
DESCRIPTION:
URL:https://calendarioacademico.libertadores.edu.co/event/apertura-y-cierre-de-sai-para-designacion-de-grupos-ii-s2-4/
LOCATION:Fundación Universitaria Los Libertadores\, Carrera 16 # 63 A - 68\, Bogotá D.C.\, 110011\, Colombia
CATEGORIES:Preparatorios II
ORGANIZER;CN="Fundaci%C3%B3n Universitaria Los Libertadores Bogot%C3%A1-Cartagena":MAILTO:fullatencion@libertadores.edu.co
END:VEVENT
BEGIN:VEVENT
DTSTART;VALUE=DATE:20220920
DTEND;VALUE=DATE:20230101
DTSTAMP:20260424T072141
CREATED:20220225T151455Z
LAST-MODIFIED:20221227T171657Z
UID:6561-1663632000-1672531199@calendarioacademico.libertadores.edu.co
SUMMARY:Pago pronto pago admitidos -S1Pr
DESCRIPTION:Descarga tu recibo aquí \nConoce como hacerlo en el tutorial de pagos 
URL:https://calendarioacademico.libertadores.edu.co/event/pago-pronto-pago-admitidos-s1pr/
LOCATION:Fundación Universitaria Los Libertadores\, Carrera 16 # 63 A - 68\, Bogotá D.C.\, 110011\, Colombia
CATEGORIES:Matriculas estudiantes nuevos I
ORGANIZER;CN="Fundaci%C3%B3n Universitaria Los Libertadores":MAILTO:infopresencial@libertadores.edu.co
END:VEVENT
BEGIN:VEVENT
DTSTART;VALUE=DATE:20220920
DTEND;VALUE=DATE:20230207
DTSTAMP:20260424T072141
CREATED:20220225T145916Z
LAST-MODIFIED:20231116T141556Z
UID:6555-1663632000-1675727999@calendarioacademico.libertadores.edu.co
SUMMARY:Inscripciones estudiantes nuevos\, transferentes externos y transferentes internos -S1Pr
DESCRIPTION:Más información en  https://www.ulibertadores.edu.co/admisiones/ \nDescarga tu recibo Aquí https://registrodematricula.libertadores.edu.co/ \nConoce más en Tutorial de Pagos https://www.youtube.com/watch?v=nib9jmpiEuY \n  \n 
URL:https://calendarioacademico.libertadores.edu.co/event/inscripciones-estudiantes-nuevos-transferentes-externos-transferentes-internos-y-reintegros-s1pr/
LOCATION:Fundación Universitaria Los Libertadores\, Carrera 16 # 63 A - 68\, Bogotá D.C.\, 110011\, Colombia
CATEGORIES:Matriculas estudiantes nuevos I
ORGANIZER;CN="Fundaci%C3%B3n Universitaria Los Libertadores - Inscripciones":MAILTO:inscripciones@libertadores.edu.co
END:VEVENT
BEGIN:VEVENT
DTSTART;VALUE=DATE:20220909
DTEND;VALUE=DATE:20220910
DTSTAMP:20260424T072141
CREATED:20211220T193729Z
LAST-MODIFIED:20220107T192926Z
UID:6041-1662681600-1662767999@calendarioacademico.libertadores.edu.co
SUMMARY:Segunda fecha de grados por ventanilla CARTAGENA
DESCRIPTION:Grados por ventanilla CARTAGENA – Posgrados presenciales semestrales 2022-1
URL:https://calendarioacademico.libertadores.edu.co/event/segunda-fecha-de-grados-cartagena-posgrado-semestral-virtual-distancia-2022-1/
LOCATION:Fundación Universitaria Los Libertadores\, Carrera 16 # 63 A - 68\, Bogotá D.C.\, 110011\, Colombia
ORGANIZER;CN="Fundaci%C3%B3n Universitaria Los Libertadores":MAILTO:infopresencial@libertadores.edu.co
END:VEVENT
BEGIN:VEVENT
DTSTART;VALUE=DATE:20220902
DTEND;VALUE=DATE:20220903
DTSTAMP:20260424T072141
CREATED:20211220T193454Z
LAST-MODIFIED:20220107T192808Z
UID:6037-1662076800-1662163199@calendarioacademico.libertadores.edu.co
SUMMARY:Segunda fecha de grados por ventanilla BOGOTÁ
DESCRIPTION:Grados por ventanilla BOGOTÁ – Posgrados presenciales semestrales 2022-1
URL:https://calendarioacademico.libertadores.edu.co/event/segunda-fecha-de-grados-por-ventanilla-bogota-posgrado-semestral-virtual-distancia-2022-1-2/
LOCATION:Fundación Universitaria Los Libertadores\, Carrera 16 # 63 A - 68\, Bogotá D.C.\, 110011\, Colombia
ORGANIZER;CN="Fundaci%C3%B3n Universitaria Los Libertadores":MAILTO:infopresencial@libertadores.edu.co
END:VEVENT
BEGIN:VEVENT
DTSTART;VALUE=DATE:20220816
DTEND;VALUE=DATE:20221022
DTSTAMP:20260424T072141
CREATED:20220228T194632Z
LAST-MODIFIED:20220228T194632Z
UID:6631-1660608000-1666396799@calendarioacademico.libertadores.edu.co
SUMMARY:Convocatoria Semestre de Intercambio-S2Pr
DESCRIPTION:
URL:https://calendarioacademico.libertadores.edu.co/event/convocatoria-semestre-de-intercambio-s2pr/
LOCATION:Fundación Universitaria Los Libertadores\, Carrera 16 # 63 A - 68\, Bogotá D.C.\, 110011\, Colombia
CATEGORIES:Internacionalización II
ORGANIZER;CN="Fundaci%C3%B3n Universitaria Los Libertadores Bogot%C3%A1-Cartagena":MAILTO:fullatencion@libertadores.edu.co
END:VEVENT
BEGIN:VEVENT
DTSTART;VALUE=DATE:20220812
DTEND;VALUE=DATE:20220813
DTSTAMP:20260424T072141
CREATED:20211220T193615Z
LAST-MODIFIED:20220107T192858Z
UID:6039-1660262400-1660348799@calendarioacademico.libertadores.edu.co
SUMMARY:Primera fecha de grados por ventanilla CARTAGENA
DESCRIPTION:Grados por ventanilla CARTAGENA – Posgrados presenciales semestrales 2022-1
URL:https://calendarioacademico.libertadores.edu.co/event/primera-fecha-de-grados-cartagena-posgrado-semestral-virtual-distancia-2022-1/
LOCATION:Fundación Universitaria Los Libertadores – Cartagena\, Calle 31 No. 19 - 51\, Cartagena\, Cartagena de Indias\, 130001\, Colombia
ORGANIZER;CN="Fundaci%C3%B3n Universitaria Los Libertadores":MAILTO:infopresencial@libertadores.edu.co
END:VEVENT
BEGIN:VEVENT
DTSTART;VALUE=DATE:20220811
DTEND;VALUE=DATE:20220813
DTSTAMP:20260424T072141
CREATED:20220228T200404Z
LAST-MODIFIED:20220228T201329Z
UID:6646-1660176000-1660348799@calendarioacademico.libertadores.edu.co
SUMMARY:Renovación de beneficios por descuentos-S2PoP
DESCRIPTION:Solicite su renovación  en el Centro de Atención Web en el tema de ayuda Renovación de descuentos
URL:https://calendarioacademico.libertadores.edu.co/event/renovacion-de-beneficios-por-descuentos-s2pop/
LOCATION:Fundación Universitaria Los Libertadores\, Carrera 16 # 63 A - 68\, Bogotá D.C.\, 110011\, Colombia
ORGANIZER;CN="Fundaci%C3%B3n Universitaria Los Libertadores Bogot%C3%A1-Cartagena":MAILTO:fullatencion@libertadores.edu.co
END:VEVENT
BEGIN:VEVENT
DTSTART;VALUE=DATE:20220809
DTEND;VALUE=DATE:20220810
DTSTAMP:20260424T072141
CREATED:20220301T160518Z
LAST-MODIFIED:20220301T160518Z
UID:6825-1660003200-1660089599@calendarioacademico.libertadores.edu.co
SUMMARY:Cierre del sistema institucional para el cargue de notas -S1Pr
DESCRIPTION:
URL:https://calendarioacademico.libertadores.edu.co/event/cierre-del-sistema-institucional-para-el-cargue-de-notas-s1pr/
LOCATION:Fundación Universitaria Los Libertadores\, Carrera 16 # 63 A - 68\, Bogotá D.C.\, 110011\, Colombia
CATEGORIES:Escuela de Verano / Invierno I
ORGANIZER;CN="Fundaci%C3%B3n Universitaria Los Libertadores Bogot%C3%A1-Cartagena":MAILTO:fullatencion@libertadores.edu.co
END:VEVENT
BEGIN:VEVENT
DTSTART;TZID=America/New_York:20220808T073000
DTEND;TZID=America/New_York:20220816T170000
DTSTAMP:20260424T072141
CREATED:20211215T082907Z
LAST-MODIFIED:20211215T082907Z
UID:5423-1659943800-1660669200@calendarioacademico.libertadores.edu.co
SUMMARY:Segunda fecha de pago de matrícula  - cursos intersemestrales
DESCRIPTION:
URL:https://calendarioacademico.libertadores.edu.co/event/creacion-y-confirmacion-de-grupos-en-sai-y-entrega-de-relacion-a-la-direccion-de-admisiones-y-registro-2-2-2-2-2-2-2-2-2-2-2/
LOCATION:Fundación Universitaria Los Libertadores\, Carrera 16 # 63 A - 68\, Bogotá D.C.\, 110011\, Colombia
ORGANIZER;CN="Fundaci%C3%B3n Universitaria Los Libertadores":MAILTO:infopresencial@libertadores.edu.co
END:VEVENT
BEGIN:VEVENT
DTSTART;VALUE=DATE:20220805
DTEND;VALUE=DATE:20220806
DTSTAMP:20260424T072141
CREATED:20211220T192847Z
LAST-MODIFIED:20220107T192749Z
UID:6035-1659657600-1659743999@calendarioacademico.libertadores.edu.co
SUMMARY:Primera fecha de grados por ventanilla BOGOTÁ
DESCRIPTION:Grados por ventanilla BOGOTÁ – Posgrados presenciales semestrales 2022-1
URL:https://calendarioacademico.libertadores.edu.co/event/primera-fecha-de-grados-por-ventanilla-bogota-posgrado-semestral-virtual-distancia-2022-1-2/
LOCATION:Fundación Universitaria Los Libertadores\, Carrera 16 # 63 A - 68\, Bogotá D.C.\, 110011\, Colombia
ORGANIZER;CN="Fundaci%C3%B3n Universitaria Los Libertadores":MAILTO:infopresencial@libertadores.edu.co
END:VEVENT
BEGIN:VEVENT
DTSTART;VALUE=DATE:20220802
DTEND;VALUE=DATE:20220806
DTSTAMP:20260424T072141
CREATED:20220301T160011Z
LAST-MODIFIED:20220301T160011Z
UID:6822-1659398400-1659743999@calendarioacademico.libertadores.edu.co
SUMMARY:Registro y entrega de calificaciones -S1Pr
DESCRIPTION:
URL:https://calendarioacademico.libertadores.edu.co/event/registro-y-entrega-de-calificaciones-s1pr/
LOCATION:Fundación Universitaria Los Libertadores\, Carrera 16 # 63 A - 68\, Bogotá D.C.\, 110011\, Colombia
CATEGORIES:Escuela de Verano / Invierno I
ORGANIZER;CN="Fundaci%C3%B3n Universitaria Los Libertadores Bogot%C3%A1-Cartagena":MAILTO:fullatencion@libertadores.edu.co
END:VEVENT
BEGIN:VEVENT
DTSTART;TZID=America/New_York:20220730T073000
DTEND;TZID=America/New_York:20220808T170000
DTSTAMP:20260424T072141
CREATED:20211215T082812Z
LAST-MODIFIED:20211215T082812Z
UID:5421-1659166200-1659978000@calendarioacademico.libertadores.edu.co
SUMMARY:Primera fecha de pago de matrícula  - cursos intersemestrales
DESCRIPTION:
URL:https://calendarioacademico.libertadores.edu.co/event/creacion-y-confirmacion-de-grupos-en-sai-y-entrega-de-relacion-a-la-direccion-de-admisiones-y-registro-2-2-2-2-2-2-2-2-2-2/
LOCATION:Fundación Universitaria Los Libertadores\, Carrera 16 # 63 A - 68\, Bogotá D.C.\, 110011\, Colombia
ORGANIZER;CN="Fundaci%C3%B3n Universitaria Los Libertadores":MAILTO:infopresencial@libertadores.edu.co
END:VEVENT
BEGIN:VEVENT
DTSTART;TZID=America/New_York:20220730T073000
DTEND;TZID=America/New_York:20220730T170000
DTSTAMP:20260424T072141
CREATED:20211215T082653Z
LAST-MODIFIED:20211215T082653Z
UID:5419-1659166200-1659200400@calendarioacademico.libertadores.edu.co
SUMMARY:Publicación de recibo de pago de matrícula en el portal WEB institucional - cursos intersemestrales
DESCRIPTION:
URL:https://calendarioacademico.libertadores.edu.co/event/creacion-y-confirmacion-de-grupos-en-sai-y-entrega-de-relacion-a-la-direccion-de-admisiones-y-registro-2-2-2-2-2-2-2-2-2/
LOCATION:Fundación Universitaria Los Libertadores\, Carrera 16 # 63 A - 68\, Bogotá D.C.\, 110011\, Colombia
ORGANIZER;CN="Fundaci%C3%B3n Universitaria Los Libertadores":MAILTO:infopresencial@libertadores.edu.co
END:VEVENT
BEGIN:VEVENT
DTSTART;TZID=America/New_York:20220728T073000
DTEND;TZID=America/New_York:20220729T170000
DTSTAMP:20260424T072141
CREATED:20211215T082546Z
LAST-MODIFIED:20211215T082546Z
UID:5417-1658993400-1659114000@calendarioacademico.libertadores.edu.co
SUMMARY:Fecha de selección de horarios  para matrículas - cursos intersemestrales
DESCRIPTION:
URL:https://calendarioacademico.libertadores.edu.co/event/creacion-y-confirmacion-de-grupos-en-sai-y-entrega-de-relacion-a-la-direccion-de-admisiones-y-registro-2-2-2-2-2-2-2-2/
LOCATION:Fundación Universitaria Los Libertadores\, Carrera 16 # 63 A - 68\, Bogotá D.C.\, 110011\, Colombia
ORGANIZER;CN="Fundaci%C3%B3n Universitaria Los Libertadores":MAILTO:infopresencial@libertadores.edu.co
END:VEVENT
BEGIN:VEVENT
DTSTART;TZID=America/New_York:20220728T073000
DTEND;TZID=America/New_York:20220729T170000
DTSTAMP:20260424T072141
CREATED:20211215T082414Z
LAST-MODIFIED:20211215T082414Z
UID:5415-1658993400-1659114000@calendarioacademico.libertadores.edu.co
SUMMARY:Novedades de notas definitivas cursos intersemestrales
DESCRIPTION:
URL:https://calendarioacademico.libertadores.edu.co/event/creacion-y-confirmacion-de-grupos-en-sai-y-entrega-de-relacion-a-la-direccion-de-admisiones-y-registro-2-2-2-2-2-2-2/
LOCATION:Fundación Universitaria Los Libertadores\, Carrera 16 # 63 A - 68\, Bogotá D.C.\, 110011\, Colombia
ORGANIZER;CN="Fundaci%C3%B3n Universitaria Los Libertadores":MAILTO:infopresencial@libertadores.edu.co
END:VEVENT
BEGIN:VEVENT
DTSTART;TZID=America/New_York:20220721T073000
DTEND;TZID=America/New_York:20220726T170000
DTSTAMP:20260424T072141
CREATED:20211215T082048Z
LAST-MODIFIED:20211215T082048Z
UID:5411-1658388600-1658854800@calendarioacademico.libertadores.edu.co
SUMMARY:Registro y entrega de calificaciones
DESCRIPTION:
URL:https://calendarioacademico.libertadores.edu.co/event/creacion-y-confirmacion-de-grupos-en-sai-y-entrega-de-relacion-a-la-direccion-de-admisiones-y-registro-2-2-2-2-2/
LOCATION:Fundación Universitaria Los Libertadores\, Carrera 16 # 63 A - 68\, Bogotá D.C.\, 110011\, Colombia
ORGANIZER;CN="Fundaci%C3%B3n Universitaria Los Libertadores":MAILTO:infopresencial@libertadores.edu.co
END:VEVENT
BEGIN:VEVENT
DTSTART;VALUE=DATE:20220719
DTEND;VALUE=DATE:20220720
DTSTAMP:20260424T072141
CREATED:20211215T091023Z
LAST-MODIFIED:20211215T091023Z
UID:5439-1658188800-1658275199@calendarioacademico.libertadores.edu.co
SUMMARY:Entrega de certificados II - Seminarios de Grado
DESCRIPTION:
URL:https://calendarioacademico.libertadores.edu.co/event/entrega-de-certificados-seminarios-de-grado-2/
LOCATION:Fundación Universitaria Los Libertadores\, Carrera 16 # 63 A - 68\, Bogotá D.C.\, 110011\, Colombia
ORGANIZER;CN="Fundaci%C3%B3n Universitaria Los Libertadores":MAILTO:infopresencial@libertadores.edu.co
END:VEVENT
BEGIN:VEVENT
DTSTART;TZID=America/New_York:20220718T080000
DTEND;TZID=America/New_York:20220723T170000
DTSTAMP:20260424T072141
CREATED:20211214T194939Z
LAST-MODIFIED:20220106T171207Z
UID:5203-1658131200-1658595600@calendarioacademico.libertadores.edu.co
SUMMARY:Registro y selección de horarios
DESCRIPTION:Registro y selección de horarios Posgrado Semestral
URL:https://calendarioacademico.libertadores.edu.co/event/registro-y-seleccion-de-horarios-semestral-presencial-2022-1/
LOCATION:Fundación Universitaria Los Libertadores\, Carrera 16 # 63 A - 68\, Bogotá D.C.\, 110011\, Colombia
ORGANIZER;CN="Fundaci%C3%B3n Universitaria Los Libertadores":MAILTO:infopresencial@libertadores.edu.co
END:VEVENT
BEGIN:VEVENT
DTSTART;TZID=America/New_York:20220718T080000
DTEND;TZID=America/New_York:20220719T170000
DTSTAMP:20260424T072141
CREATED:20211214T194836Z
LAST-MODIFIED:20220106T171743Z
UID:5201-1658131200-1658250000@calendarioacademico.libertadores.edu.co
SUMMARY:Cierre de novedades
DESCRIPTION:Novedades cierre Posgrado Semestral
URL:https://calendarioacademico.libertadores.edu.co/event/cierre-de-novedades-semestral-presencial-2022-1/
LOCATION:Fundación Universitaria Los Libertadores\, Carrera 16 # 63 A - 68\, Bogotá D.C.\, 110011\, Colombia
ORGANIZER;CN="Fundaci%C3%B3n Universitaria Los Libertadores":MAILTO:infopresencial@libertadores.edu.co
END:VEVENT
BEGIN:VEVENT
DTSTART;VALUE=DATE:20220716
DTEND;VALUE=DATE:20220717
DTSTAMP:20260424T072141
CREATED:20211214T194450Z
LAST-MODIFIED:20220106T171819Z
UID:5198-1657929600-1658015999@calendarioacademico.libertadores.edu.co
SUMMARY:Publicación de calificaciones
DESCRIPTION:Publicación de calificaciones Posgrado Semestral
URL:https://calendarioacademico.libertadores.edu.co/event/publicacion-de-calificaciones-semestral-presencial-2022-1/
LOCATION:Fundación Universitaria Los Libertadores\, Carrera 16 # 63 A - 68\, Bogotá D.C.\, 110011\, Colombia
ORGANIZER;CN="Fundaci%C3%B3n Universitaria Los Libertadores":MAILTO:infopresencial@libertadores.edu.co
END:VEVENT
BEGIN:VEVENT
DTSTART;VALUE=DATE:20220715
DTEND;VALUE=DATE:20220716
DTSTAMP:20260424T072141
CREATED:20211214T194336Z
LAST-MODIFIED:20220106T171855Z
UID:5196-1657843200-1657929599@calendarioacademico.libertadores.edu.co
SUMMARY:Cierre
DESCRIPTION:Cierre Posgrado Semestral
URL:https://calendarioacademico.libertadores.edu.co/event/cierre-posgrado-semestral-presencial-2022-1/
LOCATION:Fundación Universitaria Los Libertadores\, Carrera 16 # 63 A - 68\, Bogotá D.C.\, 110011\, Colombia
ORGANIZER;CN="Fundaci%C3%B3n Universitaria Los Libertadores":MAILTO:infopresencial@libertadores.edu.co
END:VEVENT
BEGIN:VEVENT
DTSTART;TZID=America/New_York:20220713T080000
DTEND;TZID=America/New_York:20220714T170000
DTSTAMP:20260424T072141
CREATED:20211214T194212Z
LAST-MODIFIED:20220106T172149Z
UID:5194-1657699200-1657818000@calendarioacademico.libertadores.edu.co
SUMMARY:Entrega de novedades
DESCRIPTION:Entrega de novedades Posgrado Semestral
URL:https://calendarioacademico.libertadores.edu.co/event/entrega-de-novedades-posgrado-semestral-presencial-2022-1/
LOCATION:Fundación Universitaria Los Libertadores\, Carrera 16 # 63 A - 68\, Bogotá D.C.\, 110011\, Colombia
ORGANIZER;CN="Fundaci%C3%B3n Universitaria Los Libertadores":MAILTO:infopresencial@libertadores.edu.co
END:VEVENT
BEGIN:VEVENT
DTSTART;VALUE=DATE:20220712
DTEND;VALUE=DATE:20220713
DTSTAMP:20260424T072141
CREATED:20211214T194053Z
LAST-MODIFIED:20220106T172218Z
UID:5192-1657584000-1657670399@calendarioacademico.libertadores.edu.co
SUMMARY:Digitación de notas
DESCRIPTION:Digitación de notas Posgrado Semestral
URL:https://calendarioacademico.libertadores.edu.co/event/digitacion-de-notas-posgrado-semestral-presencial-2022-1/
LOCATION:Fundación Universitaria Los Libertadores\, Carrera 16 # 63 A - 68\, Bogotá D.C.\, 110011\, Colombia
ORGANIZER;CN="Fundaci%C3%B3n Universitaria Los Libertadores":MAILTO:infopresencial@libertadores.edu.co
END:VEVENT
BEGIN:VEVENT
DTSTART;TZID=America/New_York:20220708T080000
DTEND;TZID=America/New_York:20220711T170000
DTSTAMP:20260424T072141
CREATED:20220106T193325Z
LAST-MODIFIED:20220106T212200Z
UID:6385-1657267200-1657558800@calendarioacademico.libertadores.edu.co
SUMMARY:Inicio de clases
DESCRIPTION:Registro y selección de horarios Posgrados Virtuales y a Distancia Semestrales
URL:https://calendarioacademico.libertadores.edu.co/event/inicio-de-clases-posgrado-semestral-virtual-distancia-2022-1/
LOCATION:Fundación Universitaria Los Libertadores\, Carrera 16 # 63 A - 68\, Bogotá D.C.\, 110011\, Colombia
ORGANIZER;CN="Fundaci%C3%B3n Universitaria Los Libertadores":MAILTO:infopresencial@libertadores.edu.co
END:VEVENT
END:VCALENDAR