BEGIN:VCALENDAR
VERSION:2.0
PRODID:-//Calendario Académico - ECPv6.15.20//NONSGML v1.0//EN
CALSCALE:GREGORIAN
METHOD:PUBLISH
X-ORIGINAL-URL:https://calendarioacademico.libertadores.edu.co
X-WR-CALDESC:Eventos para Calendario Académico
REFRESH-INTERVAL;VALUE=DURATION:PT1H
X-Robots-Tag:noindex
X-PUBLISHED-TTL:PT1H
BEGIN:VTIMEZONE
TZID:America/New_York
BEGIN:DAYLIGHT
TZOFFSETFROM:-0500
TZOFFSETTO:-0400
TZNAME:EDT
DTSTART:20210314T070000
END:DAYLIGHT
BEGIN:STANDARD
TZOFFSETFROM:-0400
TZOFFSETTO:-0500
TZNAME:EST
DTSTART:20211107T060000
END:STANDARD
BEGIN:DAYLIGHT
TZOFFSETFROM:-0500
TZOFFSETTO:-0400
TZNAME:EDT
DTSTART:20220313T070000
END:DAYLIGHT
BEGIN:STANDARD
TZOFFSETFROM:-0400
TZOFFSETTO:-0500
TZNAME:EST
DTSTART:20221106T060000
END:STANDARD
BEGIN:DAYLIGHT
TZOFFSETFROM:-0500
TZOFFSETTO:-0400
TZNAME:EDT
DTSTART:20230312T070000
END:DAYLIGHT
BEGIN:STANDARD
TZOFFSETFROM:-0400
TZOFFSETTO:-0500
TZNAME:EST
DTSTART:20231105T060000
END:STANDARD
END:VTIMEZONE
BEGIN:VEVENT
DTSTART;TZID=America/New_York:20220708T080000
DTEND;TZID=America/New_York:20220711T170000
DTSTAMP:20260424T115218
CREATED:20211220T223705Z
LAST-MODIFIED:20211220T223705Z
UID:6149-1657267200-1657558800@calendarioacademico.libertadores.edu.co
SUMMARY:Registro y selección de horarios Posgrado Trimestral 2022-2
DESCRIPTION:Registro y selección de horarios Posgrado Trimestral 2022-2
URL:https://calendarioacademico.libertadores.edu.co/event/registro-y-seleccion-de-horarios-posgrado-trimestral-2022-2/
LOCATION:Fundación Universitaria Los Libertadores\, Carrera 16 # 63 A - 68\, Bogotá D.C.\, 110011\, Colombia
ORGANIZER;CN="Fundaci%C3%B3n Universitaria Los Libertadores":MAILTO:infopresencial@libertadores.edu.co
END:VEVENT
BEGIN:VEVENT
DTSTART;TZID=America/New_York:20220708T080000
DTEND;TZID=America/New_York:20220711T170000
DTSTAMP:20260424T115218
CREATED:20211220T223058Z
LAST-MODIFIED:20211220T223058Z
UID:6145-1657267200-1657558800@calendarioacademico.libertadores.edu.co
SUMMARY:Novedades cierre Posgrado Trimestral 2022-2
DESCRIPTION:Novedades cierre Posgrado Trimestral 2022-2
URL:https://calendarioacademico.libertadores.edu.co/event/novedades-cierre-posgrado-trimestral-2022-2/
LOCATION:Fundación Universitaria Los Libertadores\, Carrera 16 # 63 A - 68\, Bogotá D.C.\, 110011\, Colombia
ORGANIZER;CN="Fundaci%C3%B3n Universitaria Los Libertadores":MAILTO:infopresencial@libertadores.edu.co
END:VEVENT
BEGIN:VEVENT
DTSTART;TZID=America/New_York:20220708T080000
DTEND;TZID=America/New_York:20220711T170000
DTSTAMP:20260424T115218
CREATED:20211220T162233Z
LAST-MODIFIED:20220106T191058Z
UID:6001-1657267200-1657558800@calendarioacademico.libertadores.edu.co
SUMMARY:Registro y selección de horarios
DESCRIPTION:Registro y selección de horarios Posgrados Virtuales y a Distancia Semestrales
URL:https://calendarioacademico.libertadores.edu.co/event/registro-y-seleccion-de-horarios-semestral-virtual-distancia-2022-1/
LOCATION:Fundación Universitaria Los Libertadores\, Carrera 16 # 63 A - 68\, Bogotá D.C.\, 110011\, Colombia
ORGANIZER;CN="Fundaci%C3%B3n Universitaria Los Libertadores":MAILTO:infopresencial@libertadores.edu.co
END:VEVENT
BEGIN:VEVENT
DTSTART;TZID=America/New_York:20220708T080000
DTEND;TZID=America/New_York:20220708T170000
DTSTAMP:20260424T115218
CREATED:20211220T222741Z
LAST-MODIFIED:20211220T222812Z
UID:6140-1657267200-1657299600@calendarioacademico.libertadores.edu.co
SUMMARY:Publicación de calificaciones Posgrado Trimestral 2022-2
DESCRIPTION:Publicación de calificaciones Posgrado Trimestral 2022-2
URL:https://calendarioacademico.libertadores.edu.co/event/publicacion-de-calificaciones-posgrado-trimestral-2022-2/
LOCATION:Fundación Universitaria Los Libertadores\, Carrera 16 # 63 A - 68\, Bogotá D.C.\, 110011\, Colombia
ORGANIZER;CN="Fundaci%C3%B3n Universitaria Los Libertadores":MAILTO:infopresencial@libertadores.edu.co
END:VEVENT
BEGIN:VEVENT
DTSTART;TZID=America/New_York:20220708T080000
DTEND;TZID=America/New_York:20220708T170000
DTSTAMP:20260424T115218
CREATED:20211220T162106Z
LAST-MODIFIED:20220106T191901Z
UID:5999-1657267200-1657299600@calendarioacademico.libertadores.edu.co
SUMMARY:Cierre de novedadess
DESCRIPTION:Las Novedades de cierre Posgrados Virtuales y a Distancia Semestrales se harán el 8 y 11 de julio de 2022.
URL:https://calendarioacademico.libertadores.edu.co/event/cierre-de-novedades-semestral-virtual-distancia-2022-1/
LOCATION:Fundación Universitaria Los Libertadores\, Carrera 16 # 63 A - 68\, Bogotá D.C.\, 110011\, Colombia
ORGANIZER;CN="Fundaci%C3%B3n Universitaria Los Libertadores":MAILTO:infopresencial@libertadores.edu.co
END:VEVENT
BEGIN:VEVENT
DTSTART;VALUE=DATE:20220708
DTEND;VALUE=DATE:20220709
DTSTAMP:20260424T115218
CREATED:20220228T175653Z
LAST-MODIFIED:20221223T144023Z
UID:6604-1657238400-1657324799@calendarioacademico.libertadores.edu.co
SUMMARY:Inscripción práctica - Fac. Ciencias Económicas\, Administrativas y Contables-S2Pr
DESCRIPTION:
URL:https://calendarioacademico.libertadores.edu.co/event/inscripcion-practica-fac-ciencias-economicas-administrativas-y-contables-s2pr/
LOCATION:Fundación Universitaria Los Libertadores\, Carrera 16 # 63 A - 68\, Bogotá D.C.\, 110011\, Colombia
CATEGORIES:Prácticas II
ORGANIZER;CN="Fundaci%C3%B3n Universitaria Los Libertadores Bogot%C3%A1-Cartagena":MAILTO:fullatencion@libertadores.edu.co
END:VEVENT
BEGIN:VEVENT
DTSTART;VALUE=DATE:20220708
DTEND;VALUE=DATE:20220709
DTSTAMP:20260424T115218
CREATED:20211220T161006Z
LAST-MODIFIED:20220106T191929Z
UID:5994-1657238400-1657324799@calendarioacademico.libertadores.edu.co
SUMMARY:Publicación de calificaciones
DESCRIPTION:Publicación de calificaciones Posgrados Virtuales y a Distancia Semestrales
URL:https://calendarioacademico.libertadores.edu.co/event/publicacion-de-calificaciones-semestral-virtual-distancia-2022-1/
LOCATION:Fundación Universitaria Los Libertadores\, Carrera 16 # 63 A - 68\, Bogotá D.C.\, 110011\, Colombia
ORGANIZER;CN="Fundaci%C3%B3n Universitaria Los Libertadores":MAILTO:infopresencial@libertadores.edu.co
END:VEVENT
BEGIN:VEVENT
DTSTART;VALUE=DATE:20220707
DTEND;VALUE=DATE:20220806
DTSTAMP:20260424T115218
CREATED:20220228T221043Z
LAST-MODIFIED:20221223T142945Z
UID:6661-1657152000-1659743999@calendarioacademico.libertadores.edu.co
SUMMARY:Inicio y terminación de Seminarios de Grado intersemestral -S1Pr
DESCRIPTION:
URL:https://calendarioacademico.libertadores.edu.co/event/inicio-y-terminacion-de-seminarios-de-grado-intersemestral-s1pr/
LOCATION:Fundación Universitaria Los Libertadores\, Carrera 16 # 63 A - 68\, Bogotá D.C.\, 110011\, Colombia
CATEGORIES:Seminarios de Grado Periodo Intersemestral I
ORGANIZER;CN="Fundaci%C3%B3n Universitaria Los Libertadores Bogot%C3%A1-Cartagena":MAILTO:fullatencion@libertadores.edu.co
END:VEVENT
BEGIN:VEVENT
DTSTART;VALUE=DATE:20220707
DTEND;VALUE=DATE:20220708
DTSTAMP:20260424T115218
CREATED:20211220T222057Z
LAST-MODIFIED:20211220T222057Z
UID:6136-1657152000-1657238399@calendarioacademico.libertadores.edu.co
SUMMARY:Cierre Posgrado Trimestral 2022-2
DESCRIPTION:Cierre Posgrado Trimestral 2022-2
URL:https://calendarioacademico.libertadores.edu.co/event/cierre-posgrado-trimestral-2022-2/
LOCATION:Fundación Universitaria Los Libertadores\, Carrera 16 # 63 A - 68\, Bogotá D.C.\, 110011\, Colombia
ORGANIZER;CN="Fundaci%C3%B3n Universitaria Los Libertadores":MAILTO:infopresencial@libertadores.edu.co
END:VEVENT
BEGIN:VEVENT
DTSTART;VALUE=DATE:20220707
DTEND;VALUE=DATE:20220708
DTSTAMP:20260424T115218
CREATED:20211220T160909Z
LAST-MODIFIED:20220106T191950Z
UID:5992-1657152000-1657238399@calendarioacademico.libertadores.edu.co
SUMMARY:Cierre
DESCRIPTION:Cierre de novedades Posgrados Virtuales y a Distancia Semestrales
URL:https://calendarioacademico.libertadores.edu.co/event/cierre-posgrado-semestral-virtual-distancia-2022-1/
LOCATION:Fundación Universitaria Los Libertadores\, Carrera 16 # 63 A - 68\, Bogotá D.C.\, 110011\, Colombia
ORGANIZER;CN="Fundaci%C3%B3n Universitaria Los Libertadores":MAILTO:infopresencial@libertadores.edu.co
END:VEVENT
BEGIN:VEVENT
DTSTART;VALUE=DATE:20220706
DTEND;VALUE=DATE:20220709
DTSTAMP:20260424T115218
CREATED:20220228T175910Z
LAST-MODIFIED:20220228T175910Z
UID:6606-1657065600-1657324799@calendarioacademico.libertadores.edu.co
SUMMARY:Inscripción práctica - Fac. Ciencias de la Comunicación y Fac. Derecho y Ciencias Políticas-S2Pr
DESCRIPTION:
URL:https://calendarioacademico.libertadores.edu.co/event/inscripcion-practica-fac-ciencias-de-la-comunicacion-y-fac-derecho-y-ciencias-politicas-s2pr/
LOCATION:Fundación Universitaria Los Libertadores\, Carrera 16 # 63 A - 68\, Bogotá D.C.\, 110011\, Colombia
CATEGORIES:Prácticas II
ORGANIZER;CN="Fundaci%C3%B3n Universitaria Los Libertadores Bogot%C3%A1-Cartagena":MAILTO:fullatencion@libertadores.edu.co
END:VEVENT
BEGIN:VEVENT
DTSTART;TZID=America/New_York:20220705T080000
DTEND;TZID=America/New_York:20220706T170000
DTSTAMP:20260424T115218
CREATED:20211220T221823Z
LAST-MODIFIED:20211220T221823Z
UID:6132-1657008000-1657126800@calendarioacademico.libertadores.edu.co
SUMMARY:Entrega de novedades Posgrado Trimestral 2022-2
DESCRIPTION:Entrega de novedades Posgrado Trimestral 2022-2
URL:https://calendarioacademico.libertadores.edu.co/event/entrega-de-novedades-posgrado-trimestral-2022-2/
LOCATION:Fundación Universitaria Los Libertadores\, Carrera 16 # 63 A - 68\, Bogotá D.C.\, 110011\, Colombia
ORGANIZER;CN="Fundaci%C3%B3n Universitaria Los Libertadores":MAILTO:infopresencial@libertadores.edu.co
END:VEVENT
BEGIN:VEVENT
DTSTART;TZID=America/New_York:20220705T080000
DTEND;TZID=America/New_York:20220706T170000
DTSTAMP:20260424T115218
CREATED:20211220T160731Z
LAST-MODIFIED:20220106T192017Z
UID:5990-1657008000-1657126800@calendarioacademico.libertadores.edu.co
SUMMARY:Entrega de novedades
DESCRIPTION:Entrega de novedades Posgrados Virtuales y a Distancia Semestrales
URL:https://calendarioacademico.libertadores.edu.co/event/entrega-de-novedades-posgrado-semestral-virtual-distancia-2022-1/
LOCATION:Fundación Universitaria Los Libertadores\, Carrera 16 # 63 A - 68\, Bogotá D.C.\, 110011\, Colombia
ORGANIZER;CN="Fundaci%C3%B3n Universitaria Los Libertadores":MAILTO:infopresencial@libertadores.edu.co
END:VEVENT
BEGIN:VEVENT
DTSTART;TZID=America/New_York:20220705T073000
DTEND;TZID=America/New_York:20220727T170000
DTSTAMP:20260424T115218
CREATED:20211215T082302Z
LAST-MODIFIED:20211215T082302Z
UID:5413-1657006200-1658941200@calendarioacademico.libertadores.edu.co
SUMMARY:Cierre Académico cursos intersemestrales
DESCRIPTION:
URL:https://calendarioacademico.libertadores.edu.co/event/creacion-y-confirmacion-de-grupos-en-sai-y-entrega-de-relacion-a-la-direccion-de-admisiones-y-registro-2-2-2-2-2-2/
LOCATION:Fundación Universitaria Los Libertadores\, Carrera 16 # 63 A - 68\, Bogotá D.C.\, 110011\, Colombia
ORGANIZER;CN="Fundaci%C3%B3n Universitaria Los Libertadores":MAILTO:infopresencial@libertadores.edu.co
END:VEVENT
BEGIN:VEVENT
DTSTART;TZID=America/New_York:20220705T073000
DTEND;TZID=America/New_York:20220723T170000
DTSTAMP:20260424T115218
CREATED:20211215T081940Z
LAST-MODIFIED:20211215T081940Z
UID:5409-1657006200-1658595600@calendarioacademico.libertadores.edu.co
SUMMARY:Inicio y terminación de cursos intersemestrales
DESCRIPTION:
URL:https://calendarioacademico.libertadores.edu.co/event/creacion-y-confirmacion-de-grupos-en-sai-y-entrega-de-relacion-a-la-direccion-de-admisiones-y-registro-2-2-2-2/
LOCATION:Fundación Universitaria Los Libertadores\, Carrera 16 # 63 A - 68\, Bogotá D.C.\, 110011\, Colombia
ORGANIZER;CN="Fundaci%C3%B3n Universitaria Los Libertadores":MAILTO:infopresencial@libertadores.edu.co
END:VEVENT
BEGIN:VEVENT
DTSTART;VALUE=DATE:20220705
DTEND;VALUE=DATE:20221119
DTSTAMP:20260424T115218
CREATED:20220301T203449Z
LAST-MODIFIED:20220301T203449Z
UID:6885-1656979200-1668815999@calendarioacademico.libertadores.edu.co
SUMMARY:Reintegro para suficiencia-S2Pr
DESCRIPTION:
URL:https://calendarioacademico.libertadores.edu.co/event/reintegro-para-suficiencia-s2pr/
LOCATION:Fundación Universitaria Los Libertadores\, Carrera 16 # 63 A - 68\, Bogotá D.C.\, 110011\, Colombia
CATEGORIES:Reintegros II
ORGANIZER;CN="Fundaci%C3%B3n Universitaria Los Libertadores":MAILTO:infopresencial@libertadores.edu.co
END:VEVENT
BEGIN:VEVENT
DTSTART;VALUE=DATE:20220705
DTEND;VALUE=DATE:20221015
DTSTAMP:20260424T115218
CREATED:20220301T202826Z
LAST-MODIFIED:20220301T203614Z
UID:6882-1656979200-1665791999@calendarioacademico.libertadores.edu.co
SUMMARY:Reintegro para opción de grado-S2Pr
DESCRIPTION:Solicita el reintegro aquí
URL:https://calendarioacademico.libertadores.edu.co/event/reintegro-para-opcion-de-grado-s2pr/
LOCATION:Fundación Universitaria Los Libertadores\, Carrera 16 # 63 A - 68\, Bogotá D.C.\, 110011\, Colombia
CATEGORIES:Reintegros II
ORGANIZER;CN="Fundaci%C3%B3n Universitaria Los Libertadores":MAILTO:infopresencial@libertadores.edu.co
END:VEVENT
BEGIN:VEVENT
DTSTART;VALUE=DATE:20220703
DTEND;VALUE=DATE:20220704
DTSTAMP:20260424T115218
CREATED:20211220T221012Z
LAST-MODIFIED:20211220T221635Z
UID:6127-1656806400-1656892799@calendarioacademico.libertadores.edu.co
SUMMARY:Digitación de notas Posgrado Trimestral 2022-2
DESCRIPTION:La digitación de notas de los Posgrados Trimestral 2022-1 será hasta el Hasta el 3 de julio.
URL:https://calendarioacademico.libertadores.edu.co/event/digitacion-de-notas-posgrado-trimestral-2022-2/
LOCATION:Fundación Universitaria Los Libertadores\, Carrera 16 # 63 A - 68\, Bogotá D.C.\, 110011\, Colombia
ORGANIZER;CN="Fundaci%C3%B3n Universitaria Los Libertadores":MAILTO:infopresencial@libertadores.edu.co
END:VEVENT
BEGIN:VEVENT
DTSTART;VALUE=DATE:20220703
DTEND;VALUE=DATE:20220704
DTSTAMP:20260424T115218
CREATED:20211220T160623Z
LAST-MODIFIED:20220106T192108Z
UID:5986-1656806400-1656892799@calendarioacademico.libertadores.edu.co
SUMMARY:Digitación de notas
DESCRIPTION:Fecha límite de digitación de notas Posgrados Virtuales y a Distancia Semestrales
URL:https://calendarioacademico.libertadores.edu.co/event/digitacion-de-notas-posgrado-semestral-virtual-distancia-2022-1/
LOCATION:Fundación Universitaria Los Libertadores\, Carrera 16 # 63 A - 68\, Bogotá D.C.\, 110011\, Colombia
ORGANIZER;CN="Fundaci%C3%B3n Universitaria Los Libertadores":MAILTO:infopresencial@libertadores.edu.co
END:VEVENT
BEGIN:VEVENT
DTSTART;VALUE=DATE:20220701
DTEND;VALUE=DATE:20220702
DTSTAMP:20260424T115218
CREATED:20211215T211203Z
LAST-MODIFIED:20211215T211203Z
UID:5855-1656633600-1656719999@calendarioacademico.libertadores.edu.co
SUMMARY:Ceremonias de grado Cartagena Grados Colectivos - Pregrado 2022-1
DESCRIPTION:Ceremonias de grado Cartagena Grados Colectivos – Pregrado 2022-1
URL:https://calendarioacademico.libertadores.edu.co/event/ceremonias-de-grado-cartagena-grados-colectivos-pregrado-2022-1-2/
LOCATION:Fundación Universitaria Los Libertadores\, Carrera 16 # 63 A - 68\, Bogotá D.C.\, 110011\, Colombia
ORGANIZER;CN="Fundaci%C3%B3n Universitaria Los Libertadores":MAILTO:infopresencial@libertadores.edu.co
END:VEVENT
BEGIN:VEVENT
DTSTART;TZID=America/New_York:20220630T073000
DTEND;TZID=America/New_York:20220705T170000
DTSTAMP:20260424T115218
CREATED:20211215T081830Z
LAST-MODIFIED:20211215T081830Z
UID:5407-1656574200-1657040400@calendarioacademico.libertadores.edu.co
SUMMARY:Pago cursos intersemestrales
DESCRIPTION:
URL:https://calendarioacademico.libertadores.edu.co/event/creacion-y-confirmacion-de-grupos-en-sai-y-entrega-de-relacion-a-la-direccion-de-admisiones-y-registro-2-2-2/
LOCATION:Fundación Universitaria Los Libertadores\, Carrera 16 # 63 A - 68\, Bogotá D.C.\, 110011\, Colombia
ORGANIZER;CN="Fundaci%C3%B3n Universitaria Los Libertadores":MAILTO:infopresencial@libertadores.edu.co
END:VEVENT
BEGIN:VEVENT
DTSTART;VALUE=DATE:20220630
DTEND;VALUE=DATE:20220701
DTSTAMP:20260424T115218
CREATED:20211215T081654Z
LAST-MODIFIED:20211215T083101Z
UID:5405-1656547200-1656633599@calendarioacademico.libertadores.edu.co
SUMMARY:Publicación de recibos de cursos intersemestrales en el portal WEB institucional
DESCRIPTION:
URL:https://calendarioacademico.libertadores.edu.co/event/creacion-y-confirmacion-de-grupos-en-sai-y-entrega-de-relacion-a-la-direccion-de-admisiones-y-registro-2-2/
LOCATION:Fundación Universitaria Los Libertadores\, Carrera 16 # 63 A - 68\, Bogotá D.C.\, 110011\, Colombia
ORGANIZER;CN="Fundaci%C3%B3n Universitaria Los Libertadores":MAILTO:infopresencial@libertadores.edu.co
END:VEVENT
BEGIN:VEVENT
DTSTART;VALUE=DATE:20220630
DTEND;VALUE=DATE:20220701
DTSTAMP:20260424T115218
CREATED:20220302T221745Z
LAST-MODIFIED:20220302T221745Z
UID:7284-1656547200-1656633599@calendarioacademico.libertadores.edu.co
SUMMARY:Publicación de recibos de cursos intersemestrales - S1Pr
DESCRIPTION:Descarga tu recibo aquí . \nConoce como hacerlo en el tutorial de pagos.
URL:https://calendarioacademico.libertadores.edu.co/event/publicacion-de-recibos-de-cursos-intersemestrales-s1pr/
LOCATION:Fundación Universitaria Los Libertadores\, Carrera 16 # 63 A - 68\, Bogotá D.C.\, 110011\, Colombia
CATEGORIES:Cursos Intersemestrales I
ORGANIZER;CN="Fundaci%C3%B3n Universitaria Los Libertadores Bogot%C3%A1-Cartagena":MAILTO:fullatencion@libertadores.edu.co
END:VEVENT
BEGIN:VEVENT
DTSTART;TZID=America/New_York:20220629T073000
DTEND;TZID=America/New_York:20220730T170000
DTSTAMP:20260424T115218
CREATED:20211215T084550Z
LAST-MODIFIED:20211215T084550Z
UID:5430-1656487800-1659200400@calendarioacademico.libertadores.edu.co
SUMMARY:Inicio y terminación de Seminarios de Grado
DESCRIPTION:
URL:https://calendarioacademico.libertadores.edu.co/event/creacion-y-confirmacion-de-grupos-en-sai-y-entrega-de-relacion-a-la-direccion-de-admisiones-y-registro-2-2-2-2-2-2-2-2-2-2-2-2-3/
LOCATION:Fundación Universitaria Los Libertadores\, Carrera 16 # 63 A - 68\, Bogotá D.C.\, 110011\, Colombia
ORGANIZER;CN="Fundaci%C3%B3n Universitaria Los Libertadores":MAILTO:infopresencial@libertadores.edu.co
END:VEVENT
BEGIN:VEVENT
DTSTART;TZID=America/New_York:20220628T080000
DTEND;TZID=America/New_York:20220702T170000
DTSTAMP:20260424T115218
CREATED:20220106T214156Z
LAST-MODIFIED:20220106T214354Z
UID:6393-1656403200-1656781200@calendarioacademico.libertadores.edu.co
SUMMARY:Comité de evaluación profesoral
DESCRIPTION:Comité de evaluación profesoral de Posgrado Semestral Posgrados Virtuales y a Distancia Semestrales \n 
URL:https://calendarioacademico.libertadores.edu.co/event/comite-de-evaluacion-profesoral-posgrado-semestral-virtual-distancia-2022-1/
LOCATION:Fundación Universitaria Los Libertadores\, Carrera 16 # 63 A - 68\, Bogotá D.C.\, 110011\, Colombia
ORGANIZER;CN="Fundaci%C3%B3n Universitaria Los Libertadores":MAILTO:infopresencial@libertadores.edu.co
END:VEVENT
BEGIN:VEVENT
DTSTART;TZID=America/New_York:20220628T080000
DTEND;TZID=America/New_York:20220702T170000
DTSTAMP:20260424T115218
CREATED:20211220T163453Z
LAST-MODIFIED:20220106T214110Z
UID:6009-1656403200-1656781200@calendarioacademico.libertadores.edu.co
SUMMARY:Comité de evaluación profesoral
DESCRIPTION:Comité de evaluación profesoral de Posgrado Semestral Posgrados Virtuales y a Distancia Semestrales \n 
URL:https://calendarioacademico.libertadores.edu.co/event/comite-de-evaluacion-profesoral-posgrado-semestral-presencial-2022-1/
LOCATION:Fundación Universitaria Los Libertadores\, Carrera 16 # 63 A - 68\, Bogotá D.C.\, 110011\, Colombia
ORGANIZER;CN="Fundaci%C3%B3n Universitaria Los Libertadores":MAILTO:infopresencial@libertadores.edu.co
END:VEVENT
BEGIN:VEVENT
DTSTART;TZID=America/New_York:20220628T080000
DTEND;TZID=America/New_York:20220701T170000
DTSTAMP:20260424T115218
CREATED:20211221T134736Z
LAST-MODIFIED:20211221T135257Z
UID:6172-1656403200-1656694800@calendarioacademico.libertadores.edu.co
SUMMARY:Grados privados BOGOTÁ - Posgrados Trimestrales 2022-2
DESCRIPTION:Grados privados BOGOTÁ – Posgrados Trimestrales 2022-2
URL:https://calendarioacademico.libertadores.edu.co/event/grados-privados-bogota-posgrados-trimestrales-2022-2/
LOCATION:Fundación Universitaria Los Libertadores\, Carrera 16 # 63 A - 68\, Bogotá D.C.\, 110011\, Colombia
ORGANIZER;CN="Fundaci%C3%B3n Universitaria Los Libertadores":MAILTO:infopresencial@libertadores.edu.co
END:VEVENT
BEGIN:VEVENT
DTSTART;TZID=America/New_York:20220628T080000
DTEND;TZID=America/New_York:20220701T170000
DTSTAMP:20260424T115218
CREATED:20211220T192557Z
LAST-MODIFIED:20220107T192003Z
UID:6033-1656403200-1656694800@calendarioacademico.libertadores.edu.co
SUMMARY:Segunda fecha de grados privados BOGOTÁ
DESCRIPTION:Grados privados BOGOTÁ – Posgrados Virtuales y a Distancia semestrales 2022-1
URL:https://calendarioacademico.libertadores.edu.co/event/segunda-fecha-de-grados-privados-bogota-posgrado-semestral-virtual-distancia-2022-1/
LOCATION:Fundación Universitaria Los Libertadores\, Carrera 16 # 63 A - 68\, Bogotá D.C.\, 110011\, Colombia
ORGANIZER;CN="Fundaci%C3%B3n Universitaria Los Libertadores":MAILTO:infopresencial@libertadores.edu.co
END:VEVENT
BEGIN:VEVENT
DTSTART;TZID=America/New_York:20220628T080000
DTEND;TZID=America/New_York:20220701T170000
DTSTAMP:20260424T115218
CREATED:20211219T223614Z
LAST-MODIFIED:20220107T170639Z
UID:5947-1656403200-1656694800@calendarioacademico.libertadores.edu.co
SUMMARY:Segunda fecha de grados privados BOGOTÁ
DESCRIPTION:Grados privados BOGOTÁ – Posgrados presenciales semestrales 2022-1
URL:https://calendarioacademico.libertadores.edu.co/event/segunda-fecha-de-grados-privados-bogota-posgrado-semestral-presencial-2022-1/
LOCATION:Fundación Universitaria Los Libertadores\, Carrera 16 # 63 A - 68\, Bogotá D.C.\, 110011\, Colombia
ORGANIZER;CN="Fundaci%C3%B3n Universitaria Los Libertadores":MAILTO:infopresencial@libertadores.edu.co
END:VEVENT
BEGIN:VEVENT
DTSTART;TZID=America/New_York:20220628T080000
DTEND;TZID=America/New_York:20220701T170000
DTSTAMP:20260424T115218
CREATED:20211216T183314Z
LAST-MODIFIED:20211216T183314Z
UID:5931-1656403200-1656694800@calendarioacademico.libertadores.edu.co
SUMMARY:Ceremonias de grado Privadas en Bogotá Grados Privados Pregrado 2022-1
DESCRIPTION:Ceremonias de grado Privadas en Bogotá
URL:https://calendarioacademico.libertadores.edu.co/event/ceremonias-de-grado-privadas-en-bogota-grados-privados-pregrado-2022-1-2/
LOCATION:Fundación Universitaria Los Libertadores\, Carrera 16 # 63 A - 68\, Bogotá D.C.\, 110011\, Colombia
ORGANIZER;CN="Fundaci%C3%B3n Universitaria Los Libertadores":MAILTO:infopresencial@libertadores.edu.co
END:VEVENT
END:VCALENDAR