BEGIN:VCALENDAR
VERSION:2.0
PRODID:-//Calendario Académico - ECPv6.15.20//NONSGML v1.0//EN
CALSCALE:GREGORIAN
METHOD:PUBLISH
X-ORIGINAL-URL:https://calendarioacademico.libertadores.edu.co
X-WR-CALDESC:Eventos para Calendario Académico
REFRESH-INTERVAL;VALUE=DURATION:PT1H
X-Robots-Tag:noindex
X-PUBLISHED-TTL:PT1H
BEGIN:VTIMEZONE
TZID:America/New_York
BEGIN:DAYLIGHT
TZOFFSETFROM:-0500
TZOFFSETTO:-0400
TZNAME:EDT
DTSTART:20210314T070000
END:DAYLIGHT
BEGIN:STANDARD
TZOFFSETFROM:-0400
TZOFFSETTO:-0500
TZNAME:EST
DTSTART:20211107T060000
END:STANDARD
BEGIN:DAYLIGHT
TZOFFSETFROM:-0500
TZOFFSETTO:-0400
TZNAME:EDT
DTSTART:20220313T070000
END:DAYLIGHT
BEGIN:STANDARD
TZOFFSETFROM:-0400
TZOFFSETTO:-0500
TZNAME:EST
DTSTART:20221106T060000
END:STANDARD
BEGIN:DAYLIGHT
TZOFFSETFROM:-0500
TZOFFSETTO:-0400
TZNAME:EDT
DTSTART:20230312T070000
END:DAYLIGHT
BEGIN:STANDARD
TZOFFSETFROM:-0400
TZOFFSETTO:-0500
TZNAME:EST
DTSTART:20231105T060000
END:STANDARD
END:VTIMEZONE
BEGIN:VEVENT
DTSTART;TZID=America/New_York:20220630T073000
DTEND;TZID=America/New_York:20220705T170000
DTSTAMP:20260424T153114
CREATED:20211215T081830Z
LAST-MODIFIED:20211215T081830Z
UID:5407-1656574200-1657040400@calendarioacademico.libertadores.edu.co
SUMMARY:Pago cursos intersemestrales
DESCRIPTION:
URL:https://calendarioacademico.libertadores.edu.co/event/creacion-y-confirmacion-de-grupos-en-sai-y-entrega-de-relacion-a-la-direccion-de-admisiones-y-registro-2-2-2/
LOCATION:Fundación Universitaria Los Libertadores\, Carrera 16 # 63 A - 68\, Bogotá D.C.\, 110011\, Colombia
ORGANIZER;CN="Fundaci%C3%B3n Universitaria Los Libertadores":MAILTO:infopresencial@libertadores.edu.co
END:VEVENT
BEGIN:VEVENT
DTSTART;VALUE=DATE:20220630
DTEND;VALUE=DATE:20220701
DTSTAMP:20260424T153114
CREATED:20211215T081654Z
LAST-MODIFIED:20211215T083101Z
UID:5405-1656547200-1656633599@calendarioacademico.libertadores.edu.co
SUMMARY:Publicación de recibos de cursos intersemestrales en el portal WEB institucional
DESCRIPTION:
URL:https://calendarioacademico.libertadores.edu.co/event/creacion-y-confirmacion-de-grupos-en-sai-y-entrega-de-relacion-a-la-direccion-de-admisiones-y-registro-2-2/
LOCATION:Fundación Universitaria Los Libertadores\, Carrera 16 # 63 A - 68\, Bogotá D.C.\, 110011\, Colombia
ORGANIZER;CN="Fundaci%C3%B3n Universitaria Los Libertadores":MAILTO:infopresencial@libertadores.edu.co
END:VEVENT
BEGIN:VEVENT
DTSTART;VALUE=DATE:20220630
DTEND;VALUE=DATE:20220701
DTSTAMP:20260424T153114
CREATED:20220302T221745Z
LAST-MODIFIED:20220302T221745Z
UID:7284-1656547200-1656633599@calendarioacademico.libertadores.edu.co
SUMMARY:Publicación de recibos de cursos intersemestrales - S1Pr
DESCRIPTION:Descarga tu recibo aquí . \nConoce como hacerlo en el tutorial de pagos.
URL:https://calendarioacademico.libertadores.edu.co/event/publicacion-de-recibos-de-cursos-intersemestrales-s1pr/
LOCATION:Fundación Universitaria Los Libertadores\, Carrera 16 # 63 A - 68\, Bogotá D.C.\, 110011\, Colombia
CATEGORIES:Cursos Intersemestrales I
ORGANIZER;CN="Fundaci%C3%B3n Universitaria Los Libertadores Bogot%C3%A1-Cartagena":MAILTO:fullatencion@libertadores.edu.co
END:VEVENT
BEGIN:VEVENT
DTSTART;TZID=America/New_York:20220629T073000
DTEND;TZID=America/New_York:20220730T170000
DTSTAMP:20260424T153114
CREATED:20211215T084550Z
LAST-MODIFIED:20211215T084550Z
UID:5430-1656487800-1659200400@calendarioacademico.libertadores.edu.co
SUMMARY:Inicio y terminación de Seminarios de Grado
DESCRIPTION:
URL:https://calendarioacademico.libertadores.edu.co/event/creacion-y-confirmacion-de-grupos-en-sai-y-entrega-de-relacion-a-la-direccion-de-admisiones-y-registro-2-2-2-2-2-2-2-2-2-2-2-2-3/
LOCATION:Fundación Universitaria Los Libertadores\, Carrera 16 # 63 A - 68\, Bogotá D.C.\, 110011\, Colombia
ORGANIZER;CN="Fundaci%C3%B3n Universitaria Los Libertadores":MAILTO:infopresencial@libertadores.edu.co
END:VEVENT
BEGIN:VEVENT
DTSTART;TZID=America/New_York:20220628T080000
DTEND;TZID=America/New_York:20220702T170000
DTSTAMP:20260424T153114
CREATED:20220106T214156Z
LAST-MODIFIED:20220106T214354Z
UID:6393-1656403200-1656781200@calendarioacademico.libertadores.edu.co
SUMMARY:Comité de evaluación profesoral
DESCRIPTION:Comité de evaluación profesoral de Posgrado Semestral Posgrados Virtuales y a Distancia Semestrales \n 
URL:https://calendarioacademico.libertadores.edu.co/event/comite-de-evaluacion-profesoral-posgrado-semestral-virtual-distancia-2022-1/
LOCATION:Fundación Universitaria Los Libertadores\, Carrera 16 # 63 A - 68\, Bogotá D.C.\, 110011\, Colombia
ORGANIZER;CN="Fundaci%C3%B3n Universitaria Los Libertadores":MAILTO:infopresencial@libertadores.edu.co
END:VEVENT
BEGIN:VEVENT
DTSTART;TZID=America/New_York:20220628T080000
DTEND;TZID=America/New_York:20220702T170000
DTSTAMP:20260424T153114
CREATED:20211220T163453Z
LAST-MODIFIED:20220106T214110Z
UID:6009-1656403200-1656781200@calendarioacademico.libertadores.edu.co
SUMMARY:Comité de evaluación profesoral
DESCRIPTION:Comité de evaluación profesoral de Posgrado Semestral Posgrados Virtuales y a Distancia Semestrales \n 
URL:https://calendarioacademico.libertadores.edu.co/event/comite-de-evaluacion-profesoral-posgrado-semestral-presencial-2022-1/
LOCATION:Fundación Universitaria Los Libertadores\, Carrera 16 # 63 A - 68\, Bogotá D.C.\, 110011\, Colombia
ORGANIZER;CN="Fundaci%C3%B3n Universitaria Los Libertadores":MAILTO:infopresencial@libertadores.edu.co
END:VEVENT
BEGIN:VEVENT
DTSTART;TZID=America/New_York:20220628T080000
DTEND;TZID=America/New_York:20220701T170000
DTSTAMP:20260424T153114
CREATED:20211221T134736Z
LAST-MODIFIED:20211221T135257Z
UID:6172-1656403200-1656694800@calendarioacademico.libertadores.edu.co
SUMMARY:Grados privados BOGOTÁ - Posgrados Trimestrales 2022-2
DESCRIPTION:Grados privados BOGOTÁ – Posgrados Trimestrales 2022-2
URL:https://calendarioacademico.libertadores.edu.co/event/grados-privados-bogota-posgrados-trimestrales-2022-2/
LOCATION:Fundación Universitaria Los Libertadores\, Carrera 16 # 63 A - 68\, Bogotá D.C.\, 110011\, Colombia
ORGANIZER;CN="Fundaci%C3%B3n Universitaria Los Libertadores":MAILTO:infopresencial@libertadores.edu.co
END:VEVENT
BEGIN:VEVENT
DTSTART;TZID=America/New_York:20220628T080000
DTEND;TZID=America/New_York:20220701T170000
DTSTAMP:20260424T153114
CREATED:20211220T192557Z
LAST-MODIFIED:20220107T192003Z
UID:6033-1656403200-1656694800@calendarioacademico.libertadores.edu.co
SUMMARY:Segunda fecha de grados privados BOGOTÁ
DESCRIPTION:Grados privados BOGOTÁ – Posgrados Virtuales y a Distancia semestrales 2022-1
URL:https://calendarioacademico.libertadores.edu.co/event/segunda-fecha-de-grados-privados-bogota-posgrado-semestral-virtual-distancia-2022-1/
LOCATION:Fundación Universitaria Los Libertadores\, Carrera 16 # 63 A - 68\, Bogotá D.C.\, 110011\, Colombia
ORGANIZER;CN="Fundaci%C3%B3n Universitaria Los Libertadores":MAILTO:infopresencial@libertadores.edu.co
END:VEVENT
BEGIN:VEVENT
DTSTART;TZID=America/New_York:20220628T080000
DTEND;TZID=America/New_York:20220701T170000
DTSTAMP:20260424T153114
CREATED:20211219T223614Z
LAST-MODIFIED:20220107T170639Z
UID:5947-1656403200-1656694800@calendarioacademico.libertadores.edu.co
SUMMARY:Segunda fecha de grados privados BOGOTÁ
DESCRIPTION:Grados privados BOGOTÁ – Posgrados presenciales semestrales 2022-1
URL:https://calendarioacademico.libertadores.edu.co/event/segunda-fecha-de-grados-privados-bogota-posgrado-semestral-presencial-2022-1/
LOCATION:Fundación Universitaria Los Libertadores\, Carrera 16 # 63 A - 68\, Bogotá D.C.\, 110011\, Colombia
ORGANIZER;CN="Fundaci%C3%B3n Universitaria Los Libertadores":MAILTO:infopresencial@libertadores.edu.co
END:VEVENT
BEGIN:VEVENT
DTSTART;TZID=America/New_York:20220628T080000
DTEND;TZID=America/New_York:20220701T170000
DTSTAMP:20260424T153114
CREATED:20211216T183314Z
LAST-MODIFIED:20211216T183314Z
UID:5931-1656403200-1656694800@calendarioacademico.libertadores.edu.co
SUMMARY:Ceremonias de grado Privadas en Bogotá Grados Privados Pregrado 2022-1
DESCRIPTION:Ceremonias de grado Privadas en Bogotá
URL:https://calendarioacademico.libertadores.edu.co/event/ceremonias-de-grado-privadas-en-bogota-grados-privados-pregrado-2022-1-2/
LOCATION:Fundación Universitaria Los Libertadores\, Carrera 16 # 63 A - 68\, Bogotá D.C.\, 110011\, Colombia
ORGANIZER;CN="Fundaci%C3%B3n Universitaria Los Libertadores":MAILTO:infopresencial@libertadores.edu.co
END:VEVENT
BEGIN:VEVENT
DTSTART;TZID=America/New_York:20220628T073000
DTEND;TZID=America/New_York:20220629T170000
DTSTAMP:20260424T153114
CREATED:20211214T211917Z
LAST-MODIFIED:20211214T211917Z
UID:5313-1656401400-1656522000@calendarioacademico.libertadores.edu.co
SUMMARY:Novedades de notas definitivas - Pregrado
DESCRIPTION:
URL:https://calendarioacademico.libertadores.edu.co/event/novedades-de-notas-definitivas-pregrado/
LOCATION:Fundación Universitaria Los Libertadores\, Carrera 16 # 63 A - 68\, Bogotá D.C.\, 110011\, Colombia
ORGANIZER;CN="Fundaci%C3%B3n Universitaria Los Libertadores":MAILTO:infopresencial@libertadores.edu.co
END:VEVENT
BEGIN:VEVENT
DTSTART;VALUE=DATE:20220628
DTEND;VALUE=DATE:20220630
DTSTAMP:20260424T153114
CREATED:20220302T131432Z
LAST-MODIFIED:20220302T131432Z
UID:6997-1656374400-1656547199@calendarioacademico.libertadores.edu.co
SUMMARY:Novedades de notas definitivas - S1Pr
DESCRIPTION:
URL:https://calendarioacademico.libertadores.edu.co/event/novedades-de-notas-definitivas-s1pr/
LOCATION:Fundación Universitaria Los Libertadores\, Carrera 16 # 63 A - 68\, Bogotá D.C.\, 110011\, Colombia
CATEGORIES:Periodo Académico I
ORGANIZER;CN="Fundaci%C3%B3n Universitaria Los Libertadores Bogot%C3%A1-Cartagena":MAILTO:fullatencion@libertadores.edu.co
END:VEVENT
BEGIN:VEVENT
DTSTART;VALUE=DATE:20220627
DTEND;VALUE=DATE:20220628
DTSTAMP:20260424T153114
CREATED:20211214T193720Z
LAST-MODIFIED:20220106T172301Z
UID:5190-1656288000-1656374399@calendarioacademico.libertadores.edu.co
SUMMARY:Finalización de clases del posgrado
DESCRIPTION:Finalización de clases Posgrado Semestral
URL:https://calendarioacademico.libertadores.edu.co/event/finalizacion-de-clases-posgrado-semestral-presencial-2022-1/
LOCATION:Fundación Universitaria Los Libertadores\, Carrera 16 # 63 A - 68\, Bogotá D.C.\, 110011\, Colombia
ORGANIZER;CN="Fundaci%C3%B3n Universitaria Los Libertadores":MAILTO:infopresencial@libertadores.edu.co
END:VEVENT
BEGIN:VEVENT
DTSTART;VALUE=DATE:20220626
DTEND;VALUE=DATE:20220627
DTSTAMP:20260424T153114
CREATED:20211220T220050Z
LAST-MODIFIED:20211220T220050Z
UID:6122-1656201600-1656287999@calendarioacademico.libertadores.edu.co
SUMMARY:Finalización de clases Posgrado Trimestral 2022-2
DESCRIPTION:Finalización de clases Posgrado Trimestral 2022-2
URL:https://calendarioacademico.libertadores.edu.co/event/finalizacion-de-clases-posgrado-trimestral-2022-2/
LOCATION:Fundación Universitaria Los Libertadores\, Carrera 16 # 63 A - 68\, Bogotá D.C.\, 110011\, Colombia
ORGANIZER;CN="Fundaci%C3%B3n Universitaria Los Libertadores":MAILTO:infopresencial@libertadores.edu.co
END:VEVENT
BEGIN:VEVENT
DTSTART;VALUE=DATE:20220626
DTEND;VALUE=DATE:20220627
DTSTAMP:20260424T153114
CREATED:20211220T144320Z
LAST-MODIFIED:20220106T193019Z
UID:5982-1656201600-1656287999@calendarioacademico.libertadores.edu.co
SUMMARY:Finalización de clases
DESCRIPTION:Inicio de Clases en Posgrados Virtuales y a Distancia Semestrales
URL:https://calendarioacademico.libertadores.edu.co/event/finalizacion-de-clases-posgrado-semestral-virtual-distancia-2022-1/
LOCATION:Fundación Universitaria Los Libertadores\, Carrera 16 # 63 A - 68\, Bogotá D.C.\, 110011\, Colombia
ORGANIZER;CN="Fundaci%C3%B3n Universitaria Los Libertadores":MAILTO:infopresencial@libertadores.edu.co
END:VEVENT
BEGIN:VEVENT
DTSTART;TZID=America/New_York:20220625T080000
DTEND;TZID=America/New_York:20220625T170000
DTSTAMP:20260424T153114
CREATED:20220106T214208Z
LAST-MODIFIED:20220106T214408Z
UID:6394-1656144000-1656176400@calendarioacademico.libertadores.edu.co
SUMMARY:Entrega de resultados a facultades
DESCRIPTION:Entrega de resultados a facultades de la evaluación integral de profesores de Posgrado Semestral Posgrados Virtuales y a Distancia Semestrales. \n 
URL:https://calendarioacademico.libertadores.edu.co/event/entrega-resultados-a-facultades-posgrado-semestral-virtual-distancia-2022-1/
LOCATION:Fundación Universitaria Los Libertadores\, Carrera 16 # 63 A - 68\, Bogotá D.C.\, 110011\, Colombia
ORGANIZER;CN="Fundaci%C3%B3n Universitaria Los Libertadores":MAILTO:infopresencial@libertadores.edu.co
END:VEVENT
BEGIN:VEVENT
DTSTART;TZID=America/New_York:20220625T080000
DTEND;TZID=America/New_York:20220625T170000
DTSTAMP:20260424T153114
CREATED:20211220T162941Z
LAST-MODIFIED:20220106T214120Z
UID:6005-1656144000-1656176400@calendarioacademico.libertadores.edu.co
SUMMARY:Entrega de resultados a facultades
DESCRIPTION:Entrega de resultados a facultades de la evaluación integral de profesores de Posgrado Semestral Posgrados Virtuales y a Distancia Semestrales. \n 
URL:https://calendarioacademico.libertadores.edu.co/event/entrega-resultados-a-facultades-posgrado-semestral-presencial-2022-1/
LOCATION:Fundación Universitaria Los Libertadores\, Carrera 16 # 63 A - 68\, Bogotá D.C.\, 110011\, Colombia
ORGANIZER;CN="Fundaci%C3%B3n Universitaria Los Libertadores":MAILTO:infopresencial@libertadores.edu.co
END:VEVENT
BEGIN:VEVENT
DTSTART;VALUE=DATE:20220625
DTEND;VALUE=DATE:20220626
DTSTAMP:20260424T153114
CREATED:20220302T131735Z
LAST-MODIFIED:20220302T131735Z
UID:7000-1656115200-1656201599@calendarioacademico.libertadores.edu.co
SUMMARY:Publicación de calificaciones - S1Pr
DESCRIPTION:
URL:https://calendarioacademico.libertadores.edu.co/event/publicacion-de-calificaciones-s1pr/
LOCATION:Fundación Universitaria Los Libertadores\, Carrera 16 # 63 A - 68\, Bogotá D.C.\, 110011\, Colombia
CATEGORIES:Periodo Académico I
ORGANIZER;CN="Fundaci%C3%B3n Universitaria Los Libertadores Bogot%C3%A1-Cartagena":MAILTO:fullatencion@libertadores.edu.co
END:VEVENT
BEGIN:VEVENT
DTSTART;VALUE=DATE:20220625
DTEND;VALUE=DATE:20220626
DTSTAMP:20260424T153114
CREATED:20211221T132814Z
LAST-MODIFIED:20211221T132914Z
UID:6161-1656115200-1656201599@calendarioacademico.libertadores.edu.co
SUMMARY:Entrega de resultados de la 1° evaluación integral de profesores de posgrados trimestrales
DESCRIPTION:Entrega de resultados a las facultades de la 1° encuesta semestral de 2022 a los profesores en los posgrados trimestrales.
URL:https://calendarioacademico.libertadores.edu.co/event/entrega-de-resultados-de-la-1-evaluacion-integral-de-profesores-de-posgrados-trimestrales/
LOCATION:Fundación Universitaria Los Libertadores\, Carrera 16 # 63 A - 68\, Bogotá D.C.\, 110011\, Colombia
ORGANIZER;CN="Fundaci%C3%B3n Universitaria Los Libertadores":MAILTO:infopresencial@libertadores.edu.co
END:VEVENT
BEGIN:VEVENT
DTSTART;VALUE=DATE:20220625
DTEND;VALUE=DATE:20220626
DTSTAMP:20260424T153114
CREATED:20211214T212053Z
LAST-MODIFIED:20211214T212053Z
UID:5315-1656115200-1656201599@calendarioacademico.libertadores.edu.co
SUMMARY:Publicación de calificaciones - Pregrado
DESCRIPTION:
URL:https://calendarioacademico.libertadores.edu.co/event/publicacion-de-calificaciones-pregrado/
LOCATION:Fundación Universitaria Los Libertadores\, Carrera 16 # 63 A - 68\, Bogotá D.C.\, 110011\, Colombia
ORGANIZER;CN="Fundaci%C3%B3n Universitaria Los Libertadores":MAILTO:infopresencial@libertadores.edu.co
END:VEVENT
BEGIN:VEVENT
DTSTART;VALUE=DATE:20220624
DTEND;VALUE=DATE:20220625
DTSTAMP:20260424T153114
CREATED:20211215T210419Z
LAST-MODIFIED:20211215T210419Z
UID:5850-1656028800-1656115199@calendarioacademico.libertadores.edu.co
SUMMARY:Ceremonias de grado Bogotá Grados Colectivos - Pregrado 2022-1
DESCRIPTION:Ceremonias de grado Bogotá Grados Colectivos – Pregrado 2022-1
URL:https://calendarioacademico.libertadores.edu.co/event/ceremonias-de-grado-bogota-grados-colectivos-pregrado-2022-1-2/
LOCATION:Fundación Universitaria Los Libertadores\, Carrera 16 # 63 A - 68\, Bogotá D.C.\, 110011\, Colombia
ORGANIZER;CN="Fundaci%C3%B3n Universitaria Los Libertadores":MAILTO:infopresencial@libertadores.edu.co
END:VEVENT
BEGIN:VEVENT
DTSTART;VALUE=DATE:20220624
DTEND;VALUE=DATE:20220625
DTSTAMP:20260424T153114
CREATED:20211214T211739Z
LAST-MODIFIED:20211214T211739Z
UID:5311-1656028800-1656115199@calendarioacademico.libertadores.edu.co
SUMMARY:Cierre de periodo académico - Pregrado
DESCRIPTION:
URL:https://calendarioacademico.libertadores.edu.co/event/cierre-de-periodo-academico-pregrado/
LOCATION:Fundación Universitaria Los Libertadores\, Carrera 16 # 63 A - 68\, Bogotá D.C.\, 110011\, Colombia
ORGANIZER;CN="Fundaci%C3%B3n Universitaria Los Libertadores":MAILTO:infopresencial@libertadores.edu.co
END:VEVENT
BEGIN:VEVENT
DTSTART;TZID=America/New_York:20220622T073000
DTEND;TZID=America/New_York:20220623T170000
DTSTAMP:20260424T153114
CREATED:20211215T075626Z
LAST-MODIFIED:20211215T075626Z
UID:5398-1655883000-1656003600@calendarioacademico.libertadores.edu.co
SUMMARY:Entrega de novedades III - Pregrado
DESCRIPTION:
URL:https://calendarioacademico.libertadores.edu.co/event/entrega-de-novedades-pregrado-2-2/
LOCATION:Fundación Universitaria Los Libertadores\, Carrera 16 # 63 A - 68\, Bogotá D.C.\, 110011\, Colombia
ORGANIZER;CN="Fundaci%C3%B3n Universitaria Los Libertadores":MAILTO:infopresencial@libertadores.edu.co
END:VEVENT
BEGIN:VEVENT
DTSTART;VALUE=DATE:20220622
DTEND;VALUE=DATE:20220624
DTSTAMP:20260424T153114
CREATED:20220302T220945Z
LAST-MODIFIED:20220302T220945Z
UID:7282-1655856000-1656028799@calendarioacademico.libertadores.edu.co
SUMMARY:Tercera Entrega de novedades - S1Pr
DESCRIPTION:
URL:https://calendarioacademico.libertadores.edu.co/event/tercera-entrega-de-novedades-s1pr/
LOCATION:Fundación Universitaria Los Libertadores\, Carrera 16 # 63 A - 68\, Bogotá D.C.\, 110011\, Colombia
CATEGORIES:Periodo Académico I
ORGANIZER;CN="Fundaci%C3%B3n Universitaria Los Libertadores Bogot%C3%A1-Cartagena":MAILTO:fullatencion@libertadores.edu.co
END:VEVENT
BEGIN:VEVENT
DTSTART;TZID=America/New_York:20220620T080000
DTEND;TZID=America/New_York:20220730T170000
DTSTAMP:20260424T153114
CREATED:20211214T213824Z
LAST-MODIFIED:20211214T213824Z
UID:5347-1655712000-1659200400@calendarioacademico.libertadores.edu.co
SUMMARY:Práctica intersemestral
DESCRIPTION:Práctica intersemestral
URL:https://calendarioacademico.libertadores.edu.co/event/practica-intersemestral/
LOCATION:Fundación Universitaria Los Libertadores\, Carrera 16 # 63 A - 68\, Bogotá D.C.\, 110011\, Colombia
ORGANIZER;CN="Fundaci%C3%B3n Universitaria Los Libertadores":MAILTO:infopresencial@libertadores.edu.co
END:VEVENT
BEGIN:VEVENT
DTSTART;VALUE=DATE:20220620
DTEND;VALUE=DATE:20220721
DTSTAMP:20260424T153114
CREATED:20211215T142053Z
LAST-MODIFIED:20220301T214055Z
UID:5528-1655683200-1658361599@calendarioacademico.libertadores.edu.co
SUMMARY:Planeación académica profesoral II
DESCRIPTION:
URL:https://calendarioacademico.libertadores.edu.co/event/planeacion-academica-profesoral/
LOCATION:Fundación Universitaria Los Libertadores\, Carrera 16 # 63 A - 68\, Bogotá D.C.\, 110011\, Colombia
ORGANIZER;CN="Fundaci%C3%B3n Universitaria Los Libertadores":MAILTO:infopresencial@libertadores.edu.co
END:VEVENT
BEGIN:VEVENT
DTSTART;TZID=America/New_York:20220618T080000
DTEND;TZID=America/New_York:20220628T170000
DTSTAMP:20260424T153114
CREATED:20211215T091130Z
LAST-MODIFIED:20211215T091130Z
UID:5440-1655539200-1656435600@calendarioacademico.libertadores.edu.co
SUMMARY:Fecha límite para digitación de notas II - Seminarios de Grado
DESCRIPTION:
URL:https://calendarioacademico.libertadores.edu.co/event/fecha-limite-para-digitacion-de-notas-seminarios-de-grado-2/
LOCATION:Fundación Universitaria Los Libertadores\, Carrera 16 # 63 A - 68\, Bogotá D.C.\, 110011\, Colombia
ORGANIZER;CN="Fundaci%C3%B3n Universitaria Los Libertadores":MAILTO:infopresencial@libertadores.edu.co
END:VEVENT
BEGIN:VEVENT
DTSTART;TZID=America/New_York:20220614T073000
DTEND;TZID=America/New_York:20220621T170000
DTSTAMP:20260424T153114
CREATED:20211215T075520Z
LAST-MODIFIED:20211215T075520Z
UID:5396-1655191800-1655830800@calendarioacademico.libertadores.edu.co
SUMMARY:Digitación de calificaciones III - Pregrado
DESCRIPTION:
URL:https://calendarioacademico.libertadores.edu.co/event/digitacion-de-calificaciones-pregrado-3/
LOCATION:Fundación Universitaria Los Libertadores\, Carrera 16 # 63 A - 68\, Bogotá D.C.\, 110011\, Colombia
ORGANIZER;CN="Fundaci%C3%B3n Universitaria Los Libertadores":MAILTO:infopresencial@libertadores.edu.co
END:VEVENT
BEGIN:VEVENT
DTSTART;VALUE=DATE:20220614
DTEND;VALUE=DATE:20220615
DTSTAMP:20260424T153114
CREATED:20211216T182901Z
LAST-MODIFIED:20211216T182901Z
UID:5927-1655164800-1655251199@calendarioacademico.libertadores.edu.co
SUMMARY:Notificación de la aprobación de los grados privados Pregrado 2022-1
DESCRIPTION:Notificación oficial de la aprobación de grado mediante el correo electrónico Institucional
URL:https://calendarioacademico.libertadores.edu.co/event/notificacion-de-la-aprobacion-de-los-grados-privados-pregrado-2022-1-2/
LOCATION:Fundación Universitaria Los Libertadores\, Carrera 16 # 63 A - 68\, Bogotá D.C.\, 110011\, Colombia
ORGANIZER;CN="Fundaci%C3%B3n Universitaria Los Libertadores":MAILTO:infopresencial@libertadores.edu.co
END:VEVENT
BEGIN:VEVENT
DTSTART;VALUE=DATE:20220614
DTEND;VALUE=DATE:20220615
DTSTAMP:20260424T153114
CREATED:20211215T210026Z
LAST-MODIFIED:20211215T210026Z
UID:5846-1655164800-1655251199@calendarioacademico.libertadores.edu.co
SUMMARY:Notificación oficial de la aprobación de grado Grados Colectivos - Pregrado 2022-1
DESCRIPTION:Notificación oficial de la aprobación de grado mediante el correo electrónico Institucional
URL:https://calendarioacademico.libertadores.edu.co/event/notificacion-oficial-de-la-aprobacion-de-grado-grados-colectivos-pregrado-2022-1-2/
LOCATION:Fundación Universitaria Los Libertadores\, Carrera 16 # 63 A - 68\, Bogotá D.C.\, 110011\, Colombia
ORGANIZER;CN="Fundaci%C3%B3n Universitaria Los Libertadores":MAILTO:infopresencial@libertadores.edu.co
END:VEVENT
END:VCALENDAR