BEGIN:VCALENDAR
VERSION:2.0
PRODID:-//Calendario Académico - ECPv6.15.20//NONSGML v1.0//EN
CALSCALE:GREGORIAN
METHOD:PUBLISH
X-ORIGINAL-URL:https://calendarioacademico.libertadores.edu.co
X-WR-CALDESC:Eventos para Calendario Académico
REFRESH-INTERVAL;VALUE=DURATION:PT1H
X-Robots-Tag:noindex
X-PUBLISHED-TTL:PT1H
BEGIN:VTIMEZONE
TZID:America/New_York
BEGIN:DAYLIGHT
TZOFFSETFROM:-0500
TZOFFSETTO:-0400
TZNAME:EDT
DTSTART:20210314T070000
END:DAYLIGHT
BEGIN:STANDARD
TZOFFSETFROM:-0400
TZOFFSETTO:-0500
TZNAME:EST
DTSTART:20211107T060000
END:STANDARD
BEGIN:DAYLIGHT
TZOFFSETFROM:-0500
TZOFFSETTO:-0400
TZNAME:EDT
DTSTART:20220313T070000
END:DAYLIGHT
BEGIN:STANDARD
TZOFFSETFROM:-0400
TZOFFSETTO:-0500
TZNAME:EST
DTSTART:20221106T060000
END:STANDARD
BEGIN:DAYLIGHT
TZOFFSETFROM:-0500
TZOFFSETTO:-0400
TZNAME:EDT
DTSTART:20230312T070000
END:DAYLIGHT
BEGIN:STANDARD
TZOFFSETFROM:-0400
TZOFFSETTO:-0500
TZNAME:EST
DTSTART:20231105T060000
END:STANDARD
END:VTIMEZONE
BEGIN:VEVENT
DTSTART;TZID=America/New_York:20220613T080000
DTEND;TZID=America/New_York:20220618T170000
DTSTAMP:20260424T202411
CREATED:20211214T213654Z
LAST-MODIFIED:20211214T213654Z
UID:5344-1655107200-1655571600@calendarioacademico.libertadores.edu.co
SUMMARY:Inscripción y matricula práctica intersemestral
DESCRIPTION:Inscripción y matricula práctica intersemestral
URL:https://calendarioacademico.libertadores.edu.co/event/inscripcion-y-matricula-practica-intersemestral/
LOCATION:Fundación Universitaria Los Libertadores\, Carrera 16 # 63 A - 68\, Bogotá D.C.\, 110011\, Colombia
ORGANIZER;CN="Fundaci%C3%B3n Universitaria Los Libertadores":MAILTO:infopresencial@libertadores.edu.co
END:VEVENT
BEGIN:VEVENT
DTSTART;TZID=America/New_York:20220613T073000
DTEND;TZID=America/New_York:20220618T170000
DTSTAMP:20260424T202411
CREATED:20211214T210900Z
LAST-MODIFIED:20211214T210900Z
UID:5297-1655105400-1655571600@calendarioacademico.libertadores.edu.co
SUMMARY:Examen Final - Pregrado
DESCRIPTION:
URL:https://calendarioacademico.libertadores.edu.co/event/examen-final-pregrado/
LOCATION:Fundación Universitaria Los Libertadores\, Carrera 16 # 63 A - 68\, Bogotá D.C.\, 110011\, Colombia
ORGANIZER;CN="Fundaci%C3%B3n Universitaria Los Libertadores":MAILTO:infopresencial@libertadores.edu.co
END:VEVENT
BEGIN:VEVENT
DTSTART;VALUE=DATE:20220613
DTEND;VALUE=DATE:20220614
DTSTAMP:20260424T202411
CREATED:20211216T182612Z
LAST-MODIFIED:20211216T182612Z
UID:5923-1655078400-1655164799@calendarioacademico.libertadores.edu.co
SUMMARY:Postulación de candidatos ante el Consejo Académico Grados Privados Pregrado 2022-1.
DESCRIPTION:Postulación de candidatos ante el Consejo Académico Grados Privados Pregrado 2022-1.
URL:https://calendarioacademico.libertadores.edu.co/event/postulacion-de-candidatos-ante-el-consejo-academico-grados-privados-pregrado-2022-1-2/
LOCATION:Fundación Universitaria Los Libertadores\, Carrera 16 # 63 A - 68\, Bogotá D.C.\, 110011\, Colombia
ORGANIZER;CN="Fundaci%C3%B3n Universitaria Los Libertadores":MAILTO:infopresencial@libertadores.edu.co
END:VEVENT
BEGIN:VEVENT
DTSTART;VALUE=DATE:20220613
DTEND;VALUE=DATE:20220614
DTSTAMP:20260424T202411
CREATED:20211216T181438Z
LAST-MODIFIED:20211216T181438Z
UID:5919-1655078400-1655164799@calendarioacademico.libertadores.edu.co
SUMMARY:Programaciones de ensayos y ceremonia Grados Privados Pregrado 2022-1
DESCRIPTION:Programaciones de ensayos y ceremonia Grados Privados Pregrado 2022-1
URL:https://calendarioacademico.libertadores.edu.co/event/programaciones-de-ensayos-y-ceremonia-grados-privados-pregrado-2022-1-2/
LOCATION:Fundación Universitaria Los Libertadores\, Carrera 16 # 63 A - 68\, Bogotá D.C.\, 110011\, Colombia
ORGANIZER;CN="Fundaci%C3%B3n Universitaria Los Libertadores":MAILTO:infopresencial@libertadores.edu.co
END:VEVENT
BEGIN:VEVENT
DTSTART;VALUE=DATE:20220613
DTEND;VALUE=DATE:20220614
DTSTAMP:20260424T202411
CREATED:20211215T204407Z
LAST-MODIFIED:20211215T204407Z
UID:5838-1655078400-1655164799@calendarioacademico.libertadores.edu.co
SUMMARY:Ensayos de ceremonia de Colectivos - Pregrado 2022-1
DESCRIPTION:Publicación de la circular con las programaciones de ensayos y ceremonia\, alquiler de toga y birrete y estudio fotográfico.
URL:https://calendarioacademico.libertadores.edu.co/event/ensayos-de-ceremonia-de-colectivos-pregrado-2022-1-2/
LOCATION:Fundación Universitaria Los Libertadores\, Carrera 16 # 63 A - 68\, Bogotá D.C.\, 110011\, Colombia
ORGANIZER;CN="Fundaci%C3%B3n Universitaria Los Libertadores":MAILTO:infopresencial@libertadores.edu.co
END:VEVENT
BEGIN:VEVENT
DTSTART;VALUE=DATE:20220611
DTEND;VALUE=DATE:20220612
DTSTAMP:20260424T202411
CREATED:20220301T220839Z
LAST-MODIFIED:20221222T204602Z
UID:6986-1654905600-1654991999@calendarioacademico.libertadores.edu.co
SUMMARY:Finalización de clases (Bogotá) - S1Pr
DESCRIPTION:
URL:https://calendarioacademico.libertadores.edu.co/event/finalizacion-de-clases-bogota-s1pr/
LOCATION:Fundación Universitaria Los Libertadores\, Carrera 16 # 63 A - 68\, Bogotá D.C.\, 110011\, Colombia
CATEGORIES:Periodo Académico I
ORGANIZER;CN="Fundaci%C3%B3n Universitaria Los Libertadores Bogot%C3%A1-Cartagena":MAILTO:fullatencion@libertadores.edu.co
END:VEVENT
BEGIN:VEVENT
DTSTART;VALUE=DATE:20220611
DTEND;VALUE=DATE:20220612
DTSTAMP:20260424T202411
CREATED:20211214T211622Z
LAST-MODIFIED:20211214T211622Z
UID:5307-1654905600-1654991999@calendarioacademico.libertadores.edu.co
SUMMARY:Finalización de clases (Cartagena) - Pregrado
DESCRIPTION:
URL:https://calendarioacademico.libertadores.edu.co/event/finalizacion-de-clases-cartagena-pregrado/
LOCATION:Fundación Universitaria Los Libertadores\, Carrera 16 # 63 A - 68\, Bogotá D.C.\, 110011\, Colombia
ORGANIZER;CN="Fundaci%C3%B3n Universitaria Los Libertadores":MAILTO:infopresencial@libertadores.edu.co
END:VEVENT
BEGIN:VEVENT
DTSTART;VALUE=DATE:20220611
DTEND;VALUE=DATE:20220612
DTSTAMP:20260424T202411
CREATED:20211214T211414Z
LAST-MODIFIED:20211215T080021Z
UID:5304-1654905600-1654991999@calendarioacademico.libertadores.edu.co
SUMMARY:Finalización de clases (Bogotá) - Pregrado
DESCRIPTION:
URL:https://calendarioacademico.libertadores.edu.co/event/finalizacion-de-clases-bogota-pregrado/
LOCATION:Fundación Universitaria Los Libertadores\, Carrera 16 # 63 A - 68\, Bogotá D.C.\, 110011\, Colombia
ORGANIZER;CN="Fundaci%C3%B3n Universitaria Los Libertadores":MAILTO:infopresencial@libertadores.edu.co
END:VEVENT
BEGIN:VEVENT
DTSTART;TZID=America/New_York:20220610T080000
DTEND;TZID=America/New_York:20220610T170000
DTSTAMP:20260424T202411
CREATED:20211221T162237Z
LAST-MODIFIED:20211221T162237Z
UID:6196-1654848000-1654880400@calendarioacademico.libertadores.edu.co
SUMMARY:Grados privados CARTAGENA - Posgrados Trimestrales 2022-2
DESCRIPTION:Grados privados CARTAGENA – Posgrados Trimestrales 2022-2
URL:https://calendarioacademico.libertadores.edu.co/event/grados-privados-cartagena-posgrados-trimestrales-2022-2-2/
LOCATION:Fundación Universitaria Los Libertadores\, Carrera 16 # 63 A - 68\, Bogotá D.C.\, 110011\, Colombia
ORGANIZER;CN="Fundaci%C3%B3n Universitaria Los Libertadores":MAILTO:infopresencial@libertadores.edu.co
END:VEVENT
BEGIN:VEVENT
DTSTART;VALUE=DATE:20220610
DTEND;VALUE=DATE:20220611
DTSTAMP:20260424T202411
CREATED:20220301T145004Z
LAST-MODIFIED:20220301T145004Z
UID:6743-1654819200-1654905599@calendarioacademico.libertadores.edu.co
SUMMARY:Inicio y terminación seminario de grado internacional - S1Pr
DESCRIPTION:El inicio y terminación estará sujeto a la programación de cada seminario
URL:https://calendarioacademico.libertadores.edu.co/event/inicio-y-terminacion-seminario-de-grado-internacional-s1pr/
LOCATION:Fundación Universitaria Los Libertadores\, Carrera 16 # 63 A - 68\, Bogotá D.C.\, 110011\, Colombia
CATEGORIES:Seminarios de grado internacionales I
ORGANIZER;CN="Fundaci%C3%B3n Universitaria Los Libertadores Bogot%C3%A1-Cartagena":MAILTO:fullatencion@libertadores.edu.co
END:VEVENT
BEGIN:VEVENT
DTSTART;VALUE=DATE:20220610
DTEND;VALUE=DATE:20220611
DTSTAMP:20260424T202411
CREATED:20211215T174502Z
LAST-MODIFIED:20211215T174502Z
UID:5786-1654819200-1654905599@calendarioacademico.libertadores.edu.co
SUMMARY:Fecha de entrega de diploma y acta de grado -  Grados por ventanilla Cartagena - Pregrado 2022-1
DESCRIPTION:
URL:https://calendarioacademico.libertadores.edu.co/event/fecha-de-entrega-de-diploma-y-acta-de-grado-grados-por-ventanilla-cartagena-pregrado-2022-1-4/
LOCATION:Fundación Universitaria Los Libertadores – Cartagena\, Calle 31 No. 19 - 51\, Cartagena\, Cartagena de Indias\, 130001\, Colombia
ORGANIZER;CN="Fundaci%C3%B3n Universitaria Los Libertadores":MAILTO:infopresencial@libertadores.edu.co
END:VEVENT
BEGIN:VEVENT
DTSTART;VALUE=DATE:20220607
DTEND;VALUE=DATE:20220608
DTSTAMP:20260424T202411
CREATED:20211216T180948Z
LAST-MODIFIED:20220105T205519Z
UID:5915-1654560000-1654646399@calendarioacademico.libertadores.edu.co
SUMMARY:Fecha de entrega informe de pagos de derechos de grados privados Pregrado 2022-1
DESCRIPTION:Fecha de entrega informe de pagos de derechos de grados privados Pregrado 2022-1
URL:https://calendarioacademico.libertadores.edu.co/event/fecha-de-entrega-informe-de-pagos-de-derechos-de-grados-privados-pregrado-2022-1-2/
LOCATION:Fundación Universitaria Los Libertadores\, Carrera 16 # 63 A - 68\, Bogotá D.C.\, 110011\, Colombia
ORGANIZER;CN="Fundaci%C3%B3n Universitaria Los Libertadores":MAILTO:infopresencial@libertadores.edu.co
END:VEVENT
BEGIN:VEVENT
DTSTART;VALUE=DATE:20220607
DTEND;VALUE=DATE:20220608
DTSTAMP:20260424T202411
CREATED:20211215T202410Z
LAST-MODIFIED:20211215T202410Z
UID:5834-1654560000-1654646399@calendarioacademico.libertadores.edu.co
SUMMARY:Fecha de entrega informe de pagos de derechos de grados Colectivos - Pregrado 2022-1
DESCRIPTION:Fecha de entrega informe de pagos de derechos de grados Colectivos – Pregrado 2022-1
URL:https://calendarioacademico.libertadores.edu.co/event/fecha-de-entrega-informe-de-pagos-de-derechos-de-grados-colectivos-pregrado-2022-1-2/
LOCATION:Fundación Universitaria Los Libertadores\, Carrera 16 # 63 A - 68\, Bogotá D.C.\, 110011\, Colombia
ORGANIZER;CN="Fundaci%C3%B3n Universitaria Los Libertadores":MAILTO:infopresencial@libertadores.edu.co
END:VEVENT
BEGIN:VEVENT
DTSTART;VALUE=DATE:20220603
DTEND;VALUE=DATE:20220604
DTSTAMP:20260424T202411
CREATED:20211221T141827Z
LAST-MODIFIED:20211221T141827Z
UID:6187-1654214400-1654300799@calendarioacademico.libertadores.edu.co
SUMMARY:Grados privados BOGOTÁ - Posgrados Trimestrales 2022-2
DESCRIPTION:Grados privados BOGOTÁ – Posgrados Trimestrales 2022-2
URL:https://calendarioacademico.libertadores.edu.co/event/grados-privados-bogota-posgrados-trimestrales-2022-2-2/
LOCATION:Fundación Universitaria Los Libertadores\, Carrera 16 # 63 A - 68\, Bogotá D.C.\, 110011\, Colombia
ORGANIZER;CN="Fundaci%C3%B3n Universitaria Los Libertadores":MAILTO:infopresencial@libertadores.edu.co
END:VEVENT
BEGIN:VEVENT
DTSTART;VALUE=DATE:20220603
DTEND;VALUE=DATE:20220604
DTSTAMP:20260424T202411
CREATED:20211215T173621Z
LAST-MODIFIED:20211215T173621Z
UID:5770-1654214400-1654300799@calendarioacademico.libertadores.edu.co
SUMMARY:Fecha de entrega de diploma y acta de grado -  Grados por ventanilla Bogotá - Pregrado 2022-1
DESCRIPTION:
URL:https://calendarioacademico.libertadores.edu.co/event/fecha-de-entrega-de-diploma-y-acta-de-grado-grados-por-ventanilla-bogota-pregrado-2022-1-4/
LOCATION:Fundación Universitaria Los Libertadores\, Carrera 16 # 63 A - 68\, Bogotá D.C.\, 110011\, Colombia
ORGANIZER;CN="Fundaci%C3%B3n Universitaria Los Libertadores":MAILTO:infopresencial@libertadores.edu.co
END:VEVENT
BEGIN:VEVENT
DTSTART;TZID=America/New_York:20220601T080000
DTEND;TZID=America/New_York:20220630T170000
DTSTAMP:20260424T202411
CREATED:20211214T142349Z
LAST-MODIFIED:20211214T192730Z
UID:5100-1654070400-1656608400@calendarioacademico.libertadores.edu.co
SUMMARY:Profesores y empleados administrativos
DESCRIPTION:
URL:https://calendarioacademico.libertadores.edu.co/event/profesores-y-empleados-administrativos/
LOCATION:Fundación Universitaria Los Libertadores\, Carrera 16 # 63 A - 68\, Bogotá D.C.\, 110011\, Colombia
ORGANIZER;CN="Fundaci%C3%B3n Universitaria Los Libertadores":MAILTO:infopresencial@libertadores.edu.co
END:VEVENT
BEGIN:VEVENT
DTSTART;VALUE=DATE:20220601
DTEND;VALUE=DATE:20220602
DTSTAMP:20260424T202411
CREATED:20211216T171701Z
LAST-MODIFIED:20211216T171701Z
UID:5911-1654041600-1654127999@calendarioacademico.libertadores.edu.co
SUMMARY:Fecha límite para el pago de derechos de grados privados Pregrado 2022-1
DESCRIPTION:Fecha límite para el pago de derechos de grados privados Pregrado 2022-1
URL:https://calendarioacademico.libertadores.edu.co/event/fecha-limite-para-el-pago-de-derechos-de-grados-privados-pregrado-2022-1-2/
LOCATION:Fundación Universitaria Los Libertadores\, Carrera 16 # 63 A - 68\, Bogotá D.C.\, 110011\, Colombia
ORGANIZER;CN="Fundaci%C3%B3n Universitaria Los Libertadores":MAILTO:infopresencial@libertadores.edu.co
END:VEVENT
BEGIN:VEVENT
DTSTART;VALUE=DATE:20220601
DTEND;VALUE=DATE:20220602
DTSTAMP:20260424T202411
CREATED:20211215T201655Z
LAST-MODIFIED:20211215T201755Z
UID:5830-1654041600-1654127999@calendarioacademico.libertadores.edu.co
SUMMARY:Fecha límite para el pago de derechos de grado Grados Colectivos - Pregrado 2022-1
DESCRIPTION:Fecha límite para el pago de derechos de grado Grados Colectivos – Pregrado 2022-1
URL:https://calendarioacademico.libertadores.edu.co/event/fecha-limite-para-el-pago-de-derechos-de-grado-grados-colectivos-pregrado-2022-1-2/
LOCATION:Fundación Universitaria Los Libertadores\, Carrera 16 # 63 A - 68\, Bogotá D.C.\, 110011\, Colombia
ORGANIZER;CN="Fundaci%C3%B3n Universitaria Los Libertadores":MAILTO:infopresencial@libertadores.edu.co
END:VEVENT
BEGIN:VEVENT
DTSTART;VALUE=DATE:20220531
DTEND;VALUE=DATE:20220601
DTSTAMP:20260424T202411
CREATED:20211215T173250Z
LAST-MODIFIED:20211215T173250Z
UID:5760-1653955200-1654041599@calendarioacademico.libertadores.edu.co
SUMMARY:Notificación oficial de la aprobación de grado por correo electrónico - Grados por ventanilla - Pregrado 2022-1
DESCRIPTION:
URL:https://calendarioacademico.libertadores.edu.co/event/notificacion-oficial-de-la-aprobacion-de-grado-por-correo-electronico-grados-por-ventanilla-pregrado-2022-1-4/
LOCATION:Fundación Universitaria Los Libertadores\, Carrera 16 # 63 A - 68\, Bogotá D.C.\, 110011\, Colombia
ORGANIZER;CN="Fundaci%C3%B3n Universitaria Los Libertadores":MAILTO:infopresencial@libertadores.edu.co
END:VEVENT
BEGIN:VEVENT
DTSTART;TZID=America/New_York:20220530T080000
DTEND;TZID=America/New_York:20220610T170000
DTSTAMP:20260424T202411
CREATED:20211214T200352Z
LAST-MODIFIED:20211214T200352Z
UID:5206-1653897600-1654880400@calendarioacademico.libertadores.edu.co
SUMMARY:Fecha límite de pago Seminarios de grado internacionales Pregrado
DESCRIPTION:Fecha límite de pago Seminarios de grado internacionales Pregrado
URL:https://calendarioacademico.libertadores.edu.co/event/fecha-limite-de-pago-seminarios-de-grado-internacionales-pregrado/
LOCATION:Fundación Universitaria Los Libertadores\, Carrera 16 # 63 A - 68\, Bogotá D.C.\, 110011\, Colombia
ORGANIZER;CN="Fundaci%C3%B3n Universitaria Los Libertadores":MAILTO:infopresencial@libertadores.edu.co
END:VEVENT
BEGIN:VEVENT
DTSTART;VALUE=DATE:20220530
DTEND;VALUE=DATE:20220531
DTSTAMP:20260424T202411
CREATED:20211215T172936Z
LAST-MODIFIED:20211215T172936Z
UID:5751-1653868800-1653955199@calendarioacademico.libertadores.edu.co
SUMMARY:Generación informe para postulación de candidatos ante el Consejo Académico - Grados por ventanilla - Pregrado 2022-1
DESCRIPTION:
URL:https://calendarioacademico.libertadores.edu.co/event/generacion-informe-para-postulacion-de-candidatos-ante-el-consejo-academico-grados-por-ventanilla-pregrado-2022-1-4/
LOCATION:Fundación Universitaria Los Libertadores\, Carrera 16 # 63 A - 68\, Bogotá D.C.\, 110011\, Colombia
ORGANIZER;CN="Fundaci%C3%B3n Universitaria Los Libertadores":MAILTO:infopresencial@libertadores.edu.co
END:VEVENT
BEGIN:VEVENT
DTSTART;VALUE=DATE:20220526
DTEND;VALUE=DATE:20220527
DTSTAMP:20260424T202411
CREATED:20211216T165356Z
LAST-MODIFIED:20211216T165356Z
UID:5903-1653523200-1653609599@calendarioacademico.libertadores.edu.co
SUMMARY:Fecha límite para radicar documentación Grados Privados - Pregrado 2022-1
DESCRIPTION:Fecha límite para radicar documentación pendiente ante Admisiones y Registro (no se incluyen los requisitos para el título estipulados en el artículo 97 del Reglamento Estudiantil).
URL:https://calendarioacademico.libertadores.edu.co/event/fecha-limite-para-radicar-documentacion-grados-privados-pregrado-2022-1-2/
LOCATION:Fundación Universitaria Los Libertadores\, Carrera 16 # 63 A - 68\, Bogotá D.C.\, 110011\, Colombia
ORGANIZER;CN="Fundaci%C3%B3n Universitaria Los Libertadores":MAILTO:infopresencial@libertadores.edu.co
END:VEVENT
BEGIN:VEVENT
DTSTART;VALUE=DATE:20220526
DTEND;VALUE=DATE:20220527
DTSTAMP:20260424T202411
CREATED:20211215T200831Z
LAST-MODIFIED:20211215T200910Z
UID:5822-1653523200-1653609599@calendarioacademico.libertadores.edu.co
SUMMARY:Fecha límite para radicar documentación Grados Colectivos - Pregrado 2022-1
DESCRIPTION:Fecha límite para radicar documentación pendiente ante Admisiones y Registro (no se incluyen los requisitos para el título estipulados en el artículo 97 del Reglamento Estudiantil).
URL:https://calendarioacademico.libertadores.edu.co/event/fecha-limite-para-radicar-documentacion-grados-colectivos-pregrado-2022-1-2/
LOCATION:Fundación Universitaria Los Libertadores\, Carrera 16 # 63 A - 68\, Bogotá D.C.\, 110011\, Colombia
ORGANIZER;CN="Fundaci%C3%B3n Universitaria Los Libertadores":MAILTO:infopresencial@libertadores.edu.co
END:VEVENT
BEGIN:VEVENT
DTSTART;VALUE=DATE:20220526
DTEND;VALUE=DATE:20220527
DTSTAMP:20260424T202411
CREATED:20211215T172557Z
LAST-MODIFIED:20211215T172557Z
UID:5736-1653523200-1653609599@calendarioacademico.libertadores.edu.co
SUMMARY:Fecha de entrega informe de pagos de derechos de grado por ventanilla - Pregrado 2022-1
DESCRIPTION:
URL:https://calendarioacademico.libertadores.edu.co/event/fecha-de-entrega-informe-de-pagos-de-derechos-de-grado-por-ventanilla-pregrado-2022-1-4/
LOCATION:Fundación Universitaria Los Libertadores\, Carrera 16 # 63 A - 68\, Bogotá D.C.\, 110011\, Colombia
ORGANIZER;CN="Fundaci%C3%B3n Universitaria Los Libertadores":MAILTO:infopresencial@libertadores.edu.co
END:VEVENT
BEGIN:VEVENT
DTSTART;TZID=America/New_York:20220524T073000
DTEND;TZID=America/New_York:20220525T170000
DTSTAMP:20260424T202411
CREATED:20211214T211244Z
LAST-MODIFIED:20211215T075304Z
UID:5301-1653377400-1653498000@calendarioacademico.libertadores.edu.co
SUMMARY:Entrega de novedades II - Pregrado
DESCRIPTION:
URL:https://calendarioacademico.libertadores.edu.co/event/entrega-de-novedades-pregrado-2/
LOCATION:Fundación Universitaria Los Libertadores\, Carrera 16 # 63 A - 68\, Bogotá D.C.\, 110011\, Colombia
ORGANIZER;CN="Fundaci%C3%B3n Universitaria Los Libertadores":MAILTO:infopresencial@libertadores.edu.co
END:VEVENT
BEGIN:VEVENT
DTSTART;VALUE=DATE:20220524
DTEND;VALUE=DATE:20220525
DTSTAMP:20260424T202411
CREATED:20211216T165854Z
LAST-MODIFIED:20211216T165854Z
UID:5907-1653350400-1653436799@calendarioacademico.libertadores.edu.co
SUMMARY:Publicación del recibo de derechos de grado privados - Pregrado 2022-1
DESCRIPTION:Publicación del recibo de derechos de grado privados – Pregrado 2022-1
URL:https://calendarioacademico.libertadores.edu.co/event/publicacion-del-recibo-de-derechos-de-grado-privados-pregrado-2022-1-2/
LOCATION:Fundación Universitaria Los Libertadores\, Carrera 16 # 63 A - 68\, Bogotá D.C.\, 110011\, Colombia
ORGANIZER;CN="Fundaci%C3%B3n Universitaria Los Libertadores":MAILTO:infopresencial@libertadores.edu.co
END:VEVENT
BEGIN:VEVENT
DTSTART;VALUE=DATE:20220524
DTEND;VALUE=DATE:20220525
DTSTAMP:20260424T202411
CREATED:20211215T201409Z
LAST-MODIFIED:20211215T201409Z
UID:5826-1653350400-1653436799@calendarioacademico.libertadores.edu.co
SUMMARY:Publicación del recibo de derechos de grado Grados Colectivos - Pregrado 2022-1
DESCRIPTION:Publicación del recibo de derechos de grado Grados Colectivos – Pregrado 2022-1
URL:https://calendarioacademico.libertadores.edu.co/event/publicacion-del-recibo-de-derechos-de-grado-grados-colectivos-pregrado-2022-1-2/
LOCATION:Fundación Universitaria Los Libertadores\, Carrera 16 # 63 A - 68\, Bogotá D.C.\, 110011\, Colombia
ORGANIZER;CN="Fundaci%C3%B3n Universitaria Los Libertadores":MAILTO:infopresencial@libertadores.edu.co
END:VEVENT
BEGIN:VEVENT
DTSTART;VALUE=DATE:20220524
DTEND;VALUE=DATE:20220525
DTSTAMP:20260424T202411
CREATED:20211215T172104Z
LAST-MODIFIED:20211215T172104Z
UID:5725-1653350400-1653436799@calendarioacademico.libertadores.edu.co
SUMMARY:Fecha límite para el pago de derechos de grado por ventanilla - Pregrado 2022-1
DESCRIPTION:
URL:https://calendarioacademico.libertadores.edu.co/event/fecha-limite-para-el-pago-de-derechos-de-grado-por-ventanilla-pregrado-2022-1-4/
LOCATION:Fundación Universitaria Los Libertadores\, Carrera 16 # 63 A - 68\, Bogotá D.C.\, 110011\, Colombia
ORGANIZER;CN="Fundaci%C3%B3n Universitaria Los Libertadores":MAILTO:infopresencial@libertadores.edu.co
END:VEVENT
BEGIN:VEVENT
DTSTART;TZID=America/New_York:20220523T080000
DTEND;TZID=America/New_York:20220523T170000
DTSTAMP:20260424T202411
CREATED:20211216T162939Z
LAST-MODIFIED:20211216T162939Z
UID:5899-1653292800-1653325200@calendarioacademico.libertadores.edu.co
SUMMARY:Consulta del resultado del trámite de paz y salvos Grados Privados Pregrado 2022-1
DESCRIPTION:Únicamente para los candidatos a grado que legalizaron la inscripción ante Facultad.
URL:https://calendarioacademico.libertadores.edu.co/event/consulta-del-resultado-del-tramite-de-paz-y-salvos-grados-privados-pregrado-2022-1-2/
LOCATION:Fundación Universitaria Los Libertadores\, Carrera 16 # 63 A - 68\, Bogotá D.C.\, 110011\, Colombia
ORGANIZER;CN="Fundaci%C3%B3n Universitaria Los Libertadores":MAILTO:infopresencial@libertadores.edu.co
END:VEVENT
BEGIN:VEVENT
DTSTART;VALUE=DATE:20220523
DTEND;VALUE=DATE:20220524
DTSTAMP:20260424T202411
CREATED:20211215T143324Z
LAST-MODIFIED:20211215T143324Z
UID:5547-1653264000-1653350399@calendarioacademico.libertadores.edu.co
SUMMARY:Consulta del resultado del trámite de paz y salvos\, únicamente para los candidatos a grado que legalizaron la inscripción ante Facultad - Pregrado 2022-1
DESCRIPTION:
URL:https://calendarioacademico.libertadores.edu.co/event/consulta-del-resultado-del-tramite-de-paz-y-salvos-unicamente-para-los-candidatos-a-grado-que-legalizaron-la-inscripcion-ante-facultad-pregrado-2022-1-2/
LOCATION:Fundación Universitaria Los Libertadores\, Carrera 16 # 63 A - 68\, Bogotá D.C.\, 110011\, Colombia
ORGANIZER;CN="Fundaci%C3%B3n Universitaria Los Libertadores":MAILTO:infopresencial@libertadores.edu.co
END:VEVENT
END:VCALENDAR