BEGIN:VCALENDAR
VERSION:2.0
PRODID:-//Calendario Académico - ECPv6.15.20//NONSGML v1.0//EN
CALSCALE:GREGORIAN
METHOD:PUBLISH
X-WR-CALNAME:Calendario Académico
X-ORIGINAL-URL:https://calendarioacademico.libertadores.edu.co
X-WR-CALDESC:Eventos para Calendario Académico
REFRESH-INTERVAL;VALUE=DURATION:PT1H
X-Robots-Tag:noindex
X-PUBLISHED-TTL:PT1H
BEGIN:VTIMEZONE
TZID:America/New_York
BEGIN:DAYLIGHT
TZOFFSETFROM:-0500
TZOFFSETTO:-0400
TZNAME:EDT
DTSTART:20210314T070000
END:DAYLIGHT
BEGIN:STANDARD
TZOFFSETFROM:-0400
TZOFFSETTO:-0500
TZNAME:EST
DTSTART:20211107T060000
END:STANDARD
BEGIN:DAYLIGHT
TZOFFSETFROM:-0500
TZOFFSETTO:-0400
TZNAME:EDT
DTSTART:20220313T070000
END:DAYLIGHT
BEGIN:STANDARD
TZOFFSETFROM:-0400
TZOFFSETTO:-0500
TZNAME:EST
DTSTART:20221106T060000
END:STANDARD
BEGIN:DAYLIGHT
TZOFFSETFROM:-0500
TZOFFSETTO:-0400
TZNAME:EDT
DTSTART:20230312T070000
END:DAYLIGHT
BEGIN:STANDARD
TZOFFSETFROM:-0400
TZOFFSETTO:-0500
TZNAME:EST
DTSTART:20231105T060000
END:STANDARD
END:VTIMEZONE
BEGIN:VEVENT
DTSTART;TZID=America/New_York:20220502T080000
DTEND;TZID=America/New_York:20220504T170000
DTSTAMP:20260425T075914
CREATED:20211220T212928Z
LAST-MODIFIED:20211220T212928Z
UID:6102-1651478400-1651683600@calendarioacademico.libertadores.edu.co
SUMMARY:Solicitud de reajustes Posgrado  Trimestral 2022-2
DESCRIPTION:Solicitud de reajustes Posgrado  Trimestral 2022-2
URL:https://calendarioacademico.libertadores.edu.co/event/solicitud-de-reajustes-posgrado-trimestral-2022-2/
LOCATION:Fundación Universitaria Los Libertadores\, Carrera 16 # 63 A - 68\, Bogotá D.C.\, 110011\, Colombia
ORGANIZER;CN="Fundaci%C3%B3n Universitaria Los Libertadores":MAILTO:infopresencial@libertadores.edu.co
END:VEVENT
BEGIN:VEVENT
DTSTART;TZID=America/New_York:20220502T073000
DTEND;TZID=America/New_York:20220520T170000
DTSTAMP:20260425T075914
CREATED:20211215T143018Z
LAST-MODIFIED:20211215T143018Z
UID:5543-1651476600-1653066000@calendarioacademico.libertadores.edu.co
SUMMARY:Trámite de paz y salvos (Biblioteca\, Financiero Egresados y de documentación) - Pregrado 2022-1
DESCRIPTION:
URL:https://calendarioacademico.libertadores.edu.co/event/tramite-de-paz-y-salvos-biblioteca-financiero-egresados-y-de-documentacion-pregrado-2022-1-2/
LOCATION:Fundación Universitaria Los Libertadores\, Carrera 16 # 63 A - 68\, Bogotá D.C.\, 110011\, Colombia
ORGANIZER;CN="Fundaci%C3%B3n Universitaria Los Libertadores":MAILTO:infopresencial@libertadores.edu.co
END:VEVENT
BEGIN:VEVENT
DTSTART;VALUE=DATE:20220502
DTEND;VALUE=DATE:20220612
DTSTAMP:20260425T075914
CREATED:20220301T152721Z
LAST-MODIFIED:20220301T152721Z
UID:6785-1651449600-1654991999@calendarioacademico.libertadores.edu.co
SUMMARY:Espacios Pre-Práctica para prácticas en periodo intersemestral - S1Pr
DESCRIPTION:
URL:https://calendarioacademico.libertadores.edu.co/event/espacios-pre-practica-para-practicas-en-periodo-intersemestral-s1pr/
LOCATION:Fundación Universitaria Los Libertadores\, Carrera 16 # 63 A - 68\, Bogotá D.C.\, 110011\, Colombia
CATEGORIES:Prácticas I
ORGANIZER;CN="Fundaci%C3%B3n Universitaria Los Libertadores Bogot%C3%A1-Cartagena":MAILTO:fullatencion@libertadores.edu.co
END:VEVENT
BEGIN:VEVENT
DTSTART;VALUE=DATE:20220502
DTEND;VALUE=DATE:20220503
DTSTAMP:20260425T075914
CREATED:20211220T213820Z
LAST-MODIFIED:20211220T213820Z
UID:6117-1651449600-1651535999@calendarioacademico.libertadores.edu.co
SUMMARY:Inicio de Clases Posgrado  Trimestral 2022-2
DESCRIPTION:Inicio de Clases Posgrado  Trimestral 2022-2
URL:https://calendarioacademico.libertadores.edu.co/event/inicio-de-clases-posgrado-trimestral-2022-2/
LOCATION:Fundación Universitaria Los Libertadores\, Carrera 16 # 63 A - 68\, Bogotá D.C.\, 110011\, Colombia
ORGANIZER;CN="Fundaci%C3%B3n Universitaria Los Libertadores":MAILTO:infopresencial@libertadores.edu.co
END:VEVENT
BEGIN:VEVENT
DTSTART;VALUE=DATE:20220502
DTEND;VALUE=DATE:20220503
DTSTAMP:20260425T075914
CREATED:20211215T172908Z
LAST-MODIFIED:20211215T172908Z
UID:5749-1651449600-1651535999@calendarioacademico.libertadores.edu.co
SUMMARY:Generación informe para postulación de candidatos ante el Consejo Académico - Grados por ventanilla - Pregrado 2022-1
DESCRIPTION:
URL:https://calendarioacademico.libertadores.edu.co/event/generacion-informe-para-postulacion-de-candidatos-ante-el-consejo-academico-grados-por-ventanilla-pregrado-2022-1-3/
LOCATION:Fundación Universitaria Los Libertadores\, Carrera 16 # 63 A - 68\, Bogotá D.C.\, 110011\, Colombia
ORGANIZER;CN="Fundaci%C3%B3n Universitaria Los Libertadores":MAILTO:infopresencial@libertadores.edu.co
END:VEVENT
BEGIN:VEVENT
DTSTART;VALUE=DATE:20220430
DTEND;VALUE=DATE:20220501
DTSTAMP:20260425T075914
CREATED:20211215T135957Z
LAST-MODIFIED:20211215T135957Z
UID:5511-1651276800-1651363199@calendarioacademico.libertadores.edu.co
SUMMARY:Fecha límite para radicar documentos de inscripción a grado en la Facultad - Pregrado 2022 - 1
DESCRIPTION:
URL:https://calendarioacademico.libertadores.edu.co/event/fecha-limite-para-radicar-documentos-de-inscripcion-a-grado-en-la-facultad-pregrado-2022-1-2/
LOCATION:Fundación Universitaria Los Libertadores\, Carrera 16 # 63 A - 68\, Bogotá D.C.\, 110011\, Colombia
ORGANIZER;CN="Fundaci%C3%B3n Universitaria Los Libertadores":MAILTO:infopresencial@libertadores.edu.co
END:VEVENT
BEGIN:VEVENT
DTSTART;VALUE=DATE:20220429
DTEND;VALUE=DATE:20220430
DTSTAMP:20260425T075914
CREATED:20211215T230441Z
LAST-MODIFIED:20211215T230441Z
UID:5864-1651190400-1651276799@calendarioacademico.libertadores.edu.co
SUMMARY:Parametrización y actualización de opciones de grado en el sistema - Grados Privados - Pregrado 2022-1
DESCRIPTION:Parametrización y actualización de opciones de grado en el sistema – Grados Privados – Pregrado 2022-1
URL:https://calendarioacademico.libertadores.edu.co/event/parametrizacion-y-actualizacion-de-opciones-de-grado-en-el-sistema-grados-privados-pregrado-2022-1-2/
LOCATION:Fundación Universitaria Los Libertadores\, Carrera 16 # 63 A - 68\, Bogotá D.C.\, 110011\, Colombia
ORGANIZER;CN="Fundaci%C3%B3n Universitaria Los Libertadores":MAILTO:infopresencial@libertadores.edu.co
END:VEVENT
BEGIN:VEVENT
DTSTART;TZID=America/New_York:20220428T080000
DTEND;TZID=America/New_York:20220429T170000
DTSTAMP:20260425T075914
CREATED:20220301T215442Z
LAST-MODIFIED:20220303T154842Z
UID:6976-1651132800-1651251600@calendarioacademico.libertadores.edu.co
SUMMARY:Inscripción Preparatorios I - corte 4
DESCRIPTION:Inscripción de horarios Aquí \nConoce más en Tutorial inscripción de horarios
URL:https://calendarioacademico.libertadores.edu.co/event/inscripcion-preparatorios-i-s1pr-4/
LOCATION:Fundación Universitaria Los Libertadores\, Carrera 16 # 63 A - 68\, Bogotá D.C.\, 110011\, Colombia
CATEGORIES:Preparatorios I
ORGANIZER;CN="Fundaci%C3%B3n Universitaria Los Libertadores Bogot%C3%A1-Cartagena":MAILTO:fullatencion@libertadores.edu.co
END:VEVENT
BEGIN:VEVENT
DTSTART;TZID=America/New_York:20220428T073000
DTEND;TZID=America/New_York:20220429T170000
DTSTAMP:20260425T075914
CREATED:20211215T150934Z
LAST-MODIFIED:20211215T150934Z
UID:5572-1651131000-1651251600@calendarioacademico.libertadores.edu.co
SUMMARY:Inscripción - Preparatorios - Pregrado 2022-1
DESCRIPTION:
URL:https://calendarioacademico.libertadores.edu.co/event/inscripcion-preparatorios-pregrado-2022-1-4/
LOCATION:Fundación Universitaria Los Libertadores\, Carrera 16 # 63 A - 68\, Bogotá D.C.\, 110011\, Colombia
ORGANIZER;CN="Fundaci%C3%B3n Universitaria Los Libertadores":MAILTO:infopresencial@libertadores.edu.co
END:VEVENT
BEGIN:VEVENT
DTSTART;VALUE=DATE:20220428
DTEND;VALUE=DATE:20220429
DTSTAMP:20260425T075914
CREATED:20211215T172524Z
LAST-MODIFIED:20211215T172524Z
UID:5733-1651104000-1651190399@calendarioacademico.libertadores.edu.co
SUMMARY:Fecha de entrega informe de pagos de derechos de grado por ventanilla - Pregrado 2022-1
DESCRIPTION:
URL:https://calendarioacademico.libertadores.edu.co/event/fecha-de-entrega-informe-de-pagos-de-derechos-de-grado-por-ventanilla-pregrado-2022-1-3/
LOCATION:Fundación Universitaria Los Libertadores\, Carrera 16 # 63 A - 68\, Bogotá D.C.\, 110011\, Colombia
ORGANIZER;CN="Fundaci%C3%B3n Universitaria Los Libertadores":MAILTO:infopresencial@libertadores.edu.co
END:VEVENT
BEGIN:VEVENT
DTSTART;VALUE=DATE:20220427
DTEND;VALUE=DATE:20220428
DTSTAMP:20260425T075914
CREATED:20211220T205007Z
LAST-MODIFIED:20211220T205007Z
UID:6079-1651017600-1651103999@calendarioacademico.libertadores.edu.co
SUMMARY:Pronto pago Posgrado Trimestral 2022-2
DESCRIPTION:Pronto pago Posgrado Trimestral 2022-1
URL:https://calendarioacademico.libertadores.edu.co/event/pronto-pago-posgrado-trimestral-2022-2/
LOCATION:Fundación Universitaria Los Libertadores\, Carrera 16 # 63 A - 68\, Bogotá D.C.\, 110011\, Colombia
ORGANIZER;CN="Fundaci%C3%B3n Universitaria Los Libertadores":MAILTO:infopresencial@libertadores.edu.co
END:VEVENT
BEGIN:VEVENT
DTSTART;TZID=America/New_York:20220426T080000
DTEND;TZID=America/New_York:20220429T170000
DTSTAMP:20260425T075914
CREATED:20211220T211848Z
LAST-MODIFIED:20211220T211953Z
UID:6094-1650960000-1651251600@calendarioacademico.libertadores.edu.co
SUMMARY:Inducción  Posgrado Trimestral 2022-2
DESCRIPTION:Inducción  Posgrado Trimestral 2022-2.
URL:https://calendarioacademico.libertadores.edu.co/event/induccion-posgrado-trimestral-2022-2/
LOCATION:Fundación Universitaria Los Libertadores\, Carrera 16 # 63 A - 68\, Bogotá D.C.\, 110011\, Colombia
ORGANIZER;CN="Fundaci%C3%B3n Universitaria Los Libertadores":MAILTO:infopresencial@libertadores.edu.co
END:VEVENT
BEGIN:VEVENT
DTSTART;TZID=America/New_York:20220426T073000
DTEND;TZID=America/New_York:20220427T170000
DTSTAMP:20260425T075914
CREATED:20211215T150559Z
LAST-MODIFIED:20220218T191224Z
UID:5560-1650958200-1651078800@calendarioacademico.libertadores.edu.co
SUMMARY:Apertura y cierre de SAI para designación de grupos - Pregrado 2022-1
DESCRIPTION:
URL:https://calendarioacademico.libertadores.edu.co/event/apertura-y-cierre-de-sai-para-designacion-de-grupos-pregrado-2022-1-4/
LOCATION:Fundación Universitaria Los Libertadores\, Carrera 16 # 63 A - 68\, Bogotá D.C.\, 110011\, Colombia
ORGANIZER;CN="Fundaci%C3%B3n Universitaria Los Libertadores":MAILTO:infopresencial@libertadores.edu.co
END:VEVENT
BEGIN:VEVENT
DTSTART;VALUE=DATE:20220426
DTEND;VALUE=DATE:20220427
DTSTAMP:20260425T075914
CREATED:20211215T172029Z
LAST-MODIFIED:20211215T172029Z
UID:5723-1650931200-1651017599@calendarioacademico.libertadores.edu.co
SUMMARY:Fecha límite para el pago de derechos de grado por ventanilla - Pregrado 2022-1
DESCRIPTION:
URL:https://calendarioacademico.libertadores.edu.co/event/fecha-limite-para-el-pago-de-derechos-de-grado-por-ventanilla-pregrado-2022-1-3/
LOCATION:Fundación Universitaria Los Libertadores\, Carrera 16 # 63 A - 68\, Bogotá D.C.\, 110011\, Colombia
ORGANIZER;CN="Fundaci%C3%B3n Universitaria Los Libertadores":MAILTO:infopresencial@libertadores.edu.co
END:VEVENT
BEGIN:VEVENT
DTSTART;TZID=America/New_York:20220425T080000
DTEND;TZID=America/New_York:20220603T170000
DTSTAMP:20260425T075914
CREATED:20211215T141446Z
LAST-MODIFIED:20211215T141446Z
UID:5522-1650873600-1654275600@calendarioacademico.libertadores.edu.co
SUMMARY:Evaluación integral de profesores
DESCRIPTION:Evaluación integral de profesores
URL:https://calendarioacademico.libertadores.edu.co/event/evaluacion-integral-de-profesores/
LOCATION:Fundación Universitaria Los Libertadores\, Carrera 16 # 63 A - 68\, Bogotá D.C.\, 110011\, Colombia
ORGANIZER;CN="Fundaci%C3%B3n Universitaria Los Libertadores":MAILTO:infopresencial@libertadores.edu.co
END:VEVENT
BEGIN:VEVENT
DTSTART;TZID=America/New_York:20220425T080000
DTEND;TZID=America/New_York:20220429T170000
DTSTAMP:20260425T075914
CREATED:20211214T202840Z
LAST-MODIFIED:20211214T202840Z
UID:5250-1650873600-1651251600@calendarioacademico.libertadores.edu.co
SUMMARY:Desarrollo Escuela de Verano Internacionalización
DESCRIPTION:Desarrollo Escuela de Verano Internacionalización
URL:https://calendarioacademico.libertadores.edu.co/event/desarrollo-escuela-de-verano-internacionalizacion/
LOCATION:Fundación Universitaria Los Libertadores\, Carrera 16 # 63 A - 68\, Bogotá D.C.\, 110011\, Colombia
ORGANIZER;CN="Fundaci%C3%B3n Universitaria Los Libertadores":MAILTO:infopresencial@libertadores.edu.co
END:VEVENT
BEGIN:VEVENT
DTSTART;TZID=America/New_York:20220425T073000
DTEND;TZID=America/New_York:20220504T170000
DTSTAMP:20260425T075914
CREATED:20211215T161417Z
LAST-MODIFIED:20211215T161417Z
UID:5646-1650871800-1651683600@calendarioacademico.libertadores.edu.co
SUMMARY:Fecha de inscripción a grados por Ulises y radicación de solicitudes ante Facultad - Grados por ventanilla - Pregrado 2022-1
DESCRIPTION:
URL:https://calendarioacademico.libertadores.edu.co/event/fecha-de-inscripcion-a-grados-por-ulises-y-radicacion-de-solicitudes-ante-facultad-grados-por-ventanilla-pregrado-2022-1-4/
LOCATION:Fundación Universitaria Los Libertadores\, Carrera 16 # 63 A - 68\, Bogotá D.C.\, 110011\, Colombia
ORGANIZER;CN="Fundaci%C3%B3n Universitaria Los Libertadores":MAILTO:infopresencial@libertadores.edu.co
END:VEVENT
BEGIN:VEVENT
DTSTART;VALUE=DATE:20220425
DTEND;VALUE=DATE:20220426
DTSTAMP:20260425T075914
CREATED:20211220T202259Z
LAST-MODIFIED:20211220T202259Z
UID:6059-1650844800-1650931199@calendarioacademico.libertadores.edu.co
SUMMARY:Publicación de recibos estudiantes antiguos Posgrado Trimestral 2022-2
DESCRIPTION:Publicación de recibos estudiantes antiguos Posgrado Trimestral 2022-2
URL:https://calendarioacademico.libertadores.edu.co/event/publicacion-de-recibos-estudiantes-antiguos-posgrado-trimestral-2022-2/
LOCATION:Fundación Universitaria Los Libertadores\, Carrera 16 # 63 A - 68\, Bogotá D.C.\, 110011\, Colombia
ORGANIZER;CN="Fundaci%C3%B3n Universitaria Los Libertadores":MAILTO:infopresencial@libertadores.edu.co
END:VEVENT
BEGIN:VEVENT
DTSTART;TZID=America/New_York:20220421T080000
DTEND;TZID=America/New_York:20220423T170000
DTSTAMP:20260425T075914
CREATED:20211220T223327Z
LAST-MODIFIED:20211220T223327Z
UID:6147-1650528000-1650733200@calendarioacademico.libertadores.edu.co
SUMMARY:Registro y selección de horarios Posgrado Trimestral 2022-1
DESCRIPTION:Registro y selección de horarios Posgrado Trimestral 2022-1
URL:https://calendarioacademico.libertadores.edu.co/event/registro-y-seleccion-de-horarios-posgrado-trimestral-2022-1/
LOCATION:Fundación Universitaria Los Libertadores\, Carrera 16 # 63 A - 68\, Bogotá D.C.\, 110011\, Colombia
ORGANIZER;CN="Fundaci%C3%B3n Universitaria Los Libertadores":MAILTO:infopresencial@libertadores.edu.co
END:VEVENT
BEGIN:VEVENT
DTSTART;TZID=America/New_York:20220421T080000
DTEND;TZID=America/New_York:20220422T170000
DTSTAMP:20260425T075914
CREATED:20211220T223012Z
LAST-MODIFIED:20211220T223012Z
UID:6143-1650528000-1650646800@calendarioacademico.libertadores.edu.co
SUMMARY:Novedades cierre Posgrado Trimestral 2022-1
DESCRIPTION:Novedades cierre Posgrado Trimestral 2022-1
URL:https://calendarioacademico.libertadores.edu.co/event/novedades-cierre-posgrado-trimestral-2022-1/
LOCATION:Fundación Universitaria Los Libertadores\, Carrera 16 # 63 A - 68\, Bogotá D.C.\, 110011\, Colombia
ORGANIZER;CN="Fundaci%C3%B3n Universitaria Los Libertadores":MAILTO:infopresencial@libertadores.edu.co
END:VEVENT
BEGIN:VEVENT
DTSTART;VALUE=DATE:20220421
DTEND;VALUE=DATE:20220422
DTSTAMP:20260425T075914
CREATED:20211220T222656Z
LAST-MODIFIED:20211220T222656Z
UID:6138-1650499200-1650585599@calendarioacademico.libertadores.edu.co
SUMMARY:Publicación de calificaciones Posgrado Trimestral 2022-1
DESCRIPTION:Publicación de calificaciones Posgrado Trimestral 2022-1
URL:https://calendarioacademico.libertadores.edu.co/event/publicacion-de-calificaciones-posgrado-trimestral-2022-1/
LOCATION:Fundación Universitaria Los Libertadores\, Carrera 16 # 63 A - 68\, Bogotá D.C.\, 110011\, Colombia
ORGANIZER;CN="Fundaci%C3%B3n Universitaria Los Libertadores":MAILTO:infopresencial@libertadores.edu.co
END:VEVENT
BEGIN:VEVENT
DTSTART;VALUE=DATE:20220421
DTEND;VALUE=DATE:20220422
DTSTAMP:20260425T075914
CREATED:20211215T170141Z
LAST-MODIFIED:20211215T170141Z
UID:5706-1650499200-1650585599@calendarioacademico.libertadores.edu.co
SUMMARY:Fecha límite para radicar documentación pendiente ante Admisiones y Registro - Grados por ventanilla - Pregrado 2022-1
DESCRIPTION:*(No se incluyen los requisitos para el título estipulados en el artículo 97 del Reglamento Estudiantil)
URL:https://calendarioacademico.libertadores.edu.co/event/fecha-limite-para-radicar-documentacion-pendiente-ante-admisiones-y-registro-grados-por-ventanilla-pregrado-2022-1-3/
LOCATION:Fundación Universitaria Los Libertadores\, Carrera 16 # 63 A - 68\, Bogotá D.C.\, 110011\, Colombia
ORGANIZER;CN="Fundaci%C3%B3n Universitaria Los Libertadores":MAILTO:infopresencial@libertadores.edu.co
END:VEVENT
BEGIN:VEVENT
DTSTART;VALUE=DATE:20220421
DTEND;VALUE=DATE:20220422
DTSTAMP:20260425T075914
CREATED:20211215T152413Z
LAST-MODIFIED:20211215T152413Z
UID:5609-1650499200-1650585599@calendarioacademico.libertadores.edu.co
SUMMARY:Presentación - Preparatorios - Pregrado 2022-1
DESCRIPTION:
URL:https://calendarioacademico.libertadores.edu.co/event/presentacion-preparatorios-pregrado-2022-1-3/
LOCATION:Fundación Universitaria Los Libertadores\, Carrera 16 # 63 A - 68\, Bogotá D.C.\, 110011\, Colombia
ORGANIZER;CN="Fundaci%C3%B3n Universitaria Los Libertadores":MAILTO:infopresencial@libertadores.edu.co
END:VEVENT
BEGIN:VEVENT
DTSTART;VALUE=DATE:20220420
DTEND;VALUE=DATE:20220421
DTSTAMP:20260425T075914
CREATED:20211220T222007Z
LAST-MODIFIED:20211220T222007Z
UID:6134-1650412800-1650499199@calendarioacademico.libertadores.edu.co
SUMMARY:Cierre Posgrado Trimestral 2022-1
DESCRIPTION:Cierre Posgrado Trimestral 2022-1
URL:https://calendarioacademico.libertadores.edu.co/event/cierre-posgrado-trimestral-2022-1/
LOCATION:Fundación Universitaria Los Libertadores\, Carrera 16 # 63 A - 68\, Bogotá D.C.\, 110011\, Colombia
ORGANIZER;CN="Fundaci%C3%B3n Universitaria Los Libertadores":MAILTO:infopresencial@libertadores.edu.co
END:VEVENT
BEGIN:VEVENT
DTSTART;VALUE=DATE:20220420
DTEND;VALUE=DATE:20220421
DTSTAMP:20260425T075914
CREATED:20211215T170725Z
LAST-MODIFIED:20211215T170725Z
UID:5715-1650412800-1650499199@calendarioacademico.libertadores.edu.co
SUMMARY:Publicación del recibo de derechos de grado por ventanilla - Pregrado 2022-1
DESCRIPTION:
URL:https://calendarioacademico.libertadores.edu.co/event/publicacion-del-recibo-de-derechos-de-grado-por-ventanilla-pregrado-2022-1-3/
LOCATION:Fundación Universitaria Los Libertadores\, Carrera 16 # 63 A - 68\, Bogotá D.C.\, 110011\, Colombia
ORGANIZER;CN="Fundaci%C3%B3n Universitaria Los Libertadores":MAILTO:infopresencial@libertadores.edu.co
END:VEVENT
BEGIN:VEVENT
DTSTART;TZID=America/New_York:20220419T080000
DTEND;TZID=America/New_York:20220429T170000
DTSTAMP:20260425T075914
CREATED:20211220T201844Z
LAST-MODIFIED:20211220T201844Z
UID:6055-1650355200-1651251600@calendarioacademico.libertadores.edu.co
SUMMARY:Matricula pago ordinario admitidos Posgrado Trimestral 2022-2
DESCRIPTION:Matricula pago ordinario admitidos Posgrado Trimestral 2022-2
URL:https://calendarioacademico.libertadores.edu.co/event/matricula-pago-ordinario-admitidos-posgrado-trimestral-2022-2/
LOCATION:Fundación Universitaria Los Libertadores\, Carrera 16 # 63 A - 68\, Bogotá D.C.\, 110011\, Colombia
ORGANIZER;CN="Fundaci%C3%B3n Universitaria Los Libertadores":MAILTO:infopresencial@libertadores.edu.co
END:VEVENT
BEGIN:VEVENT
DTSTART;TZID=America/New_York:20220418T080000
DTEND;TZID=America/New_York:20220419T170000
DTSTAMP:20260425T075914
CREATED:20211220T221729Z
LAST-MODIFIED:20211220T221729Z
UID:6130-1650268800-1650387600@calendarioacademico.libertadores.edu.co
SUMMARY:Entrega de novedades Posgrado Trimestral 2022-1
DESCRIPTION:Entrega de novedades Posgrado Trimestral 2022-1
URL:https://calendarioacademico.libertadores.edu.co/event/entrega-de-novedades-posgrado-trimestral-2022-1/
LOCATION:Fundación Universitaria Los Libertadores\, Carrera 16 # 63 A - 68\, Bogotá D.C.\, 110011\, Colombia
ORGANIZER;CN="Fundaci%C3%B3n Universitaria Los Libertadores":MAILTO:infopresencial@libertadores.edu.co
END:VEVENT
BEGIN:VEVENT
DTSTART;VALUE=DATE:20220415
DTEND;VALUE=DATE:20220416
DTSTAMP:20260425T075914
CREATED:20211215T164837Z
LAST-MODIFIED:20211215T164837Z
UID:5691-1649980800-1650067199@calendarioacademico.libertadores.edu.co
SUMMARY:Consulta del resultado del trámite de paz y salvos por el sistema Ulises - Grados por ventanilla - Pregrado 2022-1
DESCRIPTION:*Únicamente para los candidatos a grado que legalizaron la inscripción ante Facultad
URL:https://calendarioacademico.libertadores.edu.co/event/consulta-del-resultado-del-tramite-de-paz-y-salvos-por-el-sistema-ulises-grados-por-ventanilla-pregrado-2022-1-3/
LOCATION:Fundación Universitaria Los Libertadores\, Carrera 16 # 63 A - 68\, Bogotá D.C.\, 110011\, Colombia
ORGANIZER;CN="Fundaci%C3%B3n Universitaria Los Libertadores":MAILTO:infopresencial@libertadores.edu.co
END:VEVENT
BEGIN:VEVENT
DTSTART;TZID=America/New_York:20220411T073000
DTEND;TZID=America/New_York:20220417T170000
DTSTAMP:20260425T075914
CREATED:20211214T130914Z
LAST-MODIFIED:20211214T130914Z
UID:5073-1649662200-1650214800@calendarioacademico.libertadores.edu.co
SUMMARY:Semana Santa
DESCRIPTION:
URL:https://calendarioacademico.libertadores.edu.co/event/semana-santa/
LOCATION:Bogotá D.C.
END:VEVENT
BEGIN:VEVENT
DTSTART;VALUE=DATE:20220411
DTEND;VALUE=DATE:20220412
DTSTAMP:20260425T075914
CREATED:20211215T134133Z
LAST-MODIFIED:20211215T134133Z
UID:5498-1649635200-1649721599@calendarioacademico.libertadores.edu.co
SUMMARY:Curso de formación en investigación
DESCRIPTION:El curso de formación en investigación se realizará en modalidad virtual.
URL:https://calendarioacademico.libertadores.edu.co/event/curso-de-formacion-en-investigacion/
LOCATION:Fundación Universitaria Los Libertadores\, Carrera 16 # 63 A - 68\, Bogotá D.C.\, 110011\, Colombia
ORGANIZER;CN="Fundaci%C3%B3n Universitaria Los Libertadores":MAILTO:infopresencial@libertadores.edu.co
END:VEVENT
END:VCALENDAR