BEGIN:VCALENDAR
VERSION:2.0
PRODID:-//Calendario Académico - ECPv6.15.20//NONSGML v1.0//EN
CALSCALE:GREGORIAN
METHOD:PUBLISH
X-WR-CALNAME:Calendario Académico
X-ORIGINAL-URL:https://calendarioacademico.libertadores.edu.co
X-WR-CALDESC:Eventos para Calendario Académico
REFRESH-INTERVAL;VALUE=DURATION:PT1H
X-Robots-Tag:noindex
X-PUBLISHED-TTL:PT1H
BEGIN:VTIMEZONE
TZID:America/New_York
BEGIN:DAYLIGHT
TZOFFSETFROM:-0500
TZOFFSETTO:-0400
TZNAME:EDT
DTSTART:20210314T070000
END:DAYLIGHT
BEGIN:STANDARD
TZOFFSETFROM:-0400
TZOFFSETTO:-0500
TZNAME:EST
DTSTART:20211107T060000
END:STANDARD
BEGIN:DAYLIGHT
TZOFFSETFROM:-0500
TZOFFSETTO:-0400
TZNAME:EDT
DTSTART:20220313T070000
END:DAYLIGHT
BEGIN:STANDARD
TZOFFSETFROM:-0400
TZOFFSETTO:-0500
TZNAME:EST
DTSTART:20221106T060000
END:STANDARD
BEGIN:DAYLIGHT
TZOFFSETFROM:-0500
TZOFFSETTO:-0400
TZNAME:EDT
DTSTART:20230312T070000
END:DAYLIGHT
BEGIN:STANDARD
TZOFFSETFROM:-0400
TZOFFSETTO:-0500
TZNAME:EST
DTSTART:20231105T060000
END:STANDARD
END:VTIMEZONE
BEGIN:VEVENT
DTSTART;VALUE=DATE:20220410
DTEND;VALUE=DATE:20220411
DTSTAMP:20260425T130359
CREATED:20211220T220244Z
LAST-MODIFIED:20211220T220244Z
UID:6124-1649548800-1649635199@calendarioacademico.libertadores.edu.co
SUMMARY:Digitación de notas Posgrado Trimestral 2022-1
DESCRIPTION:La digitación de notas de los Posgrados Trimestral 2022-1 será hasta el 10 de abril.
URL:https://calendarioacademico.libertadores.edu.co/event/digitacion-de-notas-posgrado-trimestral-2022-1/
LOCATION:Fundación Universitaria Los Libertadores\, Carrera 16 # 63 A - 68\, Bogotá D.C.\, 110011\, Colombia
ORGANIZER;CN="Fundaci%C3%B3n Universitaria Los Libertadores":MAILTO:infopresencial@libertadores.edu.co
END:VEVENT
BEGIN:VEVENT
DTSTART;VALUE=DATE:20220408
DTEND;VALUE=DATE:20220409
DTSTAMP:20260425T130359
CREATED:20211221T134417Z
LAST-MODIFIED:20211221T135340Z
UID:6168-1649376000-1649462399@calendarioacademico.libertadores.edu.co
SUMMARY:Grados Colectivos CARTAGENA – Posgrados Trimestrales 2022-1
DESCRIPTION:Grados Colectivos CARTAGENA – Posgrados Trimestrales 2022-1
URL:https://calendarioacademico.libertadores.edu.co/event/grados-colectivos-cartagena-posgrados-trimestrales-2022-1/
LOCATION:Fundación Universitaria Los Libertadores – Cartagena\, Calle 31 No. 19 - 51\, Cartagena\, Cartagena de Indias\, 130001\, Colombia
ORGANIZER;CN="Fundaci%C3%B3n Universitaria Los Libertadores":MAILTO:infopresencial@libertadores.edu.co
END:VEVENT
BEGIN:VEVENT
DTSTART;VALUE=DATE:20220408
DTEND;VALUE=DATE:20220409
DTSTAMP:20260425T130359
CREATED:20211219T222007Z
LAST-MODIFIED:20220107T150305Z
UID:5943-1649376000-1649462399@calendarioacademico.libertadores.edu.co
SUMMARY:Primera fecha de grados colectivos CARTAGENA
DESCRIPTION:Grados colectivos CARTAGENA – Posgrados presenciales semestrales 2022-1
URL:https://calendarioacademico.libertadores.edu.co/event/primera-fecha-de-grados-colectivos-cartagena-posgrado-semestral-presencial-2022-1/
LOCATION:Fundación Universitaria Los Libertadores\, Carrera 16 # 63 A - 68\, Bogotá D.C.\, 110011\, Colombia
ORGANIZER;CN="Fundaci%C3%B3n Universitaria Los Libertadores":MAILTO:infopresencial@libertadores.edu.co
END:VEVENT
BEGIN:VEVENT
DTSTART;VALUE=DATE:20220408
DTEND;VALUE=DATE:20220409
DTSTAMP:20260425T130359
CREATED:20211215T210727Z
LAST-MODIFIED:20211215T210727Z
UID:5853-1649376000-1649462399@calendarioacademico.libertadores.edu.co
SUMMARY:Ceremonias de grado Cartagena Grados Colectivos - Pregrado 2022-1
DESCRIPTION:Ceremonias de grado Cartagena Grados Colectivos – Pregrado 2022-1
URL:https://calendarioacademico.libertadores.edu.co/event/ceremonias-de-grado-cartagena-grados-colectivos-pregrado-2022-1/
LOCATION:Fundación Universitaria Los Libertadores\, Carrera 16 # 63 A - 68\, Bogotá D.C.\, 110011\, Colombia
ORGANIZER;CN="Fundaci%C3%B3n Universitaria Los Libertadores":MAILTO:infopresencial@libertadores.edu.co
END:VEVENT
BEGIN:VEVENT
DTSTART;TZID=America/New_York:20220407T073000
DTEND;TZID=America/New_York:20220407T170000
DTSTAMP:20260425T130359
CREATED:20211215T163426Z
LAST-MODIFIED:20211215T163426Z
UID:5664-1649316600-1649350800@calendarioacademico.libertadores.edu.co
SUMMARY:Radicación de solicitudes de grado en Dirección de Admisiones y Registro - Grados por ventanilla - Pregrado 2022-1
DESCRIPTION:
URL:https://calendarioacademico.libertadores.edu.co/event/radicacion-de-solicitudes-de-grado-en-direccion-de-admisiones-y-registro-grados-por-ventanilla-pregrado-2022-1-2/
LOCATION:Fundación Universitaria Los Libertadores\, Carrera 16 # 63 A - 68\, Bogotá D.C.\, 110011\, Colombia
ORGANIZER;CN="Fundaci%C3%B3n Universitaria Los Libertadores":MAILTO:infopresencial@libertadores.edu.co
END:VEVENT
BEGIN:VEVENT
DTSTART;VALUE=DATE:20220407
DTEND;VALUE=DATE:20220408
DTSTAMP:20260425T130359
CREATED:20211215T163615Z
LAST-MODIFIED:20211215T163615Z
UID:5668-1649289600-1649375999@calendarioacademico.libertadores.edu.co
SUMMARY:Radicación de solicitudes de grado en Dirección de Admisiones y Registro - Grados por ventanilla - Pregrado 2022-1
DESCRIPTION:
URL:https://calendarioacademico.libertadores.edu.co/event/radicacion-de-solicitudes-de-grado-en-direccion-de-admisiones-y-registro-grados-por-ventanilla-pregrado-2022-1-4/
LOCATION:Fundación Universitaria Los Libertadores\, Carrera 16 # 63 A - 68\, Bogotá D.C.\, 110011\, Colombia
ORGANIZER;CN="Fundaci%C3%B3n Universitaria Los Libertadores":MAILTO:infopresencial@libertadores.edu.co
END:VEVENT
BEGIN:VEVENT
DTSTART;TZID=America/New_York:20220406T073000
DTEND;TZID=America/New_York:20220407T170000
DTSTAMP:20260425T130359
CREATED:20211214T204159Z
LAST-MODIFIED:20211215T075220Z
UID:5268-1649230200-1649350800@calendarioacademico.libertadores.edu.co
SUMMARY:Entrega de novedades I - Pregrado
DESCRIPTION:
URL:https://calendarioacademico.libertadores.edu.co/event/entrega-de-novedades-pregrado/
LOCATION:Fundación Universitaria Los Libertadores\, Carrera 16 # 63 A - 68\, Bogotá D.C.\, 110011\, Colombia
ORGANIZER;CN="Fundaci%C3%B3n Universitaria Los Libertadores":MAILTO:infopresencial@libertadores.edu.co
END:VEVENT
BEGIN:VEVENT
DTSTART;VALUE=DATE:20220406
DTEND;VALUE=DATE:20220407
DTSTAMP:20260425T130359
CREATED:20211215T161824Z
LAST-MODIFIED:20211215T161824Z
UID:5652-1649203200-1649289599@calendarioacademico.libertadores.edu.co
SUMMARY:Trámite de paz y salvo académico (hoja académica\, opción de grado y Saber TyT o Saber Pro) - Grados por ventanilla - Pregrado 2022-1
DESCRIPTION:
URL:https://calendarioacademico.libertadores.edu.co/event/tramite-de-paz-y-salvo-academico-hoja-academica-opcion-de-grado-y-saber-tyt-o-saber-pro-grados-por-ventanilla-pregrado-2022-1-3/
LOCATION:Fundación Universitaria Los Libertadores\, Carrera 16 # 63 A - 68\, Bogotá D.C.\, 110011\, Colombia
ORGANIZER;CN="Fundaci%C3%B3n Universitaria Los Libertadores":MAILTO:infopresencial@libertadores.edu.co
END:VEVENT
BEGIN:VEVENT
DTSTART;TZID=America/New_York:20220404T080000
DTEND;TZID=America/New_York:20220701T170000
DTSTAMP:20260425T130359
CREATED:20211214T202645Z
LAST-MODIFIED:20211214T202645Z
UID:5244-1649059200-1656694800@calendarioacademico.libertadores.edu.co
SUMMARY:Pago Escuela de Verano Internacionalización
DESCRIPTION:Pago Escuela de Verano Internacionalización
URL:https://calendarioacademico.libertadores.edu.co/event/pago-escuela-de-verano-internacionalizacion/
LOCATION:Fundación Universitaria Los Libertadores\, Carrera 16 # 63 A - 68\, Bogotá D.C.\, 110011\, Colombia
ORGANIZER;CN="Fundaci%C3%B3n Universitaria Los Libertadores":MAILTO:infopresencial@libertadores.edu.co
END:VEVENT
BEGIN:VEVENT
DTSTART;TZID=America/New_York:20220404T080000
DTEND;TZID=America/New_York:20220418T170000
DTSTAMP:20260425T130359
CREATED:20220106T211518Z
LAST-MODIFIED:20220106T211840Z
UID:6389-1649059200-1650301200@calendarioacademico.libertadores.edu.co
SUMMARY:Generación de resultados de la autoevaluación de posgrados
DESCRIPTION:Generación de resultados de encuestas Posgrado Presencial Semestre 2022-1
URL:https://calendarioacademico.libertadores.edu.co/event/generacion-de-resultados-de-la-autoevaluacion-posgrados-semestrales-virtual-distancia-2022-1/
LOCATION:Fundación Universitaria Los Libertadores\, Carrera 16 # 63 A - 68\, Bogotá D.C.\, 110011\, Colombia
ORGANIZER;CN="Fundaci%C3%B3n Universitaria Los Libertadores":MAILTO:infopresencial@libertadores.edu.co
END:VEVENT
BEGIN:VEVENT
DTSTART;TZID=America/New_York:20220404T080000
DTEND;TZID=America/New_York:20220418T170000
DTSTAMP:20260425T130359
CREATED:20211220T225034Z
LAST-MODIFIED:20211220T230421Z
UID:6154-1649059200-1650301200@calendarioacademico.libertadores.edu.co
SUMMARY:Generación de resultados Posgrado Trimestral 2022
DESCRIPTION:Generación de resultados Posgrado Trimestral 2022
URL:https://calendarioacademico.libertadores.edu.co/event/generacion-de-resultados-posgrado-trimestral-2022/
LOCATION:Fundación Universitaria Los Libertadores\, Carrera 16 # 63 A - 68\, Bogotá D.C.\, 110011\, Colombia
ORGANIZER;CN="Fundaci%C3%B3n Universitaria Los Libertadores":MAILTO:infopresencial@libertadores.edu.co
END:VEVENT
BEGIN:VEVENT
DTSTART;TZID=America/New_York:20220404T080000
DTEND;TZID=America/New_York:20220418T170000
DTSTAMP:20260425T130359
CREATED:20211216T231306Z
LAST-MODIFIED:20220106T211433Z
UID:5935-1649059200-1650301200@calendarioacademico.libertadores.edu.co
SUMMARY:Generación de resultados de la autoevaluación de posgrados
DESCRIPTION:Generación de resultados de encuestas Posgrado Presencial Semestre 2022-1
URL:https://calendarioacademico.libertadores.edu.co/event/generacion-de-resultados-de-la-autoevaluacion-posgrados-semestrales-presenciales-2022-1/
LOCATION:Fundación Universitaria Los Libertadores\, Carrera 16 # 63 A - 68\, Bogotá D.C.\, 110011\, Colombia
ORGANIZER;CN="Fundaci%C3%B3n Universitaria Los Libertadores":MAILTO:infopresencial@libertadores.edu.co
END:VEVENT
BEGIN:VEVENT
DTSTART;TZID=America/New_York:20220404T080000
DTEND;TZID=America/New_York:20220418T170000
DTSTAMP:20260425T130359
CREATED:20211215T143927Z
LAST-MODIFIED:20220301T155408Z
UID:5539-1649059200-1650301200@calendarioacademico.libertadores.edu.co
SUMMARY:Generación de resultados encuestas pregrado-S1Pr
DESCRIPTION:Generación y entrega de resultados.
URL:https://calendarioacademico.libertadores.edu.co/event/generacion-y-entrega-de-resultados/
LOCATION:Fundación Universitaria Los Libertadores\, Carrera 16 # 63 A - 68\, Bogotá D.C.\, 110011\, Colombia
ORGANIZER;CN="Fundaci%C3%B3n Universitaria Los Libertadores":MAILTO:infopresencial@libertadores.edu.co
END:VEVENT
BEGIN:VEVENT
DTSTART;TZID=America/New_York:20220404T080000
DTEND;TZID=America/New_York:20220407T170000
DTSTAMP:20260425T130359
CREATED:20211221T134630Z
LAST-MODIFIED:20211221T135404Z
UID:6170-1649059200-1649350800@calendarioacademico.libertadores.edu.co
SUMMARY:Grados privados BOGOTÁ - Posgrados Trimestrales 2022-1
DESCRIPTION:Grados privados BOGOTÁ – Posgrados Trimestrales 2022-1
URL:https://calendarioacademico.libertadores.edu.co/event/grados-privados-bogota-posgrados-trimestrales-2022-1/
LOCATION:Fundación Universitaria Los Libertadores\, Carrera 16 # 63 A - 68\, Bogotá D.C.\, 110011\, Colombia
ORGANIZER;CN="Fundaci%C3%B3n Universitaria Los Libertadores":MAILTO:infopresencial@libertadores.edu.co
END:VEVENT
BEGIN:VEVENT
DTSTART;TZID=America/New_York:20220404T080000
DTEND;TZID=America/New_York:20220407T170000
DTSTAMP:20260425T130359
CREATED:20211220T181152Z
LAST-MODIFIED:20220107T191940Z
UID:6031-1649059200-1649350800@calendarioacademico.libertadores.edu.co
SUMMARY:Primera fecha de grados privados BOGOTÁ
DESCRIPTION:Grados privados BOGOTÁ – Posgrados Virtuales y a Distancia semestrales 2022-1
URL:https://calendarioacademico.libertadores.edu.co/event/primera-fecha-de-grados-privados-bogota-posgrado-semestral-virtual-distancia-2022-1/
LOCATION:Fundación Universitaria Los Libertadores\, Carrera 16 # 63 A - 68\, Bogotá D.C.\, 110011\, Colombia
ORGANIZER;CN="Fundaci%C3%B3n Universitaria Los Libertadores":MAILTO:infopresencial@libertadores.edu.co
END:VEVENT
BEGIN:VEVENT
DTSTART;TZID=America/New_York:20220404T080000
DTEND;TZID=America/New_York:20220407T170000
DTSTAMP:20260425T130359
CREATED:20211219T222531Z
LAST-MODIFIED:20220107T170615Z
UID:5945-1649059200-1649350800@calendarioacademico.libertadores.edu.co
SUMMARY:Primera fecha de grados privados BOGOTÁ
DESCRIPTION:Grados privados BOGOTÁ – Posgrados presenciales semestrales 2022-1
URL:https://calendarioacademico.libertadores.edu.co/event/primera-fecha-de-grados-privados-bogota-posgrado-semestral-presencial-2022-1/
LOCATION:Fundación Universitaria Los Libertadores\, Carrera 16 # 63 A - 68\, Bogotá D.C.\, 110011\, Colombia
ORGANIZER;CN="Fundaci%C3%B3n Universitaria Los Libertadores":MAILTO:infopresencial@libertadores.edu.co
END:VEVENT
BEGIN:VEVENT
DTSTART;TZID=America/New_York:20220404T080000
DTEND;TZID=America/New_York:20220407T170000
DTSTAMP:20260425T130359
CREATED:20211216T183056Z
LAST-MODIFIED:20211216T183056Z
UID:5929-1649059200-1649350800@calendarioacademico.libertadores.edu.co
SUMMARY:Ceremonias de grado Privadas en Bogotá Grados Privados Pregrado 2022-1
DESCRIPTION:Ceremonias de grado Privadas en Bogotá.
URL:https://calendarioacademico.libertadores.edu.co/event/ceremonias-de-grado-privadas-en-bogota-grados-privados-pregrado-2022-1/
LOCATION:Fundación Universitaria Los Libertadores\, Carrera 16 # 63 A - 68\, Bogotá D.C.\, 110011\, Colombia
ORGANIZER;CN="Fundaci%C3%B3n Universitaria Los Libertadores":MAILTO:infopresencial@libertadores.edu.co
END:VEVENT
BEGIN:VEVENT
DTSTART;TZID=America/New_York:20220404T073000
DTEND;TZID=America/New_York:20220817T170000
DTSTAMP:20260425T130359
CREATED:20211215T164028Z
LAST-MODIFIED:20211215T164028Z
UID:5678-1649057400-1660755600@calendarioacademico.libertadores.edu.co
SUMMARY:Trámite de paz  y salvos - Grados por ventanilla - Pregrado 2022-1
DESCRIPTION:(Biblioteca\, Financiero\, Egresados y de documentación)
URL:https://calendarioacademico.libertadores.edu.co/event/tramite-de-paz-y-salvos-grados-por-ventanilla-pregrado-2022-1-3/
LOCATION:Fundación Universitaria Los Libertadores\, Carrera 16 # 63 A - 68\, Bogotá D.C.\, 110011\, Colombia
ORGANIZER;CN="Fundaci%C3%B3n Universitaria Los Libertadores":MAILTO:infopresencial@libertadores.edu.co
END:VEVENT
BEGIN:VEVENT
DTSTART;TZID=America/New_York:20220401T073000
DTEND;TZID=America/New_York:20220430T170000
DTSTAMP:20260425T130359
CREATED:20211215T135449Z
LAST-MODIFIED:20211215T135449Z
UID:5507-1648798200-1651338000@calendarioacademico.libertadores.edu.co
SUMMARY:Inscripción a grado por Ulises - Pregrado
DESCRIPTION:
URL:https://calendarioacademico.libertadores.edu.co/event/inscripcion-a-grado-por-ulises-pregrado-2/
LOCATION:Fundación Universitaria Los Libertadores\, Carrera 16 # 63 A - 68\, Bogotá D.C.\, 110011\, Colombia
ORGANIZER;CN="Fundaci%C3%B3n Universitaria Los Libertadores":MAILTO:infopresencial@libertadores.edu.co
END:VEVENT
BEGIN:VEVENT
DTSTART;VALUE=DATE:20220401
DTEND;VALUE=DATE:20220601
DTSTAMP:20260425T130359
CREATED:20220301T210653Z
LAST-MODIFIED:20220301T210653Z
UID:6910-1648771200-1654041599@calendarioacademico.libertadores.edu.co
SUMMARY:Participación en la Feria Internacional del Libro de Bogotá
DESCRIPTION:
URL:https://calendarioacademico.libertadores.edu.co/event/participacion-en-la-feria-internacional-del-libro-de-bogota/
LOCATION:Fundación Universitaria Los Libertadores\, Carrera 16 # 63 A - 68\, Bogotá D.C.\, 110011\, Colombia
ORGANIZER;CN="Fundaci%C3%B3n Universitaria Los Libertadores":MAILTO:infopresencial@libertadores.edu.co
END:VEVENT
BEGIN:VEVENT
DTSTART;VALUE=DATE:20220401
DTEND;VALUE=DATE:20220402
DTSTAMP:20260425T130359
CREATED:20211221T134222Z
LAST-MODIFIED:20211221T135419Z
UID:6166-1648771200-1648857599@calendarioacademico.libertadores.edu.co
SUMMARY:Grados Colectivos BOGOTÁ – Posgrados Trimestrales 2022-1
DESCRIPTION:Grados Colectivos BOGOTÁ – Posgrados Trimestrales 2022-1
URL:https://calendarioacademico.libertadores.edu.co/event/grados-colectivos-bogota-posgrados-trimestrales-2022-1/
LOCATION:Fundación Universitaria Los Libertadores\, Carrera 16 # 63 A - 68\, Bogotá D.C.\, 110011\, Colombia
ORGANIZER;CN="Fundaci%C3%B3n Universitaria Los Libertadores":MAILTO:infopresencial@libertadores.edu.co
END:VEVENT
BEGIN:VEVENT
DTSTART;VALUE=DATE:20220401
DTEND;VALUE=DATE:20220402
DTSTAMP:20260425T130359
CREATED:20211219T221513Z
LAST-MODIFIED:20220107T165926Z
UID:5940-1648771200-1648857599@calendarioacademico.libertadores.edu.co
SUMMARY:Primera fecha de grados colectivos BOGOTÁ
DESCRIPTION:Grados colectivos BOGOTÁ – Posgrados presenciales semestrales 2022-1
URL:https://calendarioacademico.libertadores.edu.co/event/primera-fecha-de-grados-colectivos-bogota-posgrado-semestral-presencial-2022-1/
LOCATION:Fundación Universitaria Los Libertadores\, Carrera 16 # 63 A - 68\, Bogotá D.C.\, 110011\, Colombia
ORGANIZER;CN="Fundaci%C3%B3n Universitaria Los Libertadores":MAILTO:infopresencial@libertadores.edu.co
END:VEVENT
BEGIN:VEVENT
DTSTART;VALUE=DATE:20220401
DTEND;VALUE=DATE:20220402
DTSTAMP:20260425T130359
CREATED:20211215T210202Z
LAST-MODIFIED:20211215T210202Z
UID:5848-1648771200-1648857599@calendarioacademico.libertadores.edu.co
SUMMARY:Ceremonias de grado Bogotá Grados Colectivos - Pregrado 2022-1
DESCRIPTION:Ceremonias de grado Bogotá Grados Colectivos – Pregrado 2022-1
URL:https://calendarioacademico.libertadores.edu.co/event/ceremonias-de-grado-bogota-grados-colectivos-pregrado-2022-1/
LOCATION:Fundación Universitaria Los Libertadores\, Carrera 16 # 63 A - 68\, Bogotá D.C.\, 110011\, Colombia
ORGANIZER;CN="Fundaci%C3%B3n Universitaria Los Libertadores":MAILTO:infopresencial@libertadores.edu.co
END:VEVENT
BEGIN:VEVENT
DTSTART;VALUE=DATE:20220331
DTEND;VALUE=DATE:20220401
DTSTAMP:20260425T130359
CREATED:20211214T215844Z
LAST-MODIFIED:20211214T215844Z
UID:5354-1648684800-1648771199@calendarioacademico.libertadores.edu.co
SUMMARY:Parametrización y actualización de opciones de grado en el sistema académico -  Grados pregrado2022-1
DESCRIPTION:
URL:https://calendarioacademico.libertadores.edu.co/event/parametrizacion-y-actualizacion-de-opciones-de-grado-en-el-sistema-academico-grados-pregrado2022-1-2/
LOCATION:Fundación Universitaria Los Libertadores\, Carrera 16 # 63 A - 68\, Bogotá D.C.\, 110011\, Colombia
ORGANIZER;CN="Fundaci%C3%B3n Universitaria Los Libertadores":MAILTO:infopresencial@libertadores.edu.co
END:VEVENT
BEGIN:VEVENT
DTSTART;TZID=America/New_York:20220328T073000
DTEND;TZID=America/New_York:20220514T170000
DTSTAMP:20260425T130359
CREATED:20211214T205920Z
LAST-MODIFIED:20211214T205920Z
UID:5270-1648452600-1652547600@calendarioacademico.libertadores.edu.co
SUMMARY:Segunda calificación parcial - Pregrado
DESCRIPTION:
URL:https://calendarioacademico.libertadores.edu.co/event/segunda-calificacion-parcial-pregrado/
LOCATION:Fundación Universitaria Los Libertadores\, Carrera 16 # 63 A - 68\, Bogotá D.C.\, 110011\, Colombia
ORGANIZER;CN="Fundaci%C3%B3n Universitaria Los Libertadores":MAILTO:infopresencial@libertadores.edu.co
END:VEVENT
BEGIN:VEVENT
DTSTART;VALUE=DATE:20220325
DTEND;VALUE=DATE:20220326
DTSTAMP:20260425T130359
CREATED:20211221T142254Z
LAST-MODIFIED:20211221T142254Z
UID:6195-1648166400-1648252799@calendarioacademico.libertadores.edu.co
SUMMARY:Emisión del Diploma y Acta de Grado - ciclos propedéuticos
DESCRIPTION:
URL:https://calendarioacademico.libertadores.edu.co/event/generacion-informe-para-postulacion-de-candidatos-ante-el-consejo-academico-propedeuticos-2-2/
LOCATION:Fundación Universitaria Los Libertadores\, Carrera 16 # 63 A - 68\, Bogotá D.C.\, 110011\, Colombia
ORGANIZER;CN="Fundaci%C3%B3n Universitaria Los Libertadores":MAILTO:infopresencial@libertadores.edu.co
END:VEVENT
BEGIN:VEVENT
DTSTART;VALUE=DATE:20220325
DTEND;VALUE=DATE:20220326
DTSTAMP:20260425T130359
CREATED:20211215T151645Z
LAST-MODIFIED:20211215T151645Z
UID:5588-1648166400-1648252799@calendarioacademico.libertadores.edu.co
SUMMARY:Publicación de orden de pago - Preparatorios - Pregrado 2022-1
DESCRIPTION:
URL:https://calendarioacademico.libertadores.edu.co/event/publicacion-de-orden-de-pago-preparatorios-pregrado-2022-1-3/
LOCATION:Fundación Universitaria Los Libertadores\, Carrera 16 # 63 A - 68\, Bogotá D.C.\, 110011\, Colombia
ORGANIZER;CN="Fundaci%C3%B3n Universitaria Los Libertadores":MAILTO:infopresencial@libertadores.edu.co
END:VEVENT
BEGIN:VEVENT
DTSTART;VALUE=DATE:20220325
DTEND;VALUE=DATE:20220326
DTSTAMP:20260425T130359
CREATED:20211215T150648Z
LAST-MODIFIED:20211215T160537Z
UID:5554-1648166400-1648252799@calendarioacademico.libertadores.edu.co
SUMMARY:Emisión del Diploma y Acta de Grado propedéuticos
DESCRIPTION:Emisión del Diploma y Acta de Grado propedéuticos.
URL:https://calendarioacademico.libertadores.edu.co/event/emision-del-diploma-y-acta-de-grado-propedeuticos/
LOCATION:Fundación Universitaria Los Libertadores\, Carrera 16 # 63 A - 68\, Bogotá D.C.\, 110011\, Colombia
ORGANIZER;CN="Fundaci%C3%B3n Universitaria Los Libertadores":MAILTO:infopresencial@libertadores.edu.co
END:VEVENT
BEGIN:VEVENT
DTSTART;TZID=America/New_York:20220323T073000
DTEND;TZID=America/New_York:20220324T170000
DTSTAMP:20260425T130359
CREATED:20211215T151224Z
LAST-MODIFIED:20211215T151224Z
UID:5578-1648020600-1648141200@calendarioacademico.libertadores.edu.co
SUMMARY:Novedades de inscripción - Preparatorios - Pregrado 2022-1
DESCRIPTION:
URL:https://calendarioacademico.libertadores.edu.co/event/novedades-de-inscripcion-preparatorios-pregrado-2022-1-3/
LOCATION:Fundación Universitaria Los Libertadores\, Carrera 16 # 63 A - 68\, Bogotá D.C.\, 110011\, Colombia
ORGANIZER;CN="Fundaci%C3%B3n Universitaria Los Libertadores":MAILTO:infopresencial@libertadores.edu.co
END:VEVENT
BEGIN:VEVENT
DTSTART;VALUE=DATE:20220323
DTEND;VALUE=DATE:20220324
DTSTAMP:20260425T130359
CREATED:20211216T182810Z
LAST-MODIFIED:20211216T182810Z
UID:5925-1647993600-1648079999@calendarioacademico.libertadores.edu.co
SUMMARY:Notificación de la aprobación de los grados privados Pregrado 2022-1
DESCRIPTION:Notificación oficial de la aprobación de grado mediante el correo electrónico Institucional.
URL:https://calendarioacademico.libertadores.edu.co/event/notificacion-de-la-aprobacion-de-los-grados-privados-pregrado-2022-1/
LOCATION:Fundación Universitaria Los Libertadores\, Carrera 16 # 63 A - 68\, Bogotá D.C.\, 110011\, Colombia
ORGANIZER;CN="Fundaci%C3%B3n Universitaria Los Libertadores":MAILTO:infopresencial@libertadores.edu.co
END:VEVENT
END:VCALENDAR