BEGIN:VCALENDAR
VERSION:2.0
PRODID:-//Calendario Académico - ECPv6.15.20//NONSGML v1.0//EN
CALSCALE:GREGORIAN
METHOD:PUBLISH
X-ORIGINAL-URL:https://calendarioacademico.libertadores.edu.co
X-WR-CALDESC:Eventos para Calendario Académico
REFRESH-INTERVAL;VALUE=DURATION:PT1H
X-Robots-Tag:noindex
X-PUBLISHED-TTL:PT1H
BEGIN:VTIMEZONE
TZID:America/New_York
BEGIN:DAYLIGHT
TZOFFSETFROM:-0500
TZOFFSETTO:-0400
TZNAME:EDT
DTSTART:20210314T070000
END:DAYLIGHT
BEGIN:STANDARD
TZOFFSETFROM:-0400
TZOFFSETTO:-0500
TZNAME:EST
DTSTART:20211107T060000
END:STANDARD
BEGIN:DAYLIGHT
TZOFFSETFROM:-0500
TZOFFSETTO:-0400
TZNAME:EDT
DTSTART:20220313T070000
END:DAYLIGHT
BEGIN:STANDARD
TZOFFSETFROM:-0400
TZOFFSETTO:-0500
TZNAME:EST
DTSTART:20221106T060000
END:STANDARD
BEGIN:DAYLIGHT
TZOFFSETFROM:-0500
TZOFFSETTO:-0400
TZNAME:EDT
DTSTART:20230312T070000
END:DAYLIGHT
BEGIN:STANDARD
TZOFFSETFROM:-0400
TZOFFSETTO:-0500
TZNAME:EST
DTSTART:20231105T060000
END:STANDARD
END:VTIMEZONE
BEGIN:VEVENT
DTSTART;VALUE=DATE:20220401
DTEND;VALUE=DATE:20220402
DTSTAMP:20260425T160659
CREATED:20211221T134222Z
LAST-MODIFIED:20211221T135419Z
UID:6166-1648771200-1648857599@calendarioacademico.libertadores.edu.co
SUMMARY:Grados Colectivos BOGOTÁ – Posgrados Trimestrales 2022-1
DESCRIPTION:Grados Colectivos BOGOTÁ – Posgrados Trimestrales 2022-1
URL:https://calendarioacademico.libertadores.edu.co/event/grados-colectivos-bogota-posgrados-trimestrales-2022-1/
LOCATION:Fundación Universitaria Los Libertadores\, Carrera 16 # 63 A - 68\, Bogotá D.C.\, 110011\, Colombia
ORGANIZER;CN="Fundaci%C3%B3n Universitaria Los Libertadores":MAILTO:infopresencial@libertadores.edu.co
END:VEVENT
BEGIN:VEVENT
DTSTART;VALUE=DATE:20220401
DTEND;VALUE=DATE:20220402
DTSTAMP:20260425T160659
CREATED:20211219T221513Z
LAST-MODIFIED:20220107T165926Z
UID:5940-1648771200-1648857599@calendarioacademico.libertadores.edu.co
SUMMARY:Primera fecha de grados colectivos BOGOTÁ
DESCRIPTION:Grados colectivos BOGOTÁ – Posgrados presenciales semestrales 2022-1
URL:https://calendarioacademico.libertadores.edu.co/event/primera-fecha-de-grados-colectivos-bogota-posgrado-semestral-presencial-2022-1/
LOCATION:Fundación Universitaria Los Libertadores\, Carrera 16 # 63 A - 68\, Bogotá D.C.\, 110011\, Colombia
ORGANIZER;CN="Fundaci%C3%B3n Universitaria Los Libertadores":MAILTO:infopresencial@libertadores.edu.co
END:VEVENT
BEGIN:VEVENT
DTSTART;VALUE=DATE:20220401
DTEND;VALUE=DATE:20220402
DTSTAMP:20260425T160659
CREATED:20211215T210202Z
LAST-MODIFIED:20211215T210202Z
UID:5848-1648771200-1648857599@calendarioacademico.libertadores.edu.co
SUMMARY:Ceremonias de grado Bogotá Grados Colectivos - Pregrado 2022-1
DESCRIPTION:Ceremonias de grado Bogotá Grados Colectivos – Pregrado 2022-1
URL:https://calendarioacademico.libertadores.edu.co/event/ceremonias-de-grado-bogota-grados-colectivos-pregrado-2022-1/
LOCATION:Fundación Universitaria Los Libertadores\, Carrera 16 # 63 A - 68\, Bogotá D.C.\, 110011\, Colombia
ORGANIZER;CN="Fundaci%C3%B3n Universitaria Los Libertadores":MAILTO:infopresencial@libertadores.edu.co
END:VEVENT
BEGIN:VEVENT
DTSTART;VALUE=DATE:20220331
DTEND;VALUE=DATE:20220401
DTSTAMP:20260425T160659
CREATED:20211214T215844Z
LAST-MODIFIED:20211214T215844Z
UID:5354-1648684800-1648771199@calendarioacademico.libertadores.edu.co
SUMMARY:Parametrización y actualización de opciones de grado en el sistema académico -  Grados pregrado2022-1
DESCRIPTION:
URL:https://calendarioacademico.libertadores.edu.co/event/parametrizacion-y-actualizacion-de-opciones-de-grado-en-el-sistema-academico-grados-pregrado2022-1-2/
LOCATION:Fundación Universitaria Los Libertadores\, Carrera 16 # 63 A - 68\, Bogotá D.C.\, 110011\, Colombia
ORGANIZER;CN="Fundaci%C3%B3n Universitaria Los Libertadores":MAILTO:infopresencial@libertadores.edu.co
END:VEVENT
BEGIN:VEVENT
DTSTART;TZID=America/New_York:20220328T073000
DTEND;TZID=America/New_York:20220514T170000
DTSTAMP:20260425T160659
CREATED:20211214T205920Z
LAST-MODIFIED:20211214T205920Z
UID:5270-1648452600-1652547600@calendarioacademico.libertadores.edu.co
SUMMARY:Segunda calificación parcial - Pregrado
DESCRIPTION:
URL:https://calendarioacademico.libertadores.edu.co/event/segunda-calificacion-parcial-pregrado/
LOCATION:Fundación Universitaria Los Libertadores\, Carrera 16 # 63 A - 68\, Bogotá D.C.\, 110011\, Colombia
ORGANIZER;CN="Fundaci%C3%B3n Universitaria Los Libertadores":MAILTO:infopresencial@libertadores.edu.co
END:VEVENT
BEGIN:VEVENT
DTSTART;VALUE=DATE:20220325
DTEND;VALUE=DATE:20220326
DTSTAMP:20260425T160659
CREATED:20211221T142254Z
LAST-MODIFIED:20211221T142254Z
UID:6195-1648166400-1648252799@calendarioacademico.libertadores.edu.co
SUMMARY:Emisión del Diploma y Acta de Grado - ciclos propedéuticos
DESCRIPTION:
URL:https://calendarioacademico.libertadores.edu.co/event/generacion-informe-para-postulacion-de-candidatos-ante-el-consejo-academico-propedeuticos-2-2/
LOCATION:Fundación Universitaria Los Libertadores\, Carrera 16 # 63 A - 68\, Bogotá D.C.\, 110011\, Colombia
ORGANIZER;CN="Fundaci%C3%B3n Universitaria Los Libertadores":MAILTO:infopresencial@libertadores.edu.co
END:VEVENT
BEGIN:VEVENT
DTSTART;VALUE=DATE:20220325
DTEND;VALUE=DATE:20220326
DTSTAMP:20260425T160659
CREATED:20211215T151645Z
LAST-MODIFIED:20211215T151645Z
UID:5588-1648166400-1648252799@calendarioacademico.libertadores.edu.co
SUMMARY:Publicación de orden de pago - Preparatorios - Pregrado 2022-1
DESCRIPTION:
URL:https://calendarioacademico.libertadores.edu.co/event/publicacion-de-orden-de-pago-preparatorios-pregrado-2022-1-3/
LOCATION:Fundación Universitaria Los Libertadores\, Carrera 16 # 63 A - 68\, Bogotá D.C.\, 110011\, Colombia
ORGANIZER;CN="Fundaci%C3%B3n Universitaria Los Libertadores":MAILTO:infopresencial@libertadores.edu.co
END:VEVENT
BEGIN:VEVENT
DTSTART;VALUE=DATE:20220325
DTEND;VALUE=DATE:20220326
DTSTAMP:20260425T160659
CREATED:20211215T150648Z
LAST-MODIFIED:20211215T160537Z
UID:5554-1648166400-1648252799@calendarioacademico.libertadores.edu.co
SUMMARY:Emisión del Diploma y Acta de Grado propedéuticos
DESCRIPTION:Emisión del Diploma y Acta de Grado propedéuticos.
URL:https://calendarioacademico.libertadores.edu.co/event/emision-del-diploma-y-acta-de-grado-propedeuticos/
LOCATION:Fundación Universitaria Los Libertadores\, Carrera 16 # 63 A - 68\, Bogotá D.C.\, 110011\, Colombia
ORGANIZER;CN="Fundaci%C3%B3n Universitaria Los Libertadores":MAILTO:infopresencial@libertadores.edu.co
END:VEVENT
BEGIN:VEVENT
DTSTART;TZID=America/New_York:20220323T073000
DTEND;TZID=America/New_York:20220324T170000
DTSTAMP:20260425T160659
CREATED:20211215T151224Z
LAST-MODIFIED:20211215T151224Z
UID:5578-1648020600-1648141200@calendarioacademico.libertadores.edu.co
SUMMARY:Novedades de inscripción - Preparatorios - Pregrado 2022-1
DESCRIPTION:
URL:https://calendarioacademico.libertadores.edu.co/event/novedades-de-inscripcion-preparatorios-pregrado-2022-1-3/
LOCATION:Fundación Universitaria Los Libertadores\, Carrera 16 # 63 A - 68\, Bogotá D.C.\, 110011\, Colombia
ORGANIZER;CN="Fundaci%C3%B3n Universitaria Los Libertadores":MAILTO:infopresencial@libertadores.edu.co
END:VEVENT
BEGIN:VEVENT
DTSTART;VALUE=DATE:20220323
DTEND;VALUE=DATE:20220324
DTSTAMP:20260425T160659
CREATED:20211216T182810Z
LAST-MODIFIED:20211216T182810Z
UID:5925-1647993600-1648079999@calendarioacademico.libertadores.edu.co
SUMMARY:Notificación de la aprobación de los grados privados Pregrado 2022-1
DESCRIPTION:Notificación oficial de la aprobación de grado mediante el correo electrónico Institucional.
URL:https://calendarioacademico.libertadores.edu.co/event/notificacion-de-la-aprobacion-de-los-grados-privados-pregrado-2022-1/
LOCATION:Fundación Universitaria Los Libertadores\, Carrera 16 # 63 A - 68\, Bogotá D.C.\, 110011\, Colombia
ORGANIZER;CN="Fundaci%C3%B3n Universitaria Los Libertadores":MAILTO:infopresencial@libertadores.edu.co
END:VEVENT
BEGIN:VEVENT
DTSTART;VALUE=DATE:20220323
DTEND;VALUE=DATE:20220324
DTSTAMP:20260425T160659
CREATED:20211215T205850Z
LAST-MODIFIED:20211215T205850Z
UID:5844-1647993600-1648079999@calendarioacademico.libertadores.edu.co
SUMMARY:Notificación oficial de la aprobación de grado Grados Colectivos - Pregrado 2022-1
DESCRIPTION:Notificación oficial de la aprobación de grado mediante el correo electrónico Institucional.
URL:https://calendarioacademico.libertadores.edu.co/event/notificacion-oficial-de-la-aprobacion-de-grado-grados-colectivos-pregrado-2022-1/
LOCATION:Fundación Universitaria Los Libertadores\, Carrera 16 # 63 A - 68\, Bogotá D.C.\, 110011\, Colombia
ORGANIZER;CN="Fundaci%C3%B3n Universitaria Los Libertadores":MAILTO:infopresencial@libertadores.edu.co
END:VEVENT
BEGIN:VEVENT
DTSTART;TZID=America/New_York:20220322T080000
DTEND;TZID=America/New_York:20220420T170000
DTSTAMP:20260425T160659
CREATED:20211213T170744Z
LAST-MODIFIED:20220303T144828Z
UID:5046-1647936000-1650474000@calendarioacademico.libertadores.edu.co
SUMMARY:Revisión de historias académicas coterminares trimestrales I corte 2
DESCRIPTION:
URL:https://calendarioacademico.libertadores.edu.co/event/revision-de-historias-academicas-coterminares-trimestrales-1/
LOCATION:Fundación Universitaria Los Libertadores\, Carrera 16 # 63 A - 68\, Bogotá D.C.\, 110011\, Colombia
CATEGORIES:Coterminales Trimestrales I
ORGANIZER;CN="Fundaci%C3%B3n Universitaria Los Libertadores Bogot%C3%A1-Cartagena":MAILTO:fullatencion@libertadores.edu.co
END:VEVENT
BEGIN:VEVENT
DTSTART;TZID=America/New_York:20220322T073000
DTEND;TZID=America/New_York:20220405T170000
DTSTAMP:20260425T160659
CREATED:20211214T211022Z
LAST-MODIFIED:20211215T075129Z
UID:5299-1647934200-1649178000@calendarioacademico.libertadores.edu.co
SUMMARY:Digitación de calificaciones I - Pregrado
DESCRIPTION:
URL:https://calendarioacademico.libertadores.edu.co/event/digitacion-de-calificaciones-pregrado-2/
LOCATION:Fundación Universitaria Los Libertadores\, Carrera 16 # 63 A - 68\, Bogotá D.C.\, 110011\, Colombia
ORGANIZER;CN="Fundaci%C3%B3n Universitaria Los Libertadores":MAILTO:infopresencial@libertadores.edu.co
END:VEVENT
BEGIN:VEVENT
DTSTART;TZID=America/New_York:20220322T073000
DTEND;TZID=America/New_York:20220401T170000
DTSTAMP:20260425T160659
CREATED:20211215T161304Z
LAST-MODIFIED:20211215T161304Z
UID:5644-1647934200-1648832400@calendarioacademico.libertadores.edu.co
SUMMARY:Fecha de inscripción a grados por Ulises y radicación de solicitudes ante Facultad - Grados por ventanilla - Pregrado 2022-1
DESCRIPTION:
URL:https://calendarioacademico.libertadores.edu.co/event/fecha-de-inscripcion-a-grados-por-ulises-y-radicacion-de-solicitudes-ante-facultad-grados-por-ventanilla-pregrado-2022-1-3/
LOCATION:Fundación Universitaria Los Libertadores\, Carrera 16 # 63 A - 68\, Bogotá D.C.\, 110011\, Colombia
ORGANIZER;CN="Fundaci%C3%B3n Universitaria Los Libertadores":MAILTO:infopresencial@libertadores.edu.co
END:VEVENT
BEGIN:VEVENT
DTSTART;VALUE=DATE:20220322
DTEND;VALUE=DATE:20220323
DTSTAMP:20260425T160659
CREATED:20211216T181748Z
LAST-MODIFIED:20211216T181748Z
UID:5921-1647907200-1647993599@calendarioacademico.libertadores.edu.co
SUMMARY:Postulación de candidatos ante el Consejo Académico Grados Privados Pregrado 2022-1.
DESCRIPTION:Generación informe para postulación de candidatos ante el Consejo Académico.
URL:https://calendarioacademico.libertadores.edu.co/event/postulacion-de-candidatos-ante-el-consejo-academico-grados-privados-pregrado-2022-1/
LOCATION:Fundación Universitaria Los Libertadores\, Carrera 16 # 63 A - 68\, Bogotá D.C.\, 110011\, Colombia
ORGANIZER;CN="Fundaci%C3%B3n Universitaria Los Libertadores":MAILTO:infopresencial@libertadores.edu.co
END:VEVENT
BEGIN:VEVENT
DTSTART;VALUE=DATE:20220322
DTEND;VALUE=DATE:20220323
DTSTAMP:20260425T160659
CREATED:20211216T181324Z
LAST-MODIFIED:20211216T181324Z
UID:5917-1647907200-1647993599@calendarioacademico.libertadores.edu.co
SUMMARY:Programaciones de ensayos y ceremonia Grados Privados Pregrado 2022-1
DESCRIPTION:Publicación de la circular con las programaciones de ensayos y ceremonia\, alquiler de toga y birrete y estudio fotográfico.
URL:https://calendarioacademico.libertadores.edu.co/event/programaciones-de-ensayos-y-ceremonia-grados-privados-pregrado-2022-1/
LOCATION:Fundación Universitaria Los Libertadores\, Carrera 16 # 63 A - 68\, Bogotá D.C.\, 110011\, Colombia
ORGANIZER;CN="Fundaci%C3%B3n Universitaria Los Libertadores":MAILTO:infopresencial@libertadores.edu.co
END:VEVENT
BEGIN:VEVENT
DTSTART;VALUE=DATE:20220322
DTEND;VALUE=DATE:20220323
DTSTAMP:20260425T160659
CREATED:20211215T204704Z
LAST-MODIFIED:20211215T204704Z
UID:5840-1647907200-1647993599@calendarioacademico.libertadores.edu.co
SUMMARY:Postulación de candidatos ante el Consejo Académico Grados Colectivos - Pregrado 2022-1
DESCRIPTION:Generación informe para postulación de candidatos ante el Consejo Académico para los Grados Colectivos de Pregrado 2022-1.
URL:https://calendarioacademico.libertadores.edu.co/event/postulacion-de-candidatos-ante-el-consejo-academico-grados-colectivos-pregrado-2022-1/
LOCATION:Fundación Universitaria Los Libertadores\, Carrera 16 # 63 A - 68\, Bogotá D.C.\, 110011\, Colombia
ORGANIZER;CN="Fundaci%C3%B3n Universitaria Los Libertadores":MAILTO:infopresencial@libertadores.edu.co
END:VEVENT
BEGIN:VEVENT
DTSTART;VALUE=DATE:20220322
DTEND;VALUE=DATE:20220323
DTSTAMP:20260425T160659
CREATED:20211215T204255Z
LAST-MODIFIED:20211215T204255Z
UID:5836-1647907200-1647993599@calendarioacademico.libertadores.edu.co
SUMMARY:Ensayos de ceremonia de Colectivos - Pregrado 2022-1
DESCRIPTION:Publicación de la circular con las programaciones de ensayos y ceremonia\, alquiler de toga y birrete y estudio fotográfico.
URL:https://calendarioacademico.libertadores.edu.co/event/ensayos-de-ceremonia-de-colectivos-pregrado-2022-1/
LOCATION:Fundación Universitaria Los Libertadores\, Carrera 16 # 63 A - 68\, Bogotá D.C.\, 110011\, Colombia
ORGANIZER;CN="Fundaci%C3%B3n Universitaria Los Libertadores":MAILTO:infopresencial@libertadores.edu.co
END:VEVENT
BEGIN:VEVENT
DTSTART;TZID=America/New_York:20220317T073000
DTEND;TZID=America/New_York:20220318T170000
DTSTAMP:20260425T160659
CREATED:20211215T150848Z
LAST-MODIFIED:20211215T150848Z
UID:5569-1647502200-1647622800@calendarioacademico.libertadores.edu.co
SUMMARY:Inscripción - Preparatorios - Pregrado 2022-1
DESCRIPTION:
URL:https://calendarioacademico.libertadores.edu.co/event/inscripcion-preparatorios-pregrado-2022-1-3/
LOCATION:Fundación Universitaria Los Libertadores\, Carrera 16 # 63 A - 68\, Bogotá D.C.\, 110011\, Colombia
ORGANIZER;CN="Fundaci%C3%B3n Universitaria Los Libertadores":MAILTO:infopresencial@libertadores.edu.co
END:VEVENT
BEGIN:VEVENT
DTSTART;TZID=America/New_York:20220316T080000
DTEND;TZID=America/New_York:20220326T170000
DTSTAMP:20260425T160659
CREATED:20211220T212606Z
LAST-MODIFIED:20211220T212606Z
UID:6098-1647417600-1648314000@calendarioacademico.libertadores.edu.co
SUMMARY:Renovación de beneficios por descuentos Posgrado Trimestral 2022-2
DESCRIPTION:Renovación de beneficios por descuentos Posgrado Trimestral 2022-2
URL:https://calendarioacademico.libertadores.edu.co/event/renovacion-de-beneficios-por-descuentos-posgrado-trimestral-2022-2/
LOCATION:Fundación Universitaria Los Libertadores\, Carrera 16 # 63 A - 68\, Bogotá D.C.\, 110011\, Colombia
ORGANIZER;CN="Fundaci%C3%B3n Universitaria Los Libertadores":MAILTO:infopresencial@libertadores.edu.co
END:VEVENT
BEGIN:VEVENT
DTSTART;VALUE=DATE:20220316
DTEND;VALUE=DATE:20220317
DTSTAMP:20260425T160659
CREATED:20211216T172053Z
LAST-MODIFIED:20211216T172053Z
UID:5913-1647388800-1647475199@calendarioacademico.libertadores.edu.co
SUMMARY:Fecha de entrega informe de pagos de derechos de grados privados Pregrado 2022-1
DESCRIPTION:Fecha de entrega informe de pagos de derechos de grados privados Pregrado 2022-1
URL:https://calendarioacademico.libertadores.edu.co/event/fecha-de-entrega-informe-de-pagos-de-derechos-de-grados-privados-pregrado-2022-1/
LOCATION:Fundación Universitaria Los Libertadores\, Carrera 16 # 63 A - 68\, Bogotá D.C.\, 110011\, Colombia
ORGANIZER;CN="Fundaci%C3%B3n Universitaria Los Libertadores":MAILTO:infopresencial@libertadores.edu.co
END:VEVENT
BEGIN:VEVENT
DTSTART;VALUE=DATE:20220316
DTEND;VALUE=DATE:20220317
DTSTAMP:20260425T160659
CREATED:20211215T202057Z
LAST-MODIFIED:20211215T202057Z
UID:5832-1647388800-1647475199@calendarioacademico.libertadores.edu.co
SUMMARY:Fecha de entrega informe de pagos de derechos de grados Colectivos - Pregrado 2022-1
DESCRIPTION:Fecha de entrega informe de pagos de derechos de grados Colectivos – Pregrado 2022-1
URL:https://calendarioacademico.libertadores.edu.co/event/fecha-de-entrega-informe-de-pagos-de-derechos-de-grados-colectivos-pregrado-2022-1/
LOCATION:Fundación Universitaria Los Libertadores\, Carrera 16 # 63 A - 68\, Bogotá D.C.\, 110011\, Colombia
ORGANIZER;CN="Fundaci%C3%B3n Universitaria Los Libertadores":MAILTO:infopresencial@libertadores.edu.co
END:VEVENT
BEGIN:VEVENT
DTSTART;TZID=America/New_York:20220315T073000
DTEND;TZID=America/New_York:20220316T170000
DTSTAMP:20260425T160659
CREATED:20211215T150405Z
LAST-MODIFIED:20211215T150513Z
UID:5558-1647329400-1647450000@calendarioacademico.libertadores.edu.co
SUMMARY:Apertura y cierre de SAI para designación de grupos - Pregrado 2022-1
DESCRIPTION:
URL:https://calendarioacademico.libertadores.edu.co/event/apertura-y-cierre-de-sai-para-designacion-de-grupos-pregrado-2022-1-3/
LOCATION:Fundación Universitaria Los Libertadores\, Carrera 16 # 63 A - 68\, Bogotá D.C.\, 110011\, Colombia
ORGANIZER;CN="Fundaci%C3%B3n Universitaria Los Libertadores":MAILTO:infopresencial@libertadores.edu.co
END:VEVENT
BEGIN:VEVENT
DTSTART;VALUE=DATE:20220315
DTEND;VALUE=DATE:20220316
DTSTAMP:20260425T160659
CREATED:20211221T142119Z
LAST-MODIFIED:20211221T142119Z
UID:6191-1647302400-1647388799@calendarioacademico.libertadores.edu.co
SUMMARY:Aprobación ante Consejo Académico - ciclos propedéuticos
DESCRIPTION:
URL:https://calendarioacademico.libertadores.edu.co/event/generacion-informe-para-postulacion-de-candidatos-ante-el-consejo-academico-propedeuticos-2/
LOCATION:Fundación Universitaria Los Libertadores\, Carrera 16 # 63 A - 68\, Bogotá D.C.\, 110011\, Colombia
ORGANIZER;CN="Fundaci%C3%B3n Universitaria Los Libertadores":MAILTO:infopresencial@libertadores.edu.co
END:VEVENT
BEGIN:VEVENT
DTSTART;VALUE=DATE:20220315
DTEND;VALUE=DATE:20220316
DTSTAMP:20260425T160659
CREATED:20211215T150813Z
LAST-MODIFIED:20211215T160656Z
UID:5565-1647302400-1647388799@calendarioacademico.libertadores.edu.co
SUMMARY:Aprobación ante Consejo Académico propedéuticos
DESCRIPTION:Aprobación ante Consejo Académico propedéuticos.
URL:https://calendarioacademico.libertadores.edu.co/event/aprobacion-ante-consejo-academico-propedeuticos/
LOCATION:Fundación Universitaria Los Libertadores\, Carrera 16 # 63 A - 68\, Bogotá D.C.\, 110011\, Colombia
ORGANIZER;CN="Fundaci%C3%B3n Universitaria Los Libertadores":MAILTO:infopresencial@libertadores.edu.co
END:VEVENT
BEGIN:VEVENT
DTSTART;VALUE=DATE:20220314
DTEND;VALUE=DATE:20220315
DTSTAMP:20260425T160659
CREATED:20211221T141838Z
LAST-MODIFIED:20211221T141838Z
UID:6188-1647216000-1647302399@calendarioacademico.libertadores.edu.co
SUMMARY:Generación informe para postulación de candidatos ante el Consejo Académico - ciclos propedéuticos
DESCRIPTION:
URL:https://calendarioacademico.libertadores.edu.co/event/generacion-informe-para-postulacion-de-candidatos-ante-el-consejo-academico-propedeuticos/
LOCATION:Fundación Universitaria Los Libertadores\, Carrera 16 # 63 A - 68\, Bogotá D.C.\, 110011\, Colombia
ORGANIZER;CN="Fundaci%C3%B3n Universitaria Los Libertadores":MAILTO:infopresencial@libertadores.edu.co
END:VEVENT
BEGIN:VEVENT
DTSTART;VALUE=DATE:20220311
DTEND;VALUE=DATE:20220312
DTSTAMP:20260425T160659
CREATED:20211221T140536Z
LAST-MODIFIED:20211221T140553Z
UID:6182-1646956800-1647043199@calendarioacademico.libertadores.edu.co
SUMMARY:Grados por Ventanilla CARTAGENA - Posgrados Trimestrales 2022-1
DESCRIPTION:Grados por Ventanilla CARTAGENA – Posgrados Trimestrales 2022-1
URL:https://calendarioacademico.libertadores.edu.co/event/grados-por-ventanilla-cartagena-posgrados-trimestrales-2022-1-2/
LOCATION:Fundación Universitaria Los Libertadores\, Carrera 16 # 63 A - 68\, Bogotá D.C.\, 110011\, Colombia
ORGANIZER;CN="Fundaci%C3%B3n Universitaria Los Libertadores":MAILTO:infopresencial@libertadores.edu.co
END:VEVENT
BEGIN:VEVENT
DTSTART;VALUE=DATE:20220311
DTEND;VALUE=DATE:20220312
DTSTAMP:20260425T160659
CREATED:20211219T231630Z
LAST-MODIFIED:20220107T171216Z
UID:5956-1646956800-1647043199@calendarioacademico.libertadores.edu.co
SUMMARY:Segunda fecha de grados por ventanilla CARTAGENA
DESCRIPTION:Grados por ventanilla CARTAGENA – Posgrados presenciales semestrales 2022-1
URL:https://calendarioacademico.libertadores.edu.co/event/segunda-fecha-de-grados-cartagena-posgrado-semestral-presencial-2022-1/
LOCATION:Fundación Universitaria Los Libertadores – Cartagena\, Calle 31 No. 19 - 51\, Cartagena\, Cartagena de Indias\, 130001\, Colombia
ORGANIZER;CN="Fundaci%C3%B3n Universitaria Los Libertadores":MAILTO:infopresencial@libertadores.edu.co
END:VEVENT
BEGIN:VEVENT
DTSTART;VALUE=DATE:20220311
DTEND;VALUE=DATE:20220312
DTSTAMP:20260425T160659
CREATED:20211215T174337Z
LAST-MODIFIED:20211215T174337Z
UID:5781-1646956800-1647043199@calendarioacademico.libertadores.edu.co
SUMMARY:Fecha de entrega de diploma y acta de grado -  Grados por ventanilla Cartagena - Pregrado 2022-1
DESCRIPTION:
URL:https://calendarioacademico.libertadores.edu.co/event/fecha-de-entrega-de-diploma-y-acta-de-grado-grados-por-ventanilla-cartagena-pregrado-2022-1-2/
LOCATION:Fundación Universitaria Los Libertadores – Cartagena\, Calle 31 No. 19 - 51\, Cartagena\, Cartagena de Indias\, 130001\, Colombia
ORGANIZER;CN="Fundaci%C3%B3n Universitaria Los Libertadores":MAILTO:infopresencial@libertadores.edu.co
END:VEVENT
BEGIN:VEVENT
DTSTART;VALUE=DATE:20220310
DTEND;VALUE=DATE:20220311
DTSTAMP:20260425T160659
CREATED:20211216T171605Z
LAST-MODIFIED:20211216T171605Z
UID:5909-1646870400-1646956799@calendarioacademico.libertadores.edu.co
SUMMARY:Fecha límite para el pago de derechos de grados privados Pregrado 2022-1
DESCRIPTION:Fecha límite para el pago de derechos de grados privados Pregrado 2022-1
URL:https://calendarioacademico.libertadores.edu.co/event/fecha-limite-para-el-pago-de-derechos-de-grados-privados-pregrado-2022-1/
LOCATION:Fundación Universitaria Los Libertadores\, Carrera 16 # 63 A - 68\, Bogotá D.C.\, 110011\, Colombia
ORGANIZER;CN="Fundaci%C3%B3n Universitaria Los Libertadores":MAILTO:infopresencial@libertadores.edu.co
END:VEVENT
END:VCALENDAR