BEGIN:VCALENDAR
VERSION:2.0
PRODID:-//Calendario Académico - ECPv6.15.20//NONSGML v1.0//EN
CALSCALE:GREGORIAN
METHOD:PUBLISH
X-WR-CALNAME:Calendario Académico
X-ORIGINAL-URL:https://calendarioacademico.libertadores.edu.co
X-WR-CALDESC:Eventos para Calendario Académico
REFRESH-INTERVAL;VALUE=DURATION:PT1H
X-Robots-Tag:noindex
X-PUBLISHED-TTL:PT1H
BEGIN:VTIMEZONE
TZID:America/New_York
BEGIN:DAYLIGHT
TZOFFSETFROM:-0500
TZOFFSETTO:-0400
TZNAME:EDT
DTSTART:20210314T070000
END:DAYLIGHT
BEGIN:STANDARD
TZOFFSETFROM:-0400
TZOFFSETTO:-0500
TZNAME:EST
DTSTART:20211107T060000
END:STANDARD
BEGIN:DAYLIGHT
TZOFFSETFROM:-0500
TZOFFSETTO:-0400
TZNAME:EDT
DTSTART:20220313T070000
END:DAYLIGHT
BEGIN:STANDARD
TZOFFSETFROM:-0400
TZOFFSETTO:-0500
TZNAME:EST
DTSTART:20221106T060000
END:STANDARD
BEGIN:DAYLIGHT
TZOFFSETFROM:-0500
TZOFFSETTO:-0400
TZNAME:EDT
DTSTART:20230312T070000
END:DAYLIGHT
BEGIN:STANDARD
TZOFFSETFROM:-0400
TZOFFSETTO:-0500
TZNAME:EST
DTSTART:20231105T060000
END:STANDARD
END:VTIMEZONE
BEGIN:VEVENT
DTSTART;VALUE=DATE:20220303
DTEND;VALUE=DATE:20220304
DTSTAMP:20260425T224211
CREATED:20211216T165709Z
LAST-MODIFIED:20211216T165709Z
UID:5905-1646265600-1646351999@calendarioacademico.libertadores.edu.co
SUMMARY:Publicación del recibo de derechos de grado privados - Pregrado 2022-1
DESCRIPTION:Publicación del recibo de derechos de grado privados – Pregrado 2022-1
URL:https://calendarioacademico.libertadores.edu.co/event/publicacion-del-recibo-de-derechos-de-grado-privados-pregrado-2022-1/
LOCATION:Fundación Universitaria Los Libertadores\, Carrera 16 # 63 A - 68\, Bogotá D.C.\, 110011\, Colombia
ORGANIZER;CN="Fundaci%C3%B3n Universitaria Los Libertadores":MAILTO:infopresencial@libertadores.edu.co
END:VEVENT
BEGIN:VEVENT
DTSTART;VALUE=DATE:20220302
DTEND;VALUE=DATE:20220514
DTSTAMP:20260425T224211
CREATED:20211214T201232Z
LAST-MODIFIED:20220301T145057Z
UID:5216-1646179200-1652486399@calendarioacademico.libertadores.edu.co
SUMMARY:Inscripción Seminarios de grado internacionales - S1Pr
DESCRIPTION:Inscripción Seminarios de grado internacionales Pregrado
URL:https://calendarioacademico.libertadores.edu.co/event/inscripcion-seminarios-de-grado-internacionales-1/
LOCATION:Fundación Universitaria Los Libertadores\, Carrera 16 # 63 A - 68\, Bogotá D.C.\, 110011\, Colombia
CATEGORIES:Seminarios de grado internacionales I
ORGANIZER;CN="Fundaci%C3%B3n Universitaria Los Libertadores Bogot%C3%A1-Cartagena":MAILTO:fullatencion@libertadores.edu.co
END:VEVENT
BEGIN:VEVENT
DTSTART;VALUE=DATE:20220302
DTEND;VALUE=DATE:20220303
DTSTAMP:20260425T224211
CREATED:20211216T162818Z
LAST-MODIFIED:20211216T163622Z
UID:5897-1646179200-1646265599@calendarioacademico.libertadores.edu.co
SUMMARY:Consulta del resultado del trámite de paz y salvos Grados Privados Pregrado 2022-1
DESCRIPTION:Únicamente para los candidatos a grado que legalizaron la inscripción ante Facultad.
URL:https://calendarioacademico.libertadores.edu.co/event/consulta-del-resultado-del-tramite-de-paz-y-salvos-grados-privados-pregrado-2022-1/
LOCATION:Fundación Universitaria Los Libertadores\, Carrera 16 # 63 A - 68\, Bogotá D.C.\, 110011\, Colombia
ORGANIZER;CN="Fundaci%C3%B3n Universitaria Los Libertadores":MAILTO:infopresencial@libertadores.edu.co
END:VEVENT
BEGIN:VEVENT
DTSTART;VALUE=DATE:20220302
DTEND;VALUE=DATE:20220303
DTSTAMP:20260425T224211
CREATED:20211215T143218Z
LAST-MODIFIED:20211215T143218Z
UID:5545-1646179200-1646265599@calendarioacademico.libertadores.edu.co
SUMMARY:Consulta del resultado del trámite de paz y salvos\, únicamente para los candidatos a grado que legalizaron la inscripción ante Facultad - Pregrado 2022-1
DESCRIPTION:
URL:https://calendarioacademico.libertadores.edu.co/event/consulta-del-resultado-del-tramite-de-paz-y-salvos-unicamente-para-los-candidatos-a-grado-que-legalizaron-la-inscripcion-ante-facultad-pregrado-2022-1/
LOCATION:Fundación Universitaria Los Libertadores\, Carrera 16 # 63 A - 68\, Bogotá D.C.\, 110011\, Colombia
ORGANIZER;CN="Fundaci%C3%B3n Universitaria Los Libertadores":MAILTO:infopresencial@libertadores.edu.co
END:VEVENT
BEGIN:VEVENT
DTSTART;VALUE=DATE:20220301
DTEND;VALUE=DATE:20220302
DTSTAMP:20260425T224211
CREATED:20211215T173131Z
LAST-MODIFIED:20211215T173131Z
UID:5755-1646092800-1646179199@calendarioacademico.libertadores.edu.co
SUMMARY:Notificación oficial de la aprobación de grado por correo electrónico - Grados por ventanilla - Pregrado 2022-1
DESCRIPTION:
URL:https://calendarioacademico.libertadores.edu.co/event/notificacion-oficial-de-la-aprobacion-de-grado-por-correo-electronico-grados-por-ventanilla-pregrado-2022-1-2/
LOCATION:Fundación Universitaria Los Libertadores\, Carrera 16 # 63 A - 68\, Bogotá D.C.\, 110011\, Colombia
ORGANIZER;CN="Fundaci%C3%B3n Universitaria Los Libertadores":MAILTO:infopresencial@libertadores.edu.co
END:VEVENT
BEGIN:VEVENT
DTSTART;VALUE=DATE:20220301
DTEND;VALUE=DATE:20220302
DTSTAMP:20260425T224211
CREATED:20211214T193436Z
LAST-MODIFIED:20220106T172638Z
UID:5188-1646092800-1646179199@calendarioacademico.libertadores.edu.co
SUMMARY:Inicio de clases del posgrado
DESCRIPTION:Inicio de Clases Posgrado Semestral
URL:https://calendarioacademico.libertadores.edu.co/event/inicio-de-clases-posgrado-semestral-presencial-2022-1/
LOCATION:Fundación Universitaria Los Libertadores\, Carrera 16 # 63 A - 68\, Bogotá D.C.\, 110011\, Colombia
ORGANIZER;CN="Fundaci%C3%B3n Universitaria Los Libertadores":MAILTO:infopresencial@libertadores.edu.co
END:VEVENT
BEGIN:VEVENT
DTSTART;VALUE=DATE:20220228
DTEND;VALUE=DATE:20220301
DTSTAMP:20260425T224211
CREATED:20211215T172832Z
LAST-MODIFIED:20211215T172832Z
UID:5747-1646006400-1646092799@calendarioacademico.libertadores.edu.co
SUMMARY:Generación informe para postulación de candidatos ante el Consejo Académico - Grados por ventanilla - Pregrado 2022-1
DESCRIPTION:
URL:https://calendarioacademico.libertadores.edu.co/event/generacion-informe-para-postulacion-de-candidatos-ante-el-consejo-academico-grados-por-ventanilla-pregrado-2022-1-2/
LOCATION:Fundación Universitaria Los Libertadores\, Carrera 16 # 63 A - 68\, Bogotá D.C.\, 110011\, Colombia
ORGANIZER;CN="Fundaci%C3%B3n Universitaria Los Libertadores":MAILTO:infopresencial@libertadores.edu.co
END:VEVENT
BEGIN:VEVENT
DTSTART;VALUE=DATE:20220225
DTEND;VALUE=DATE:20220226
DTSTAMP:20260425T224211
CREATED:20211216T004440Z
LAST-MODIFIED:20211216T004440Z
UID:5889-1645747200-1645833599@calendarioacademico.libertadores.edu.co
SUMMARY:Radicación de solicitudes de grado Grados Privados- Pregrado 2022-1
DESCRIPTION:Radicación de solicitudes de grado Grados Privados- Pregrado 2022-1
URL:https://calendarioacademico.libertadores.edu.co/event/radicacion-de-solicitudes-de-grado-grados-privados-pregrado-2022-1/
LOCATION:Fundación Universitaria Los Libertadores\, Carrera 16 # 63 A - 68\, Bogotá D.C.\, 110011\, Colombia
ORGANIZER;CN="Fundaci%C3%B3n Universitaria Los Libertadores":MAILTO:infopresencial@libertadores.edu.co
END:VEVENT
BEGIN:VEVENT
DTSTART;VALUE=DATE:20220225
DTEND;VALUE=DATE:20220226
DTSTAMP:20260425T224211
CREATED:20211215T151540Z
LAST-MODIFIED:20211215T151540Z
UID:5585-1645747200-1645833599@calendarioacademico.libertadores.edu.co
SUMMARY:Publicación de orden de pago - Preparatorios - Pregrado 2022-1
DESCRIPTION:
URL:https://calendarioacademico.libertadores.edu.co/event/publicacion-de-orden-de-pago-preparatorios-pregrado-2022-1-2/
LOCATION:Fundación Universitaria Los Libertadores\, Carrera 16 # 63 A - 68\, Bogotá D.C.\, 110011\, Colombia
ORGANIZER;CN="Fundaci%C3%B3n Universitaria Los Libertadores":MAILTO:infopresencial@libertadores.edu.co
END:VEVENT
BEGIN:VEVENT
DTSTART;TZID=America/New_York:20220224T080000
DTEND;TZID=America/New_York:20220225T170000
DTSTAMP:20260425T224211
CREATED:20211214T165617Z
LAST-MODIFIED:20220106T172734Z
UID:5139-1645689600-1645808400@calendarioacademico.libertadores.edu.co
SUMMARY:Inducción a posgrados
DESCRIPTION:Inducción Posgrado Semestral
URL:https://calendarioacademico.libertadores.edu.co/event/induccion-posgrado-semestral-presencial-2022-1/
LOCATION:Bogotá D.C.
ORGANIZER;CN="Fundaci%C3%B3n Universitaria Los Libertadores":MAILTO:infopresencial@libertadores.edu.co
END:VEVENT
BEGIN:VEVENT
DTSTART;VALUE=DATE:20220224
DTEND;VALUE=DATE:20220225
DTSTAMP:20260425T224211
CREATED:20211216T003533Z
LAST-MODIFIED:20211216T003533Z
UID:5884-1645660800-1645747199@calendarioacademico.libertadores.edu.co
SUMMARY:Trámite de paz y salvo académico - Grados Privados Pregrado 2022-1
DESCRIPTION:Trámite de paz y salvo académico (hoja académica\, opción de grado y saber pro)
URL:https://calendarioacademico.libertadores.edu.co/event/tramite-de-paz-y-salvo-academico-grados-privados-pregrado-2022-1/
LOCATION:Fundación Universitaria Los Libertadores\, Carrera 16 # 63 A - 68\, Bogotá D.C.\, 110011\, Colombia
ORGANIZER;CN="Fundaci%C3%B3n Universitaria Los Libertadores":MAILTO:infopresencial@libertadores.edu.co
END:VEVENT
BEGIN:VEVENT
DTSTART;VALUE=DATE:20220224
DTEND;VALUE=DATE:20220225
DTSTAMP:20260425T224211
CREATED:20211215T233804Z
LAST-MODIFIED:20211215T233804Z
UID:5880-1645660800-1645747199@calendarioacademico.libertadores.edu.co
SUMMARY:Actualización de la prueba Saber TyT o Saber Pro Grados privados - Pregrado 2022-1
DESCRIPTION:Actualización de la prueba Saber TyT o Saber Pro Grados privados – Pregrado 2022-1
URL:https://calendarioacademico.libertadores.edu.co/event/actualizacion-de-la-prueba-saber-tyt-o-saber-pro-grados-privados-pregrado-2022-1/
LOCATION:Fundación Universitaria Los Libertadores\, Carrera 16 # 63 A - 68\, Bogotá D.C.\, 110011\, Colombia
ORGANIZER;CN="Fundaci%C3%B3n Universitaria Los Libertadores":MAILTO:infopresencial@libertadores.edu.co
END:VEVENT
BEGIN:VEVENT
DTSTART;VALUE=DATE:20220224
DTEND;VALUE=DATE:20220225
DTSTAMP:20260425T224211
CREATED:20211215T172356Z
LAST-MODIFIED:20211215T172356Z
UID:5729-1645660800-1645747199@calendarioacademico.libertadores.edu.co
SUMMARY:Fecha de entrega informe de pagos de derechos de grado por ventanilla - Pregrado 2022-1
DESCRIPTION:
URL:https://calendarioacademico.libertadores.edu.co/event/fecha-de-entrega-informe-de-pagos-de-derechos-de-grado-por-ventanilla-pregrado-2022-1-2/
LOCATION:Fundación Universitaria Los Libertadores\, Carrera 16 # 63 A - 68\, Bogotá D.C.\, 110011\, Colombia
ORGANIZER;CN="Fundaci%C3%B3n Universitaria Los Libertadores":MAILTO:infopresencial@libertadores.edu.co
END:VEVENT
BEGIN:VEVENT
DTSTART;TZID=America/New_York:20220223T073000
DTEND;TZID=America/New_York:20220224T170000
DTSTAMP:20260425T224211
CREATED:20211215T151126Z
LAST-MODIFIED:20211215T151126Z
UID:5576-1645601400-1645722000@calendarioacademico.libertadores.edu.co
SUMMARY:Novedades de inscripción - Preparatorios - Pregrado 2022-1
DESCRIPTION:
URL:https://calendarioacademico.libertadores.edu.co/event/novedades-de-inscripcion-preparatorios-pregrado-2022-1-2/
LOCATION:Fundación Universitaria Los Libertadores\, Carrera 16 # 63 A - 68\, Bogotá D.C.\, 110011\, Colombia
ORGANIZER;CN="Fundaci%C3%B3n Universitaria Los Libertadores":MAILTO:infopresencial@libertadores.edu.co
END:VEVENT
BEGIN:VEVENT
DTSTART;VALUE=DATE:20220223
DTEND;VALUE=DATE:20220224
DTSTAMP:20260425T224211
CREATED:20211215T233343Z
LAST-MODIFIED:20211215T233343Z
UID:5876-1645574400-1645660799@calendarioacademico.libertadores.edu.co
SUMMARY:Fecha límite para entregar trabajos a Biblioteca Grados Privados - Pregrado 2022-1
DESCRIPTION:Fecha límite para entregar trabajos a Biblioteca Grados Privados – Pregrado 2022-1
URL:https://calendarioacademico.libertadores.edu.co/event/fecha-limite-para-entregar-trabajos-a-biblioteca-grados-privados-pregrado-2022-1/
LOCATION:Fundación Universitaria Los Libertadores\, Carrera 16 # 63 A - 68\, Bogotá D.C.\, 110011\, Colombia
ORGANIZER;CN="Fundaci%C3%B3n Universitaria Los Libertadores":MAILTO:infopresencial@libertadores.edu.co
END:VEVENT
BEGIN:VEVENT
DTSTART;VALUE=DATE:20220222
DTEND;VALUE=DATE:20220223
DTSTAMP:20260425T224211
CREATED:20211215T171911Z
LAST-MODIFIED:20211215T171911Z
UID:5721-1645488000-1645574399@calendarioacademico.libertadores.edu.co
SUMMARY:Fecha límite para el pago de derechos de grado por ventanilla - Pregrado 2022-1
DESCRIPTION:
URL:https://calendarioacademico.libertadores.edu.co/event/fecha-limite-para-el-pago-de-derechos-de-grado-por-ventanilla-pregrado-2022-1-2/
LOCATION:Fundación Universitaria Los Libertadores\, Carrera 16 # 63 A - 68\, Bogotá D.C.\, 110011\, Colombia
ORGANIZER;CN="Fundaci%C3%B3n Universitaria Los Libertadores":MAILTO:infopresencial@libertadores.edu.co
END:VEVENT
BEGIN:VEVENT
DTSTART;VALUE=DATE:20220222
DTEND;VALUE=DATE:20220223
DTSTAMP:20260425T224211
CREATED:20211214T193146Z
LAST-MODIFIED:20220106T172758Z
UID:5179-1645488000-1645574399@calendarioacademico.libertadores.edu.co
SUMMARY:Publicación de recibos de materias adiciones
DESCRIPTION:Publicación de recibos de adiciones Posgrado Semestral
URL:https://calendarioacademico.libertadores.edu.co/event/publicacion-de-recibos-de-adiciones-presencial-2022-1/
LOCATION:Bogotá D.C.
ORGANIZER;CN="Fundaci%C3%B3n Universitaria Los Libertadores":MAILTO:infopresencial@libertadores.edu.co
END:VEVENT
BEGIN:VEVENT
DTSTART;VALUE=DATE:20220221
DTEND;VALUE=DATE:20220222
DTSTAMP:20260425T224211
CREATED:20211215T142659Z
LAST-MODIFIED:20211215T142736Z
UID:5535-1645401600-1645487999@calendarioacademico.libertadores.edu.co
SUMMARY:Radicación de solicitudes de grado en la Dirección de Admisiones y Registro - Pregrado 2022-1
DESCRIPTION:
URL:https://calendarioacademico.libertadores.edu.co/event/radicacion-de-solicitudes-de-grado-en-la-direccion-de-admisiones-y-registro-pregrado-2022-1/
LOCATION:Fundación Universitaria Los Libertadores\, Carrera 16 # 63 A - 68\, Bogotá D.C.\, 110011\, Colombia
ORGANIZER;CN="Fundaci%C3%B3n Universitaria Los Libertadores":MAILTO:infopresencial@libertadores.edu.co
END:VEVENT
BEGIN:VEVENT
DTSTART;TZID=America/New_York:20220219T073000
DTEND;TZID=America/New_York:20220301T170000
DTSTAMP:20260425T224211
CREATED:20211216T161232Z
LAST-MODIFIED:20211216T161232Z
UID:5893-1645255800-1646154000@calendarioacademico.libertadores.edu.co
SUMMARY:Trámite de paz y salvos administrativos Grados Privados Pregrado 2022-1
DESCRIPTION:Trámite de paz y salvos administrativos (Biblioteca\, Financiero Egresados y de documentación) – (Biblioteca\, Financiero Egresados y de documentación) – Pregrado 2022-1
URL:https://calendarioacademico.libertadores.edu.co/event/tramite-de-paz-y-salvos-administrativos-grados-privados-pregrado-2022-1/
LOCATION:Fundación Universitaria Los Libertadores\, Carrera 16 # 63 A - 68\, Bogotá D.C.\, 110011\, Colombia
ORGANIZER;CN="Fundaci%C3%B3n Universitaria Los Libertadores":MAILTO:infopresencial@libertadores.edu.co
END:VEVENT
BEGIN:VEVENT
DTSTART;VALUE=DATE:20220218
DTEND;VALUE=DATE:20220219
DTSTAMP:20260425T224211
CREATED:20211215T231613Z
LAST-MODIFIED:20211215T232931Z
UID:5870-1645142400-1645228799@calendarioacademico.libertadores.edu.co
SUMMARY:Fecha límite para radicar documentos de inscripción a grados privados - Pregrado 2022-1
DESCRIPTION:Fecha límite para radicar documentos de inscripción a grados privados – Pregrado 2022-1
URL:https://calendarioacademico.libertadores.edu.co/event/fecha-limite-para-radicar-documentos-de-inscripcion-a-grados-privados-pregrado-2022-1/
LOCATION:Fundación Universitaria Los Libertadores\, Carrera 16 # 63 A - 68\, Bogotá D.C.\, 110011\, Colombia
ORGANIZER;CN="Fundaci%C3%B3n Universitaria Los Libertadores":MAILTO:infopresencial@libertadores.edu.co
END:VEVENT
BEGIN:VEVENT
DTSTART;VALUE=DATE:20220218
DTEND;VALUE=DATE:20220219
DTSTAMP:20260425T224211
CREATED:20211215T153737Z
LAST-MODIFIED:20211221T142426Z
UID:5628-1645142400-1645228799@calendarioacademico.libertadores.edu.co
SUMMARY:Pronto pago de matrícula propedéuticos
DESCRIPTION:Pago de matrícula propedéuticos.
URL:https://calendarioacademico.libertadores.edu.co/event/pronto-pago-de-matricula-propedeuticos/
LOCATION:Fundación Universitaria Los Libertadores\, Carrera 16 # 63 A - 68\, Bogotá D.C.\, 110011\, Colombia
ORGANIZER;CN="Fundaci%C3%B3n Universitaria Los Libertadores":MAILTO:infopresencial@libertadores.edu.co
END:VEVENT
BEGIN:VEVENT
DTSTART;VALUE=DATE:20220218
DTEND;VALUE=DATE:20220219
DTSTAMP:20260425T224211
CREATED:20211215T142442Z
LAST-MODIFIED:20211215T142442Z
UID:5521-1645142400-1645228799@calendarioacademico.libertadores.edu.co
SUMMARY:Trámite de paz y salvo académico (hoja académica\, opción de grado y saber pro) - Pregrado 2022-1
DESCRIPTION:
URL:https://calendarioacademico.libertadores.edu.co/event/tramite-de-paz-y-salvo-academico-hoja-academica-opcion-de-grado-y-saber-pro-pregrado-2022-1/
LOCATION:Fundación Universitaria Los Libertadores\, Carrera 16 # 63 A - 68\, Bogotá D.C.\, 110011\, Colombia
ORGANIZER;CN="Fundaci%C3%B3n Universitaria Los Libertadores":MAILTO:infopresencial@libertadores.edu.co
END:VEVENT
BEGIN:VEVENT
DTSTART;VALUE=DATE:20220218
DTEND;VALUE=DATE:20220219
DTSTAMP:20260425T224211
CREATED:20211215T140305Z
LAST-MODIFIED:20211215T140305Z
UID:5517-1645142400-1645228799@calendarioacademico.libertadores.edu.co
SUMMARY:Actualización de la prueba Saber TyT o Saber Pro en el sistema académico - Pregrado 2022-1
DESCRIPTION:
URL:https://calendarioacademico.libertadores.edu.co/event/actualizacion-de-la-prueba-saber-tyt-o-saber-pro-en-el-sistema-academico-pregrado-2022-1/
LOCATION:Fundación Universitaria Los Libertadores\, Carrera 16 # 63 A - 68\, Bogotá D.C.\, 110011\, Colombia
ORGANIZER;CN="Fundaci%C3%B3n Universitaria Los Libertadores":MAILTO:infopresencial@libertadores.edu.co
END:VEVENT
BEGIN:VEVENT
DTSTART;VALUE=DATE:20220217
DTEND;VALUE=DATE:20220218
DTSTAMP:20260425T224211
CREATED:20211215T165325Z
LAST-MODIFIED:20211215T165325Z
UID:5700-1645056000-1645142399@calendarioacademico.libertadores.edu.co
SUMMARY:Fecha límite para radicar documentación pendiente ante Admisiones y Registro - Grados por ventanilla - Pregrado 2022-1
DESCRIPTION:*(No se incluyen los requisitos para el título estipulados en el artículo 97 del Reglamento Estudiantil)
URL:https://calendarioacademico.libertadores.edu.co/event/fecha-limite-para-radicar-documentacion-pendiente-ante-admisiones-y-registro-grados-por-ventanilla-pregrado-2022-1-2/
LOCATION:Fundación Universitaria Los Libertadores\, Carrera 16 # 63 A - 68\, Bogotá D.C.\, 110011\, Colombia
ORGANIZER;CN="Fundaci%C3%B3n Universitaria Los Libertadores":MAILTO:infopresencial@libertadores.edu.co
END:VEVENT
BEGIN:VEVENT
DTSTART;VALUE=DATE:20220216
DTEND;VALUE=DATE:20220217
DTSTAMP:20260425T224211
CREATED:20211215T170615Z
LAST-MODIFIED:20211215T170615Z
UID:5713-1644969600-1645055999@calendarioacademico.libertadores.edu.co
SUMMARY:Publicación del recibo de derechos de grado por ventanilla - Pregrado 2022-1
DESCRIPTION:
URL:https://calendarioacademico.libertadores.edu.co/event/publicacion-del-recibo-de-derechos-de-grado-por-ventanilla-pregrado-2022-1-2/
LOCATION:Fundación Universitaria Los Libertadores\, Carrera 16 # 63 A - 68\, Bogotá D.C.\, 110011\, Colombia
ORGANIZER;CN="Fundaci%C3%B3n Universitaria Los Libertadores":MAILTO:infopresencial@libertadores.edu.co
END:VEVENT
BEGIN:VEVENT
DTSTART;VALUE=DATE:20220216
DTEND;VALUE=DATE:20220217
DTSTAMP:20260425T224211
CREATED:20211215T140121Z
LAST-MODIFIED:20211215T140121Z
UID:5513-1644969600-1645055999@calendarioacademico.libertadores.edu.co
SUMMARY:Fecha límite para entregar trabajos a Biblioteca - Pregrado 2022-1
DESCRIPTION:
URL:https://calendarioacademico.libertadores.edu.co/event/fecha-limite-para-entregar-trabajos-a-biblioteca-pregrado-2022-1/
LOCATION:Fundación Universitaria Los Libertadores\, Carrera 16 # 63 A - 68\, Bogotá D.C.\, 110011\, Colombia
ORGANIZER;CN="Fundaci%C3%B3n Universitaria Los Libertadores":MAILTO:infopresencial@libertadores.edu.co
END:VEVENT
BEGIN:VEVENT
DTSTART;TZID=America/New_York:20220215T073000
DTEND;TZID=America/New_York:20220216T050000
DTSTAMP:20260425T224211
CREATED:20211215T150223Z
LAST-MODIFIED:20211215T150223Z
UID:5553-1644910200-1644987600@calendarioacademico.libertadores.edu.co
SUMMARY:Apertura y cierre de SAI para designación de grupos - Pregrado 2022-1
DESCRIPTION:
URL:https://calendarioacademico.libertadores.edu.co/event/apertura-y-cierre-de-sai-para-designacion-de-grupos-pregrado-2022-1-2/
LOCATION:Bogotá D.C.
END:VEVENT
BEGIN:VEVENT
DTSTART;VALUE=DATE:20220215
DTEND;VALUE=DATE:20220216
DTSTAMP:20260425T224211
CREATED:20211215T164755Z
LAST-MODIFIED:20211215T164755Z
UID:5686-1644883200-1644969599@calendarioacademico.libertadores.edu.co
SUMMARY:Consulta del resultado del trámite de paz y salvos por el sistema Ulises - Grados por ventanilla - Pregrado 2022-1
DESCRIPTION:*Únicamente para los candidatos a grado que legalizaron la inscripción ante Facultad
URL:https://calendarioacademico.libertadores.edu.co/event/consulta-del-resultado-del-tramite-de-paz-y-salvos-por-el-sistema-ulises-grados-por-ventanilla-pregrado-2022-1-2/
LOCATION:Fundación Universitaria Los Libertadores\, Carrera 16 # 63 A - 68\, Bogotá D.C.\, 110011\, Colombia
ORGANIZER;CN="Fundaci%C3%B3n Universitaria Los Libertadores":MAILTO:infopresencial@libertadores.edu.co
END:VEVENT
BEGIN:VEVENT
DTSTART;TZID=America/New_York:20220214T080000
DTEND;TZID=America/New_York:20220402T170000
DTSTAMP:20260425T224211
CREATED:20220106T211533Z
LAST-MODIFIED:20220106T212143Z
UID:6390-1644825600-1648918800@calendarioacademico.libertadores.edu.co
SUMMARY:Aplicación de la autoevaluación de posgrados
DESCRIPTION:Aplicación de encuestas Posgrado Semestral 2021-1
URL:https://calendarioacademico.libertadores.edu.co/event/aplicacion-de-autoevaluacion-posgrados-semestrales-virtual-distancia-2022-1/
LOCATION:Fundación Universitaria Los Libertadores\, Carrera 16 # 63 A - 68\, Bogotá D.C.\, 110011\, Colombia
ORGANIZER;CN="Fundaci%C3%B3n Universitaria Los Libertadores":MAILTO:infopresencial@libertadores.edu.co
END:VEVENT
BEGIN:VEVENT
DTSTART;TZID=America/New_York:20220214T080000
DTEND;TZID=America/New_York:20220402T170000
DTSTAMP:20260425T224211
CREATED:20211220T224932Z
LAST-MODIFIED:20211220T224932Z
UID:6152-1644825600-1648918800@calendarioacademico.libertadores.edu.co
SUMMARY:Aplicación de encuestas Posgrado Trimestral 2022
DESCRIPTION:Aplicación de encuestas Posgrado Trimestral 2022
URL:https://calendarioacademico.libertadores.edu.co/event/aplicacion-de-encuestas-posgrado-trimestral-2022/
LOCATION:Fundación Universitaria Los Libertadores\, Carrera 16 # 63 A - 68\, Bogotá D.C.\, 110011\, Colombia
ORGANIZER;CN="Fundaci%C3%B3n Universitaria Los Libertadores":MAILTO:infopresencial@libertadores.edu.co
END:VEVENT
END:VCALENDAR