BEGIN:VCALENDAR
VERSION:2.0
PRODID:-//Calendario Acad&eacute;mico - ECPv6.15.13.1//NONSGML v1.0//EN
CALSCALE:GREGORIAN
METHOD:PUBLISH
X-ORIGINAL-URL:https://calendarioacademico.libertadores.edu.co
X-WR-CALDESC:Eventos para Calendario Acad&eacute;mico
REFRESH-INTERVAL;VALUE=DURATION:PT1H
X-Robots-Tag:noindex
X-PUBLISHED-TTL:PT1H
BEGIN:VTIMEZONE
TZID:America/New_York
BEGIN:DAYLIGHT
TZOFFSETFROM:-0500
TZOFFSETTO:-0400
TZNAME:EDT
DTSTART:20230312T070000
END:DAYLIGHT
BEGIN:STANDARD
TZOFFSETFROM:-0400
TZOFFSETTO:-0500
TZNAME:EST
DTSTART:20231105T060000
END:STANDARD
BEGIN:DAYLIGHT
TZOFFSETFROM:-0500
TZOFFSETTO:-0400
TZNAME:EDT
DTSTART:20240310T070000
END:DAYLIGHT
BEGIN:STANDARD
TZOFFSETFROM:-0400
TZOFFSETTO:-0500
TZNAME:EST
DTSTART:20241103T060000
END:STANDARD
BEGIN:DAYLIGHT
TZOFFSETFROM:-0500
TZOFFSETTO:-0400
TZNAME:EDT
DTSTART:20250309T070000
END:DAYLIGHT
BEGIN:STANDARD
TZOFFSETFROM:-0400
TZOFFSETTO:-0500
TZNAME:EST
DTSTART:20251102T060000
END:STANDARD
END:VTIMEZONE
BEGIN:VEVENT
DTSTART;VALUE=DATE:20240801
DTEND;VALUE=DATE:20240803
DTSTAMP:20260419T084112
CREATED:20231114T205644Z
LAST-MODIFIED:20231114T205644Z
UID:7753-1722470400-1722643199@calendarioacademico.libertadores.edu.co
SUMMARY:Inducción a estudiantes nuevos Bogotá-S2Pr
DESCRIPTION:Conoce más información aquí \n 
URL:https://calendarioacademico.libertadores.edu.co/event/induccion-a-estudiantes-nuevos-cartagena-s2pr-2-2/
LOCATION:Fundación Universitaria Los Libertadores\, Carrera 16 # 63 A - 68\, Bogotá D.C.\, 110011\, Colombia
CATEGORIES:Matriculas estudiantes nuevos II
END:VEVENT
BEGIN:VEVENT
DTSTART;VALUE=DATE:20240731
DTEND;VALUE=DATE:20240808
DTSTAMP:20260419T084112
CREATED:20231120T171041Z
LAST-MODIFIED:20231120T171041Z
UID:7985-1722384000-1723075199@calendarioacademico.libertadores.edu.co
SUMMARY:Pagos de matrícula (estudiantes intersemestral) Primer fecha de pago - S1Pr
DESCRIPTION:
URL:https://calendarioacademico.libertadores.edu.co/event/pagos-de-matricula-estudiantes-intersemestral-primer-fecha-de-pago-s1pr-2/
CATEGORIES:Cursos Intersemestrales I
END:VEVENT
BEGIN:VEVENT
DTSTART;VALUE=DATE:20240731
DTEND;VALUE=DATE:20240801
DTSTAMP:20260419T084112
CREATED:20231120T165215Z
LAST-MODIFIED:20231120T165215Z
UID:7979-1722384000-1722470399@calendarioacademico.libertadores.edu.co
SUMMARY:Publicación de recibo de pago de matrícula en el portal WEB institucional (estudiantes intersemestrales) - S1Pr
DESCRIPTION:
URL:https://calendarioacademico.libertadores.edu.co/event/publicacion-de-recibo-de-pago-de-matricula-en-el-portal-web-institucional-estudiantes-intersemestrales-s1pr-2/
CATEGORIES:Cursos Intersemestrales I
END:VEVENT
BEGIN:VEVENT
DTSTART;VALUE=DATE:20240731
DTEND;VALUE=DATE:20240801
DTSTAMP:20260419T084112
CREATED:20231116T180106Z
LAST-MODIFIED:20231116T213720Z
UID:7857-1722384000-1722470399@calendarioacademico.libertadores.edu.co
SUMMARY:Publicación de recibo pago de matrícula movilidad académica saliente - S1Pr
DESCRIPTION:
URL:https://calendarioacademico.libertadores.edu.co/event/publicacion-de-recibo-de-pago-de-matricula-movilidad-academica-saliente-s1pr-2/
CATEGORIES:Matrículas Estudiantes Movilidad Académica Salientes I
END:VEVENT
BEGIN:VEVENT
DTSTART;VALUE=DATE:20240730
DTEND;VALUE=DATE:20240814
DTSTAMP:20260419T084112
CREATED:20231116T173338Z
LAST-MODIFIED:20231116T173602Z
UID:7842-1722297600-1723593599@calendarioacademico.libertadores.edu.co
SUMMARY:Pago Extraordinario - Todas las Facultades - S2Pr
DESCRIPTION:
URL:https://calendarioacademico.libertadores.edu.co/event/pago-extraordinario-facultades-de-ciencias-de-la-comunicacion-derecho-y-ciencias-politicas-s1pr-3/
CATEGORIES:Matricula estudiantes antiguos II
END:VEVENT
BEGIN:VEVENT
DTSTART;VALUE=DATE:20240730
DTEND;VALUE=DATE:20240731
DTSTAMP:20260419T084112
CREATED:20231116T140822Z
LAST-MODIFIED:20231116T140822Z
UID:7760-1722297600-1722383999@calendarioacademico.libertadores.edu.co
SUMMARY:Encuentro de Padres Cartagena-S2Pr
DESCRIPTION:
URL:https://calendarioacademico.libertadores.edu.co/event/encuentro-de-padres-cartagena-s2pr-2/
LOCATION:Fundación Universitaria Los Libertadores\, Carrera 16 # 63 A - 68\, Bogotá D.C.\, 110011\, Colombia
CATEGORIES:Matriculas estudiantes nuevos II
END:VEVENT
BEGIN:VEVENT
DTSTART;VALUE=DATE:20240729
DTEND;VALUE=DATE:20240731
DTSTAMP:20260419T084112
CREATED:20231120T213346Z
LAST-MODIFIED:20231120T213346Z
UID:8123-1722211200-1722383999@calendarioacademico.libertadores.edu.co
SUMMARY:Novedades de inscripción preparatorios II - corte 1
DESCRIPTION:
URL:https://calendarioacademico.libertadores.edu.co/event/novedades-de-inscripcion-preparatorios-2-corte-1-2/
CATEGORIES:Preparatorios II
END:VEVENT
BEGIN:VEVENT
DTSTART;VALUE=DATE:20240729
DTEND;VALUE=DATE:20240731
DTSTAMP:20260419T084112
CREATED:20231120T164924Z
LAST-MODIFIED:20231120T164924Z
UID:7975-1722211200-1722383999@calendarioacademico.libertadores.edu.co
SUMMARY:Fecha de selección de horarios para matrículas (estudiantes intersemestrales) - S1Pr
DESCRIPTION:
URL:https://calendarioacademico.libertadores.edu.co/event/fecha-de-seleccion-de-horarios-para-matriculas-estudiantes-intersemestrales-s1pr-2/
CATEGORIES:Cursos Intersemestrales I
END:VEVENT
BEGIN:VEVENT
DTSTART;VALUE=DATE:20240729
DTEND;VALUE=DATE:20240731
DTSTAMP:20260419T084112
CREATED:20231120T154433Z
LAST-MODIFIED:20231120T154433Z
UID:7971-1722211200-1722383999@calendarioacademico.libertadores.edu.co
SUMMARY:Novedades de notas definitivas cursos intersemestrales - S1Pr
DESCRIPTION:
URL:https://calendarioacademico.libertadores.edu.co/event/novedades-de-notas-definitivas-cursos-intersemestrales-s1pr-2/
CATEGORIES:Cursos Intersemestrales I
END:VEVENT
BEGIN:VEVENT
DTSTART;VALUE=DATE:20240729
DTEND;VALUE=DATE:20240731
DTSTAMP:20260419T084112
CREATED:20231116T195517Z
LAST-MODIFIED:20231116T211945Z
UID:7860-1722211200-1722383999@calendarioacademico.libertadores.edu.co
SUMMARY:Selección de horarios movilidad académica saliente S1Pr
DESCRIPTION:
URL:https://calendarioacademico.libertadores.edu.co/event/seleccion-de-horarios-para-matriculas-movilidad-academica-saliente-s1pr-2/
CATEGORIES:Matrículas Estudiantes Movilidad Académica Salientes I
END:VEVENT
BEGIN:VEVENT
DTSTART;VALUE=DATE:20240729
DTEND;VALUE=DATE:20240803
DTSTAMP:20260419T084112
CREATED:20231116T150459Z
LAST-MODIFIED:20231116T150518Z
UID:7808-1722211200-1722643199@calendarioacademico.libertadores.edu.co
SUMMARY:Solicitud de cambios de grupos-S2Pr
DESCRIPTION:
URL:https://calendarioacademico.libertadores.edu.co/event/solicitud-de-cambios-de-grupos-s2pr-2/
LOCATION:Fundación Universitaria Los Libertadores\, Carrera 16 # 63 A - 68\, Bogotá D.C.\, 110011\, Colombia
CATEGORIES:Matricula estudiantes antiguos II,Pregrado Semestral,segundo semestre
END:VEVENT
BEGIN:VEVENT
DTSTART;VALUE=DATE:20240729
DTEND;VALUE=DATE:20240804
DTSTAMP:20260419T084112
CREATED:20231116T144933Z
LAST-MODIFIED:20231116T145102Z
UID:7798-1722211200-1722729599@calendarioacademico.libertadores.edu.co
SUMMARY:Solicitud de reajustes (adición y/o retiro de espacios académicos) -S2Pr
DESCRIPTION:Conoce como hacerlo en el Instructivo de Reajustes
URL:https://calendarioacademico.libertadores.edu.co/event/solicitud-de-reajustes-adicion-y-o-retiro-de-espacios-academicos-s2pr-2/
CATEGORIES:Matricula estudiantes antiguos II
END:VEVENT
BEGIN:VEVENT
DTSTART;VALUE=DATE:20240729
DTEND;VALUE=DATE:20240731
DTSTAMP:20260419T084112
CREATED:20231114T205219Z
LAST-MODIFIED:20231114T205219Z
UID:7749-1722211200-1722383999@calendarioacademico.libertadores.edu.co
SUMMARY:Inducción a estudiantes nuevos Cartagena-S2Pr
DESCRIPTION:Conoce más información aquí \n 
URL:https://calendarioacademico.libertadores.edu.co/event/induccion-a-estudiantes-nuevos-cartagena-s2pr-2/
LOCATION:Fundación Universitaria Los Libertadores\, Carrera 16 # 63 A - 68\, Bogotá D.C.\, 110011\, Colombia
CATEGORIES:Matriculas estudiantes nuevos II
END:VEVENT
BEGIN:VEVENT
DTSTART;VALUE=DATE:20240726
DTEND;VALUE=DATE:20240727
DTSTAMP:20260419T084112
CREATED:20231120T154114Z
LAST-MODIFIED:20231120T154114Z
UID:7967-1721952000-1722038399@calendarioacademico.libertadores.edu.co
SUMMARY:Cierre Académico cursos intersemestrales - S1Pr
DESCRIPTION:
URL:https://calendarioacademico.libertadores.edu.co/event/cierre-academico-cursos-intersemestrales-s1pr-2/
CATEGORIES:Cursos Intersemestrales I
END:VEVENT
BEGIN:VEVENT
DTSTART;VALUE=DATE:20240726
DTEND;VALUE=DATE:20240727
DTSTAMP:20260419T084112
CREATED:20231114T205952Z
LAST-MODIFIED:20231114T205952Z
UID:7756-1721952000-1722038399@calendarioacademico.libertadores.edu.co
SUMMARY:Envío de material de inducción a estudiantes nuevos
DESCRIPTION:
URL:https://calendarioacademico.libertadores.edu.co/event/envio-de-material-de-induccion-a-estudiantes-nuevos-pregrado-2/
LOCATION:Fundación Universitaria Los Libertadores\, Carrera 16 # 63 A - 68\, Bogotá D.C.\, 110011\, Colombia
CATEGORIES:Matriculas estudiantes nuevos II
END:VEVENT
BEGIN:VEVENT
DTSTART;VALUE=DATE:20240725
DTEND;VALUE=DATE:20240726
DTSTAMP:20260419T084112
CREATED:20231120T212436Z
LAST-MODIFIED:20231120T212436Z
UID:8110-1721865600-1721951999@calendarioacademico.libertadores.edu.co
SUMMARY:Inscripción preparatorios II- corte 1
DESCRIPTION:
URL:https://calendarioacademico.libertadores.edu.co/event/inscripcion-preparatorios-2-corte-1-2/
CATEGORIES:Preparatorios II
END:VEVENT
BEGIN:VEVENT
DTSTART;VALUE=DATE:20240724
DTEND;VALUE=DATE:20240806
DTSTAMP:20260419T084112
CREATED:20231114T204744Z
LAST-MODIFIED:20231114T204744Z
UID:7745-1721779200-1722902399@calendarioacademico.libertadores.edu.co
SUMMARY:Pago ordinario admitidos-S2Pr
DESCRIPTION:Descarga el recibo aquí.  \nConoce como hacerlo en el tutorial de pagos.
URL:https://calendarioacademico.libertadores.edu.co/event/pago-ordinario-admitidos-s2pr-2/
LOCATION:Fundación Universitaria Los Libertadores\, Carrera 16 # 63 A - 68\, Bogotá D.C.\, 110011\, Colombia
CATEGORIES:Matriculas estudiantes nuevos II
END:VEVENT
BEGIN:VEVENT
DTSTART;VALUE=DATE:20240722
DTEND;VALUE=DATE:20240723
DTSTAMP:20260419T084112
CREATED:20231120T211316Z
LAST-MODIFIED:20231120T211316Z
UID:8090-1721606400-1721692799@calendarioacademico.libertadores.edu.co
SUMMARY:Apertura y cierre de SAI para designación de grupos - S2Pr corte 1
DESCRIPTION:
URL:https://calendarioacademico.libertadores.edu.co/event/apertura-y-cierre-de-sai-para-designacion-de-grupos-ii-2/
CATEGORIES:Preparatorios II
END:VEVENT
BEGIN:VEVENT
DTSTART;VALUE=DATE:20240718
DTEND;VALUE=DATE:20240726
DTSTAMP:20260419T084112
CREATED:20231120T153204Z
LAST-MODIFIED:20231120T153204Z
UID:7963-1721260800-1721951999@calendarioacademico.libertadores.edu.co
SUMMARY:Registro y entrega de calificaciones cursos intersemestrales - S1Pr
DESCRIPTION:
URL:https://calendarioacademico.libertadores.edu.co/event/registro-y-entrega-de-calificaciones-cursos-intersemestrales-s1pr-2/
CATEGORIES:Cursos Intersemestrales I
END:VEVENT
BEGIN:VEVENT
DTSTART;VALUE=DATE:20240718
DTEND;VALUE=DATE:20240730
DTSTAMP:20260419T084112
CREATED:20231116T173152Z
LAST-MODIFIED:20231116T173152Z
UID:7840-1721260800-1722297599@calendarioacademico.libertadores.edu.co
SUMMARY:Pago Ordinario - Todas las Facultades- S2Pr
DESCRIPTION:Descarga tu recibo aquí \nConoce como hacerlo en el tutorial de pagos 
URL:https://calendarioacademico.libertadores.edu.co/event/pago-ordinario-facultades-de-ingenieria-y-ciencias-basicas-y-ciencias-humanas-y-sociales-s2pr-2-2/
CATEGORIES:Matricula estudiantes antiguos II
END:VEVENT
BEGIN:VEVENT
DTSTART;VALUE=DATE:20240717
DTEND;VALUE=DATE:20240718
DTSTAMP:20260419T084112
CREATED:20231120T194014Z
LAST-MODIFIED:20231120T194014Z
UID:8030-1721174400-1721260799@calendarioacademico.libertadores.edu.co
SUMMARY:Entrega de certificados Seminarios de Grado regular - S1Pr
DESCRIPTION:
URL:https://calendarioacademico.libertadores.edu.co/event/entrega-de-certificados-seminarios-de-grado-regular-s1pr-2/
CATEGORIES:Seminarios de Grado periodo regular I
END:VEVENT
BEGIN:VEVENT
DTSTART;VALUE=DATE:20240709
DTEND;VALUE=DATE:20240710
DTSTAMP:20260419T084112
CREATED:20231116T172054Z
LAST-MODIFIED:20231116T172809Z
UID:7830-1720483200-1720569599@calendarioacademico.libertadores.edu.co
SUMMARY:Publicación de recibos Fac. Ingeniería y Ciencias Básicas y Ciencias Humanas y Sociales-S2Pr
DESCRIPTION:Descarga tu recibo aquí \nConoce como hacerlo en el tutorial de pagos 
URL:https://calendarioacademico.libertadores.edu.co/event/publicacion-recibos-f-ingenieria-y-ciencias-basicas-f-ciencias-humanas-y-sociales-s2pr-2/
CATEGORIES:Matricula estudiantes antiguos II
END:VEVENT
BEGIN:VEVENT
DTSTART;VALUE=DATE:20240709
DTEND;VALUE=DATE:20240718
DTSTAMP:20260419T084112
CREATED:20231116T163548Z
LAST-MODIFIED:20231116T171209Z
UID:7813-1720483200-1721260799@calendarioacademico.libertadores.edu.co
SUMMARY:Pronto pago F Ingeniería y Ciencias Básicas\, F Ciencias Humanas y Sociales-S2Pr
DESCRIPTION:Descarga tu recibo aquí \nConoce como hacerlo en el tutorial de pagos 
URL:https://calendarioacademico.libertadores.edu.co/event/pago-pronto-pago-f-ingenieria-y-ciencias-basicas-f-ciencias-humanas-y-sociales-s2pr-2/
CATEGORIES:Matricula estudiantes antiguos II
END:VEVENT
BEGIN:VEVENT
DTSTART;VALUE=DATE:20240708
DTEND;VALUE=DATE:20241203
DTSTAMP:20260419T084112
CREATED:20231116T222324Z
LAST-MODIFIED:20231116T222324Z
UID:7876-1720396800-1733183999@calendarioacademico.libertadores.edu.co
SUMMARY:Solicitud y presentación de suficiencias-S2Pr
DESCRIPTION:
URL:https://calendarioacademico.libertadores.edu.co/event/solicitud-y-presentacion-de-suficiencias-s2pr-2/
CATEGORIES:Periodo Académico II
END:VEVENT
BEGIN:VEVENT
DTSTART;VALUE=DATE:20240708
DTEND;VALUE=DATE:20241109
DTSTAMP:20260419T084112
CREATED:20231116T143453Z
LAST-MODIFIED:20231116T143453Z
UID:7781-1720396800-1731110399@calendarioacademico.libertadores.edu.co
SUMMARY:Reintegro para suficiencia-S2Pr
DESCRIPTION:
URL:https://calendarioacademico.libertadores.edu.co/event/reintegro-para-suficiencia-s2pr-2/
LOCATION:Fundación Universitaria Los Libertadores\, Carrera 16 # 63 A - 68\, Bogotá D.C.\, 110011\, Colombia
CATEGORIES:Reintegros II
END:VEVENT
BEGIN:VEVENT
DTSTART;VALUE=DATE:20240708
DTEND;VALUE=DATE:20241026
DTSTAMP:20260419T084112
CREATED:20231116T143207Z
LAST-MODIFIED:20231116T143207Z
UID:7777-1720396800-1729900799@calendarioacademico.libertadores.edu.co
SUMMARY:Reintegro para opción de grado-S2Pr
DESCRIPTION:Solicita el reintegro aquí
URL:https://calendarioacademico.libertadores.edu.co/event/reintegro-para-opcion-de-grado-s2pr-2/
LOCATION:Fundación Universitaria Los Libertadores\, Carrera 16 # 63 A - 68\, Bogotá D.C.\, 110011\, Colombia
CATEGORIES:Reintegros II,segundo semestre
END:VEVENT
BEGIN:VEVENT
DTSTART;VALUE=DATE:20240705
DTEND;VALUE=DATE:20240723
DTSTAMP:20260419T084112
CREATED:20231215T222212Z
LAST-MODIFIED:20231215T222212Z
UID:8232-1720137600-1721692799@calendarioacademico.libertadores.edu.co
SUMMARY:Solicitud de órdenes de pago a Admisiones y Registro coterminales trimestrales II - corte 1
DESCRIPTION:
URL:https://calendarioacademico.libertadores.edu.co/event/solicitud-de-ordenes-de-pago-a-admisiones-y-registro-coterminales-trimestrales-2-corte-1-2/
CATEGORIES:Coterminales Trimestrales II
END:VEVENT
BEGIN:VEVENT
DTSTART;TZID=America/New_York:20240704T000000
DTEND;TZID=America/New_York:20240704T000000
DTSTAMP:20260419T084112
CREATED:20231116T172016Z
LAST-MODIFIED:20231116T172703Z
UID:7828-1720051200-1720051200@calendarioacademico.libertadores.edu.co
SUMMARY:Publicación de recibos Fac. de Psicología y Ciencias Económicas\, Administrativas y Contables-S2Pr
DESCRIPTION:Descarga tu recibo aquí \nConoce como hacerlo en el tutorial de pagos  \n 
URL:https://calendarioacademico.libertadores.edu.co/event/publicacion-recibos-facultades-de-psicologia-y-ciencias-economicas-administrativas-y-contables-s2pr-2/
CATEGORIES:Matricula estudiantes antiguos II
END:VEVENT
BEGIN:VEVENT
DTSTART;VALUE=DATE:20240704
DTEND;VALUE=DATE:20240724
DTSTAMP:20260419T084112
CREATED:20231120T205342Z
LAST-MODIFIED:20231120T205342Z
UID:8078-1720051200-1721779199@calendarioacademico.libertadores.edu.co
SUMMARY:Práctica intersemestral - S1Pr
DESCRIPTION:
URL:https://calendarioacademico.libertadores.edu.co/event/practica-intersemestral-s1pr-2/
CATEGORIES:Prácticas I
END:VEVENT
BEGIN:VEVENT
DTSTART;VALUE=DATE:20240704
DTEND;VALUE=DATE:20240724
DTSTAMP:20260419T084112
CREATED:20231120T151922Z
LAST-MODIFIED:20231120T151922Z
UID:7956-1720051200-1721779199@calendarioacademico.libertadores.edu.co
SUMMARY:Inicio y terminación de cursos intersemestrales S1Pr
DESCRIPTION:
URL:https://calendarioacademico.libertadores.edu.co/event/inicio-y-terminacion-de-cursos-intersemestrales-s1pr-2/
CATEGORIES:Cursos Intersemestrales I
END:VEVENT
END:VCALENDAR